BEGIN:VCALENDAR
VERSION:2.0
PRODID:-//Nepenthe - ECPv6.15.17.1//NONSGML v1.0//EN
CALSCALE:GREGORIAN
METHOD:PUBLISH
X-WR-CALNAME:Nepenthe
X-ORIGINAL-URL:https://nepenthehoa.com
X-WR-CALDESC:Events for Nepenthe
REFRESH-INTERVAL;VALUE=DURATION:PT1H
X-Robots-Tag:noindex
X-PUBLISHED-TTL:PT1H
BEGIN:VTIMEZONE
TZID:UTC
BEGIN:STANDARD
TZOFFSETFROM:+0000
TZOFFSETTO:+0000
TZNAME:UTC
DTSTART:20210101T000000
END:STANDARD
END:VTIMEZONE
BEGIN:VEVENT
DTSTART;TZID=UTC:20221115T183000
DTEND;TZID=UTC:20221115T203000
DTSTAMP:20260420T083357
CREATED:20160512T222047Z
LAST-MODIFIED:20160512T222047Z
UID:10010278-1668537000-1668544200@nepenthehoa.com
SUMMARY:Meet\, Greet and Walk
DESCRIPTION:
URL:https://nepenthehoa.com/event/meet-greet-and-walk-2/2022-11-15/
LOCATION:Tennis Courts on Commons Dr.
ORGANIZER;CN="Gerry Gelfand":MAILTO:gerisg@pacbell.net
END:VEVENT
BEGIN:VEVENT
DTSTART;TZID=UTC:20221108T183000
DTEND;TZID=UTC:20221108T203000
DTSTAMP:20260420T083357
CREATED:20160512T222047Z
LAST-MODIFIED:20160512T222047Z
UID:10010277-1667932200-1667939400@nepenthehoa.com
SUMMARY:Meet\, Greet and Walk
DESCRIPTION:
URL:https://nepenthehoa.com/event/meet-greet-and-walk-2/2022-11-08/
LOCATION:Tennis Courts on Commons Dr.
ORGANIZER;CN="Gerry Gelfand":MAILTO:gerisg@pacbell.net
END:VEVENT
BEGIN:VEVENT
DTSTART;TZID=UTC:20221101T183000
DTEND;TZID=UTC:20221101T203000
DTSTAMP:20260420T083357
CREATED:20160512T222047Z
LAST-MODIFIED:20160512T222047Z
UID:10010276-1667327400-1667334600@nepenthehoa.com
SUMMARY:Meet\, Greet and Walk
DESCRIPTION:
URL:https://nepenthehoa.com/event/meet-greet-and-walk-2/2022-11-01/
LOCATION:Tennis Courts on Commons Dr.
ORGANIZER;CN="Gerry Gelfand":MAILTO:gerisg@pacbell.net
END:VEVENT
BEGIN:VEVENT
DTSTART;TZID=UTC:20221025T183000
DTEND;TZID=UTC:20221025T203000
DTSTAMP:20260420T083357
CREATED:20160512T222047Z
LAST-MODIFIED:20160512T222047Z
UID:10010275-1666722600-1666729800@nepenthehoa.com
SUMMARY:Meet\, Greet and Walk
DESCRIPTION:
URL:https://nepenthehoa.com/event/meet-greet-and-walk-2/2022-10-25/
LOCATION:Tennis Courts on Commons Dr.
ORGANIZER;CN="Gerry Gelfand":MAILTO:gerisg@pacbell.net
END:VEVENT
BEGIN:VEVENT
DTSTART;TZID=UTC:20221018T183000
DTEND;TZID=UTC:20221018T203000
DTSTAMP:20260420T083357
CREATED:20160512T222047Z
LAST-MODIFIED:20160512T222047Z
UID:10010274-1666117800-1666125000@nepenthehoa.com
SUMMARY:Meet\, Greet and Walk
DESCRIPTION:
URL:https://nepenthehoa.com/event/meet-greet-and-walk-2/2022-10-18/
LOCATION:Tennis Courts on Commons Dr.
ORGANIZER;CN="Gerry Gelfand":MAILTO:gerisg@pacbell.net
END:VEVENT
BEGIN:VEVENT
DTSTART;TZID=UTC:20221011T183000
DTEND;TZID=UTC:20221011T203000
DTSTAMP:20260420T083357
CREATED:20160512T222047Z
LAST-MODIFIED:20160512T222047Z
UID:10010273-1665513000-1665520200@nepenthehoa.com
SUMMARY:Meet\, Greet and Walk
DESCRIPTION:
URL:https://nepenthehoa.com/event/meet-greet-and-walk-2/2022-10-11/
LOCATION:Tennis Courts on Commons Dr.
ORGANIZER;CN="Gerry Gelfand":MAILTO:gerisg@pacbell.net
END:VEVENT
BEGIN:VEVENT
DTSTART;TZID=UTC:20221004T183000
DTEND;TZID=UTC:20221004T203000
DTSTAMP:20260420T083357
CREATED:20160512T222047Z
LAST-MODIFIED:20160512T222047Z
UID:10010272-1664908200-1664915400@nepenthehoa.com
SUMMARY:Meet\, Greet and Walk
DESCRIPTION:
URL:https://nepenthehoa.com/event/meet-greet-and-walk-2/2022-10-04/
LOCATION:Tennis Courts on Commons Dr.
ORGANIZER;CN="Gerry Gelfand":MAILTO:gerisg@pacbell.net
END:VEVENT
BEGIN:VEVENT
DTSTART;TZID=UTC:20220927T183000
DTEND;TZID=UTC:20220927T203000
DTSTAMP:20260420T083357
CREATED:20160512T222047Z
LAST-MODIFIED:20160512T222047Z
UID:10010271-1664303400-1664310600@nepenthehoa.com
SUMMARY:Meet\, Greet and Walk
DESCRIPTION:
URL:https://nepenthehoa.com/event/meet-greet-and-walk-2/2022-09-27/
LOCATION:Tennis Courts on Commons Dr.
ORGANIZER;CN="Gerry Gelfand":MAILTO:gerisg@pacbell.net
END:VEVENT
BEGIN:VEVENT
DTSTART;TZID=UTC:20220920T183000
DTEND;TZID=UTC:20220920T203000
DTSTAMP:20260420T083357
CREATED:20160512T222047Z
LAST-MODIFIED:20160512T222047Z
UID:10010270-1663698600-1663705800@nepenthehoa.com
SUMMARY:Meet\, Greet and Walk
DESCRIPTION:
URL:https://nepenthehoa.com/event/meet-greet-and-walk-2/2022-09-20/
LOCATION:Tennis Courts on Commons Dr.
ORGANIZER;CN="Gerry Gelfand":MAILTO:gerisg@pacbell.net
END:VEVENT
BEGIN:VEVENT
DTSTART;TZID=UTC:20220913T183000
DTEND;TZID=UTC:20220913T203000
DTSTAMP:20260420T083357
CREATED:20160512T222047Z
LAST-MODIFIED:20160512T222047Z
UID:10010269-1663093800-1663101000@nepenthehoa.com
SUMMARY:Meet\, Greet and Walk
DESCRIPTION:
URL:https://nepenthehoa.com/event/meet-greet-and-walk-2/2022-09-13/
LOCATION:Tennis Courts on Commons Dr.
ORGANIZER;CN="Gerry Gelfand":MAILTO:gerisg@pacbell.net
END:VEVENT
BEGIN:VEVENT
DTSTART;TZID=UTC:20220906T183000
DTEND;TZID=UTC:20220906T203000
DTSTAMP:20260420T083357
CREATED:20160512T222047Z
LAST-MODIFIED:20160512T222047Z
UID:10010268-1662489000-1662496200@nepenthehoa.com
SUMMARY:Meet\, Greet and Walk
DESCRIPTION:
URL:https://nepenthehoa.com/event/meet-greet-and-walk-2/2022-09-06/
LOCATION:Tennis Courts on Commons Dr.
ORGANIZER;CN="Gerry Gelfand":MAILTO:gerisg@pacbell.net
END:VEVENT
BEGIN:VEVENT
DTSTART;TZID=UTC:20220830T183000
DTEND;TZID=UTC:20220830T203000
DTSTAMP:20260420T083357
CREATED:20160512T222047Z
LAST-MODIFIED:20160512T222047Z
UID:10010267-1661884200-1661891400@nepenthehoa.com
SUMMARY:Meet\, Greet and Walk
DESCRIPTION:
URL:https://nepenthehoa.com/event/meet-greet-and-walk-2/2022-08-30/
LOCATION:Tennis Courts on Commons Dr.
ORGANIZER;CN="Gerry Gelfand":MAILTO:gerisg@pacbell.net
END:VEVENT
BEGIN:VEVENT
DTSTART;TZID=UTC:20220823T183000
DTEND;TZID=UTC:20220823T203000
DTSTAMP:20260420T083357
CREATED:20160512T222047Z
LAST-MODIFIED:20160512T222047Z
UID:10010266-1661279400-1661286600@nepenthehoa.com
SUMMARY:Meet\, Greet and Walk
DESCRIPTION:
URL:https://nepenthehoa.com/event/meet-greet-and-walk-2/2022-08-23/
LOCATION:Tennis Courts on Commons Dr.
ORGANIZER;CN="Gerry Gelfand":MAILTO:gerisg@pacbell.net
END:VEVENT
BEGIN:VEVENT
DTSTART;TZID=UTC:20220816T183000
DTEND;TZID=UTC:20220816T203000
DTSTAMP:20260420T083357
CREATED:20160512T222047Z
LAST-MODIFIED:20160512T222047Z
UID:10010265-1660674600-1660681800@nepenthehoa.com
SUMMARY:Meet\, Greet and Walk
DESCRIPTION:
URL:https://nepenthehoa.com/event/meet-greet-and-walk-2/2022-08-16/
LOCATION:Tennis Courts on Commons Dr.
ORGANIZER;CN="Gerry Gelfand":MAILTO:gerisg@pacbell.net
END:VEVENT
BEGIN:VEVENT
DTSTART;TZID=UTC:20220809T183000
DTEND;TZID=UTC:20220809T203000
DTSTAMP:20260420T083357
CREATED:20160512T222047Z
LAST-MODIFIED:20160512T222047Z
UID:10010264-1660069800-1660077000@nepenthehoa.com
SUMMARY:Meet\, Greet and Walk
DESCRIPTION:
URL:https://nepenthehoa.com/event/meet-greet-and-walk-2/2022-08-09/
LOCATION:Tennis Courts on Commons Dr.
ORGANIZER;CN="Gerry Gelfand":MAILTO:gerisg@pacbell.net
END:VEVENT
BEGIN:VEVENT
DTSTART;TZID=UTC:20220802T183000
DTEND;TZID=UTC:20220802T203000
DTSTAMP:20260420T083357
CREATED:20160512T222047Z
LAST-MODIFIED:20160512T222047Z
UID:10010263-1659465000-1659472200@nepenthehoa.com
SUMMARY:Meet\, Greet and Walk
DESCRIPTION:
URL:https://nepenthehoa.com/event/meet-greet-and-walk-2/2022-08-02/
LOCATION:Tennis Courts on Commons Dr.
ORGANIZER;CN="Gerry Gelfand":MAILTO:gerisg@pacbell.net
END:VEVENT
BEGIN:VEVENT
DTSTART;TZID=UTC:20220726T183000
DTEND;TZID=UTC:20220726T203000
DTSTAMP:20260420T083357
CREATED:20160512T222047Z
LAST-MODIFIED:20160512T222047Z
UID:10010262-1658860200-1658867400@nepenthehoa.com
SUMMARY:Meet\, Greet and Walk
DESCRIPTION:
URL:https://nepenthehoa.com/event/meet-greet-and-walk-2/2022-07-26/
LOCATION:Tennis Courts on Commons Dr.
ORGANIZER;CN="Gerry Gelfand":MAILTO:gerisg@pacbell.net
END:VEVENT
BEGIN:VEVENT
DTSTART;TZID=UTC:20220719T183000
DTEND;TZID=UTC:20220719T203000
DTSTAMP:20260420T083357
CREATED:20160512T222047Z
LAST-MODIFIED:20160512T222047Z
UID:10010261-1658255400-1658262600@nepenthehoa.com
SUMMARY:Meet\, Greet and Walk
DESCRIPTION:
URL:https://nepenthehoa.com/event/meet-greet-and-walk-2/2022-07-19/
LOCATION:Tennis Courts on Commons Dr.
ORGANIZER;CN="Gerry Gelfand":MAILTO:gerisg@pacbell.net
END:VEVENT
BEGIN:VEVENT
DTSTART;TZID=UTC:20220712T183000
DTEND;TZID=UTC:20220712T203000
DTSTAMP:20260420T083357
CREATED:20160512T222047Z
LAST-MODIFIED:20160512T222047Z
UID:10010260-1657650600-1657657800@nepenthehoa.com
SUMMARY:Meet\, Greet and Walk
DESCRIPTION:
URL:https://nepenthehoa.com/event/meet-greet-and-walk-2/2022-07-12/
LOCATION:Tennis Courts on Commons Dr.
ORGANIZER;CN="Gerry Gelfand":MAILTO:gerisg@pacbell.net
END:VEVENT
BEGIN:VEVENT
DTSTART;TZID=UTC:20220705T183000
DTEND;TZID=UTC:20220705T203000
DTSTAMP:20260420T083357
CREATED:20160512T222047Z
LAST-MODIFIED:20160512T222047Z
UID:10010259-1657045800-1657053000@nepenthehoa.com
SUMMARY:Meet\, Greet and Walk
DESCRIPTION:
URL:https://nepenthehoa.com/event/meet-greet-and-walk-2/2022-07-05/
LOCATION:Tennis Courts on Commons Dr.
ORGANIZER;CN="Gerry Gelfand":MAILTO:gerisg@pacbell.net
END:VEVENT
BEGIN:VEVENT
DTSTART;TZID=UTC:20220628T183000
DTEND;TZID=UTC:20220628T203000
DTSTAMP:20260420T083357
CREATED:20160512T222047Z
LAST-MODIFIED:20160512T222047Z
UID:10010258-1656441000-1656448200@nepenthehoa.com
SUMMARY:Meet\, Greet and Walk
DESCRIPTION:
URL:https://nepenthehoa.com/event/meet-greet-and-walk-2/2022-06-28/
LOCATION:Tennis Courts on Commons Dr.
ORGANIZER;CN="Gerry Gelfand":MAILTO:gerisg@pacbell.net
END:VEVENT
BEGIN:VEVENT
DTSTART;TZID=UTC:20220621T183000
DTEND;TZID=UTC:20220621T203000
DTSTAMP:20260420T083357
CREATED:20160512T222047Z
LAST-MODIFIED:20160512T222047Z
UID:10010257-1655836200-1655843400@nepenthehoa.com
SUMMARY:Meet\, Greet and Walk
DESCRIPTION:
URL:https://nepenthehoa.com/event/meet-greet-and-walk-2/2022-06-21/
LOCATION:Tennis Courts on Commons Dr.
ORGANIZER;CN="Gerry Gelfand":MAILTO:gerisg@pacbell.net
END:VEVENT
BEGIN:VEVENT
DTSTART;TZID=UTC:20220614T183000
DTEND;TZID=UTC:20220614T203000
DTSTAMP:20260420T083357
CREATED:20160512T222047Z
LAST-MODIFIED:20160512T222047Z
UID:10010256-1655231400-1655238600@nepenthehoa.com
SUMMARY:Meet\, Greet and Walk
DESCRIPTION:
URL:https://nepenthehoa.com/event/meet-greet-and-walk-2/2022-06-14/
LOCATION:Tennis Courts on Commons Dr.
ORGANIZER;CN="Gerry Gelfand":MAILTO:gerisg@pacbell.net
END:VEVENT
BEGIN:VEVENT
DTSTART;TZID=UTC:20220607T183000
DTEND;TZID=UTC:20220607T203000
DTSTAMP:20260420T083357
CREATED:20160512T222047Z
LAST-MODIFIED:20160512T222047Z
UID:10010255-1654626600-1654633800@nepenthehoa.com
SUMMARY:Meet\, Greet and Walk
DESCRIPTION:
URL:https://nepenthehoa.com/event/meet-greet-and-walk-2/2022-06-07/
LOCATION:Tennis Courts on Commons Dr.
ORGANIZER;CN="Gerry Gelfand":MAILTO:gerisg@pacbell.net
END:VEVENT
BEGIN:VEVENT
DTSTART;TZID=UTC:20220531T183000
DTEND;TZID=UTC:20220531T203000
DTSTAMP:20260420T083357
CREATED:20160512T222047Z
LAST-MODIFIED:20160512T222047Z
UID:10010254-1654021800-1654029000@nepenthehoa.com
SUMMARY:Meet\, Greet and Walk
DESCRIPTION:
URL:https://nepenthehoa.com/event/meet-greet-and-walk-2/2022-05-31/
LOCATION:Tennis Courts on Commons Dr.
ORGANIZER;CN="Gerry Gelfand":MAILTO:gerisg@pacbell.net
END:VEVENT
BEGIN:VEVENT
DTSTART;TZID=UTC:20220524T183000
DTEND;TZID=UTC:20220524T203000
DTSTAMP:20260420T083357
CREATED:20160512T222047Z
LAST-MODIFIED:20160512T222047Z
UID:10010253-1653417000-1653424200@nepenthehoa.com
SUMMARY:Meet\, Greet and Walk
DESCRIPTION:
URL:https://nepenthehoa.com/event/meet-greet-and-walk-2/2022-05-24/
LOCATION:Tennis Courts on Commons Dr.
ORGANIZER;CN="Gerry Gelfand":MAILTO:gerisg@pacbell.net
END:VEVENT
BEGIN:VEVENT
DTSTART;TZID=UTC:20220517T183000
DTEND;TZID=UTC:20220517T203000
DTSTAMP:20260420T083357
CREATED:20160512T222047Z
LAST-MODIFIED:20160512T222047Z
UID:10010252-1652812200-1652819400@nepenthehoa.com
SUMMARY:Meet\, Greet and Walk
DESCRIPTION:
URL:https://nepenthehoa.com/event/meet-greet-and-walk-2/2022-05-17/
LOCATION:Tennis Courts on Commons Dr.
ORGANIZER;CN="Gerry Gelfand":MAILTO:gerisg@pacbell.net
END:VEVENT
BEGIN:VEVENT
DTSTART;TZID=UTC:20220510T183000
DTEND;TZID=UTC:20220510T203000
DTSTAMP:20260420T083357
CREATED:20160512T222047Z
LAST-MODIFIED:20160512T222047Z
UID:10010251-1652207400-1652214600@nepenthehoa.com
SUMMARY:Meet\, Greet and Walk
DESCRIPTION:
URL:https://nepenthehoa.com/event/meet-greet-and-walk-2/2022-05-10/
LOCATION:Tennis Courts on Commons Dr.
ORGANIZER;CN="Gerry Gelfand":MAILTO:gerisg@pacbell.net
END:VEVENT
BEGIN:VEVENT
DTSTART;TZID=UTC:20220503T183000
DTEND;TZID=UTC:20220503T203000
DTSTAMP:20260420T083357
CREATED:20160512T222047Z
LAST-MODIFIED:20160512T222047Z
UID:10010250-1651602600-1651609800@nepenthehoa.com
SUMMARY:Meet\, Greet and Walk
DESCRIPTION:
URL:https://nepenthehoa.com/event/meet-greet-and-walk-2/2022-05-03/
LOCATION:Tennis Courts on Commons Dr.
ORGANIZER;CN="Gerry Gelfand":MAILTO:gerisg@pacbell.net
END:VEVENT
BEGIN:VEVENT
DTSTART;TZID=UTC:20220426T183000
DTEND;TZID=UTC:20220426T203000
DTSTAMP:20260420T083357
CREATED:20160512T222047Z
LAST-MODIFIED:20160512T222047Z
UID:10010249-1650997800-1651005000@nepenthehoa.com
SUMMARY:Meet\, Greet and Walk
DESCRIPTION:
URL:https://nepenthehoa.com/event/meet-greet-and-walk-2/2022-04-26/
LOCATION:Tennis Courts on Commons Dr.
ORGANIZER;CN="Gerry Gelfand":MAILTO:gerisg@pacbell.net
END:VEVENT
END:VCALENDAR