BEGIN:VCALENDAR
VERSION:2.0
PRODID:-//Nepenthe - ECPv6.15.17.1//NONSGML v1.0//EN
CALSCALE:GREGORIAN
METHOD:PUBLISH
X-ORIGINAL-URL:https://nepenthehoa.com
X-WR-CALDESC:Events for Nepenthe
REFRESH-INTERVAL;VALUE=DURATION:PT1H
X-Robots-Tag:noindex
X-PUBLISHED-TTL:PT1H
BEGIN:VTIMEZONE
TZID:UTC
BEGIN:STANDARD
TZOFFSETFROM:+0000
TZOFFSETTO:+0000
TZNAME:UTC
DTSTART:20150101T000000
END:STANDARD
END:VTIMEZONE
BEGIN:VEVENT
DTSTART;TZID=UTC:20161206T183000
DTEND;TZID=UTC:20161206T203000
DTSTAMP:20260424T062250
CREATED:20160512T222047Z
LAST-MODIFIED:20160512T222047Z
UID:10009968-1481049000-1481056200@nepenthehoa.com
SUMMARY:Meet\, Greet and Walk
DESCRIPTION:
URL:https://nepenthehoa.com/event/meet-greet-and-walk-2/2016-12-06/
LOCATION:Tennis Courts on Commons Dr.
ORGANIZER;CN="Gerry Gelfand":MAILTO:gerisg@pacbell.net
END:VEVENT
BEGIN:VEVENT
DTSTART;TZID=UTC:20161129T183000
DTEND;TZID=UTC:20161129T203000
DTSTAMP:20260424T062250
CREATED:20160512T222047Z
LAST-MODIFIED:20160512T222047Z
UID:10009967-1480444200-1480451400@nepenthehoa.com
SUMMARY:Meet\, Greet and Walk
DESCRIPTION:
URL:https://nepenthehoa.com/event/meet-greet-and-walk-2/2016-11-29/
LOCATION:Tennis Courts on Commons Dr.
ORGANIZER;CN="Gerry Gelfand":MAILTO:gerisg@pacbell.net
END:VEVENT
BEGIN:VEVENT
DTSTART;TZID=UTC:20161122T183000
DTEND;TZID=UTC:20161122T203000
DTSTAMP:20260424T062250
CREATED:20160512T222047Z
LAST-MODIFIED:20160512T222047Z
UID:10009966-1479839400-1479846600@nepenthehoa.com
SUMMARY:Meet\, Greet and Walk
DESCRIPTION:
URL:https://nepenthehoa.com/event/meet-greet-and-walk-2/2016-11-22/
LOCATION:Tennis Courts on Commons Dr.
ORGANIZER;CN="Gerry Gelfand":MAILTO:gerisg@pacbell.net
END:VEVENT
BEGIN:VEVENT
DTSTART;TZID=UTC:20161115T183000
DTEND;TZID=UTC:20161115T203000
DTSTAMP:20260424T062250
CREATED:20160512T222047Z
LAST-MODIFIED:20160512T222047Z
UID:10009965-1479234600-1479241800@nepenthehoa.com
SUMMARY:Meet\, Greet and Walk
DESCRIPTION:
URL:https://nepenthehoa.com/event/meet-greet-and-walk-2/2016-11-15/
LOCATION:Tennis Courts on Commons Dr.
ORGANIZER;CN="Gerry Gelfand":MAILTO:gerisg@pacbell.net
END:VEVENT
BEGIN:VEVENT
DTSTART;TZID=UTC:20161108T183000
DTEND;TZID=UTC:20161108T203000
DTSTAMP:20260424T062250
CREATED:20160512T222047Z
LAST-MODIFIED:20160512T222047Z
UID:10009964-1478629800-1478637000@nepenthehoa.com
SUMMARY:Meet\, Greet and Walk
DESCRIPTION:
URL:https://nepenthehoa.com/event/meet-greet-and-walk-2/2016-11-08/
LOCATION:Tennis Courts on Commons Dr.
ORGANIZER;CN="Gerry Gelfand":MAILTO:gerisg@pacbell.net
END:VEVENT
BEGIN:VEVENT
DTSTART;TZID=UTC:20161101T183000
DTEND;TZID=UTC:20161101T203000
DTSTAMP:20260424T062250
CREATED:20160512T222047Z
LAST-MODIFIED:20160512T222047Z
UID:10009963-1478025000-1478032200@nepenthehoa.com
SUMMARY:Meet\, Greet and Walk
DESCRIPTION:
URL:https://nepenthehoa.com/event/meet-greet-and-walk-2/2016-11-01/
LOCATION:Tennis Courts on Commons Dr.
ORGANIZER;CN="Gerry Gelfand":MAILTO:gerisg@pacbell.net
END:VEVENT
BEGIN:VEVENT
DTSTART;TZID=UTC:20161025T183000
DTEND;TZID=UTC:20161025T203000
DTSTAMP:20260424T062250
CREATED:20160512T222047Z
LAST-MODIFIED:20160512T222047Z
UID:10009962-1477420200-1477427400@nepenthehoa.com
SUMMARY:Meet\, Greet and Walk
DESCRIPTION:
URL:https://nepenthehoa.com/event/meet-greet-and-walk-2/2016-10-25/
LOCATION:Tennis Courts on Commons Dr.
ORGANIZER;CN="Gerry Gelfand":MAILTO:gerisg@pacbell.net
END:VEVENT
BEGIN:VEVENT
DTSTART;TZID=UTC:20161018T183000
DTEND;TZID=UTC:20161018T203000
DTSTAMP:20260424T062250
CREATED:20160512T222047Z
LAST-MODIFIED:20160512T222047Z
UID:10009961-1476815400-1476822600@nepenthehoa.com
SUMMARY:Meet\, Greet and Walk
DESCRIPTION:
URL:https://nepenthehoa.com/event/meet-greet-and-walk-2/2016-10-18/
LOCATION:Tennis Courts on Commons Dr.
ORGANIZER;CN="Gerry Gelfand":MAILTO:gerisg@pacbell.net
END:VEVENT
BEGIN:VEVENT
DTSTART;TZID=UTC:20161011T183000
DTEND;TZID=UTC:20161011T203000
DTSTAMP:20260424T062250
CREATED:20160512T222047Z
LAST-MODIFIED:20160512T222047Z
UID:10009960-1476210600-1476217800@nepenthehoa.com
SUMMARY:Meet\, Greet and Walk
DESCRIPTION:
URL:https://nepenthehoa.com/event/meet-greet-and-walk-2/2016-10-11/
LOCATION:Tennis Courts on Commons Dr.
ORGANIZER;CN="Gerry Gelfand":MAILTO:gerisg@pacbell.net
END:VEVENT
BEGIN:VEVENT
DTSTART;TZID=UTC:20161004T183000
DTEND;TZID=UTC:20161004T203000
DTSTAMP:20260424T062250
CREATED:20160512T222047Z
LAST-MODIFIED:20160512T222047Z
UID:10009959-1475605800-1475613000@nepenthehoa.com
SUMMARY:Meet\, Greet and Walk
DESCRIPTION:
URL:https://nepenthehoa.com/event/meet-greet-and-walk-2/2016-10-04/
LOCATION:Tennis Courts on Commons Dr.
ORGANIZER;CN="Gerry Gelfand":MAILTO:gerisg@pacbell.net
END:VEVENT
BEGIN:VEVENT
DTSTART;TZID=UTC:20160927T183000
DTEND;TZID=UTC:20160927T203000
DTSTAMP:20260424T062250
CREATED:20160512T222047Z
LAST-MODIFIED:20160512T222047Z
UID:10009958-1475001000-1475008200@nepenthehoa.com
SUMMARY:Meet\, Greet and Walk
DESCRIPTION:
URL:https://nepenthehoa.com/event/meet-greet-and-walk-2/2016-09-27/
LOCATION:Tennis Courts on Commons Dr.
ORGANIZER;CN="Gerry Gelfand":MAILTO:gerisg@pacbell.net
END:VEVENT
BEGIN:VEVENT
DTSTART;TZID=UTC:20160920T183000
DTEND;TZID=UTC:20160920T203000
DTSTAMP:20260424T062250
CREATED:20160512T222047Z
LAST-MODIFIED:20160512T222047Z
UID:10009957-1474396200-1474403400@nepenthehoa.com
SUMMARY:Meet\, Greet and Walk
DESCRIPTION:
URL:https://nepenthehoa.com/event/meet-greet-and-walk-2/2016-09-20/
LOCATION:Tennis Courts on Commons Dr.
ORGANIZER;CN="Gerry Gelfand":MAILTO:gerisg@pacbell.net
END:VEVENT
BEGIN:VEVENT
DTSTART;TZID=UTC:20160913T183000
DTEND;TZID=UTC:20160913T203000
DTSTAMP:20260424T062250
CREATED:20160512T222047Z
LAST-MODIFIED:20160512T222047Z
UID:10009956-1473791400-1473798600@nepenthehoa.com
SUMMARY:Meet\, Greet and Walk
DESCRIPTION:
URL:https://nepenthehoa.com/event/meet-greet-and-walk-2/2016-09-13/
LOCATION:Tennis Courts on Commons Dr.
ORGANIZER;CN="Gerry Gelfand":MAILTO:gerisg@pacbell.net
END:VEVENT
BEGIN:VEVENT
DTSTART;TZID=UTC:20160906T183000
DTEND;TZID=UTC:20160906T203000
DTSTAMP:20260424T062250
CREATED:20160512T222047Z
LAST-MODIFIED:20160512T222047Z
UID:10009955-1473186600-1473193800@nepenthehoa.com
SUMMARY:Meet\, Greet and Walk
DESCRIPTION:
URL:https://nepenthehoa.com/event/meet-greet-and-walk-2/2016-09-06/
LOCATION:Tennis Courts on Commons Dr.
ORGANIZER;CN="Gerry Gelfand":MAILTO:gerisg@pacbell.net
END:VEVENT
BEGIN:VEVENT
DTSTART;TZID=UTC:20160830T183000
DTEND;TZID=UTC:20160830T203000
DTSTAMP:20260424T062250
CREATED:20160512T222047Z
LAST-MODIFIED:20160512T222047Z
UID:10009954-1472581800-1472589000@nepenthehoa.com
SUMMARY:Meet\, Greet and Walk
DESCRIPTION:
URL:https://nepenthehoa.com/event/meet-greet-and-walk-2/2016-08-30/
LOCATION:Tennis Courts on Commons Dr.
ORGANIZER;CN="Gerry Gelfand":MAILTO:gerisg@pacbell.net
END:VEVENT
BEGIN:VEVENT
DTSTART;TZID=UTC:20160823T183000
DTEND;TZID=UTC:20160823T203000
DTSTAMP:20260424T062250
CREATED:20160512T222047Z
LAST-MODIFIED:20160512T222047Z
UID:10009953-1471977000-1471984200@nepenthehoa.com
SUMMARY:Meet\, Greet and Walk
DESCRIPTION:
URL:https://nepenthehoa.com/event/meet-greet-and-walk-2/2016-08-23/
LOCATION:Tennis Courts on Commons Dr.
ORGANIZER;CN="Gerry Gelfand":MAILTO:gerisg@pacbell.net
END:VEVENT
BEGIN:VEVENT
DTSTART;TZID=UTC:20160816T183000
DTEND;TZID=UTC:20160816T203000
DTSTAMP:20260424T062250
CREATED:20160512T222047Z
LAST-MODIFIED:20160512T222047Z
UID:10009952-1471372200-1471379400@nepenthehoa.com
SUMMARY:Meet\, Greet and Walk
DESCRIPTION:
URL:https://nepenthehoa.com/event/meet-greet-and-walk-2/2016-08-16/
LOCATION:Tennis Courts on Commons Dr.
ORGANIZER;CN="Gerry Gelfand":MAILTO:gerisg@pacbell.net
END:VEVENT
BEGIN:VEVENT
DTSTART;TZID=UTC:20160809T183000
DTEND;TZID=UTC:20160809T203000
DTSTAMP:20260424T062250
CREATED:20160512T222047Z
LAST-MODIFIED:20160512T222047Z
UID:10009951-1470767400-1470774600@nepenthehoa.com
SUMMARY:Meet\, Greet and Walk
DESCRIPTION:
URL:https://nepenthehoa.com/event/meet-greet-and-walk-2/2016-08-09/
LOCATION:Tennis Courts on Commons Dr.
ORGANIZER;CN="Gerry Gelfand":MAILTO:gerisg@pacbell.net
END:VEVENT
BEGIN:VEVENT
DTSTART;TZID=UTC:20160802T183000
DTEND;TZID=UTC:20160802T203000
DTSTAMP:20260424T062250
CREATED:20160512T222047Z
LAST-MODIFIED:20160512T222047Z
UID:10009950-1470162600-1470169800@nepenthehoa.com
SUMMARY:Meet\, Greet and Walk
DESCRIPTION:
URL:https://nepenthehoa.com/event/meet-greet-and-walk-2/2016-08-02/
LOCATION:Tennis Courts on Commons Dr.
ORGANIZER;CN="Gerry Gelfand":MAILTO:gerisg@pacbell.net
END:VEVENT
BEGIN:VEVENT
DTSTART;TZID=UTC:20160726T183000
DTEND;TZID=UTC:20160726T203000
DTSTAMP:20260424T062250
CREATED:20160512T222047Z
LAST-MODIFIED:20160512T222047Z
UID:10009949-1469557800-1469565000@nepenthehoa.com
SUMMARY:Meet\, Greet and Walk
DESCRIPTION:
URL:https://nepenthehoa.com/event/meet-greet-and-walk-2/2016-07-26/
LOCATION:Tennis Courts on Commons Dr.
ORGANIZER;CN="Gerry Gelfand":MAILTO:gerisg@pacbell.net
END:VEVENT
BEGIN:VEVENT
DTSTART;TZID=UTC:20160719T183000
DTEND;TZID=UTC:20160719T203000
DTSTAMP:20260424T062250
CREATED:20160512T222047Z
LAST-MODIFIED:20160512T222047Z
UID:10009948-1468953000-1468960200@nepenthehoa.com
SUMMARY:Meet\, Greet and Walk
DESCRIPTION:
URL:https://nepenthehoa.com/event/meet-greet-and-walk-2/2016-07-19/
LOCATION:Tennis Courts on Commons Dr.
ORGANIZER;CN="Gerry Gelfand":MAILTO:gerisg@pacbell.net
END:VEVENT
BEGIN:VEVENT
DTSTART;TZID=UTC:20160712T183000
DTEND;TZID=UTC:20160712T203000
DTSTAMP:20260424T062250
CREATED:20160512T222047Z
LAST-MODIFIED:20160512T222047Z
UID:10009947-1468348200-1468355400@nepenthehoa.com
SUMMARY:Meet\, Greet and Walk
DESCRIPTION:
URL:https://nepenthehoa.com/event/meet-greet-and-walk-2/2016-07-12/
LOCATION:Tennis Courts on Commons Dr.
ORGANIZER;CN="Gerry Gelfand":MAILTO:gerisg@pacbell.net
END:VEVENT
BEGIN:VEVENT
DTSTART;TZID=UTC:20160705T183000
DTEND;TZID=UTC:20160705T203000
DTSTAMP:20260424T062250
CREATED:20160512T222047Z
LAST-MODIFIED:20160512T222047Z
UID:10009946-1467743400-1467750600@nepenthehoa.com
SUMMARY:Meet\, Greet and Walk
DESCRIPTION:
URL:https://nepenthehoa.com/event/meet-greet-and-walk-2/2016-07-05/
LOCATION:Tennis Courts on Commons Dr.
ORGANIZER;CN="Gerry Gelfand":MAILTO:gerisg@pacbell.net
END:VEVENT
BEGIN:VEVENT
DTSTART;TZID=UTC:20160628T183000
DTEND;TZID=UTC:20160628T203000
DTSTAMP:20260424T062250
CREATED:20160512T222047Z
LAST-MODIFIED:20160512T222047Z
UID:10009945-1467138600-1467145800@nepenthehoa.com
SUMMARY:Meet\, Greet and Walk
DESCRIPTION:
URL:https://nepenthehoa.com/event/meet-greet-and-walk-2/2016-06-28/
LOCATION:Tennis Courts on Commons Dr.
ORGANIZER;CN="Gerry Gelfand":MAILTO:gerisg@pacbell.net
END:VEVENT
BEGIN:VEVENT
DTSTART;TZID=UTC:20160621T183000
DTEND;TZID=UTC:20160621T203000
DTSTAMP:20260424T062250
CREATED:20160512T222047Z
LAST-MODIFIED:20160512T222047Z
UID:10009944-1466533800-1466541000@nepenthehoa.com
SUMMARY:Meet\, Greet and Walk
DESCRIPTION:
URL:https://nepenthehoa.com/event/meet-greet-and-walk-2/2016-06-21/
LOCATION:Tennis Courts on Commons Dr.
ORGANIZER;CN="Gerry Gelfand":MAILTO:gerisg@pacbell.net
END:VEVENT
BEGIN:VEVENT
DTSTART;TZID=UTC:20160614T183000
DTEND;TZID=UTC:20160614T203000
DTSTAMP:20260424T062250
CREATED:20160512T222047Z
LAST-MODIFIED:20160512T222047Z
UID:10009943-1465929000-1465936200@nepenthehoa.com
SUMMARY:Meet\, Greet and Walk
DESCRIPTION:
URL:https://nepenthehoa.com/event/meet-greet-and-walk-2/2016-06-14/
LOCATION:Tennis Courts on Commons Dr.
ORGANIZER;CN="Gerry Gelfand":MAILTO:gerisg@pacbell.net
END:VEVENT
BEGIN:VEVENT
DTSTART;TZID=UTC:20160607T183000
DTEND;TZID=UTC:20160607T203000
DTSTAMP:20260424T062250
CREATED:20160512T222047Z
LAST-MODIFIED:20160512T222047Z
UID:10009942-1465324200-1465331400@nepenthehoa.com
SUMMARY:Meet\, Greet and Walk
DESCRIPTION:
URL:https://nepenthehoa.com/event/meet-greet-and-walk-2/2016-06-07/
LOCATION:Tennis Courts on Commons Dr.
ORGANIZER;CN="Gerry Gelfand":MAILTO:gerisg@pacbell.net
END:VEVENT
BEGIN:VEVENT
DTSTART;TZID=UTC:20160531T183000
DTEND;TZID=UTC:20160531T203000
DTSTAMP:20260424T062250
CREATED:20160512T222047Z
LAST-MODIFIED:20160512T222047Z
UID:10009941-1464719400-1464726600@nepenthehoa.com
SUMMARY:Meet\, Greet and Walk
DESCRIPTION:
URL:https://nepenthehoa.com/event/meet-greet-and-walk-2/2016-05-31/
LOCATION:Tennis Courts on Commons Dr.
ORGANIZER;CN="Gerry Gelfand":MAILTO:gerisg@pacbell.net
END:VEVENT
BEGIN:VEVENT
DTSTART;TZID=UTC:20160524T183000
DTEND;TZID=UTC:20160524T203000
DTSTAMP:20260424T062250
CREATED:20160512T222047Z
LAST-MODIFIED:20160512T222047Z
UID:10009940-1464114600-1464121800@nepenthehoa.com
SUMMARY:Meet\, Greet and Walk
DESCRIPTION:
URL:https://nepenthehoa.com/event/meet-greet-and-walk-2/2016-05-24/
LOCATION:Tennis Courts on Commons Dr.
ORGANIZER;CN="Gerry Gelfand":MAILTO:gerisg@pacbell.net
END:VEVENT
BEGIN:VEVENT
DTSTART;TZID=UTC:20160517T183000
DTEND;TZID=UTC:20160517T203000
DTSTAMP:20260424T062250
CREATED:20160512T222047Z
LAST-MODIFIED:20160512T222047Z
UID:10009939-1463509800-1463517000@nepenthehoa.com
SUMMARY:Meet\, Greet and Walk
DESCRIPTION:
URL:https://nepenthehoa.com/event/meet-greet-and-walk-2/2016-05-17/
LOCATION:Tennis Courts on Commons Dr.
ORGANIZER;CN="Gerry Gelfand":MAILTO:gerisg@pacbell.net
END:VEVENT
END:VCALENDAR