BEGIN:VCALENDAR
VERSION:2.0
PRODID:-//Nepenthe - ECPv6.15.17.1//NONSGML v1.0//EN
CALSCALE:GREGORIAN
METHOD:PUBLISH
X-ORIGINAL-URL:https://nepenthehoa.com
X-WR-CALDESC:Events for Nepenthe
REFRESH-INTERVAL;VALUE=DURATION:PT1H
X-Robots-Tag:noindex
X-PUBLISHED-TTL:PT1H
BEGIN:VTIMEZONE
TZID:UTC
BEGIN:STANDARD
TZOFFSETFROM:+0000
TZOFFSETTO:+0000
TZNAME:UTC
DTSTART:20160101T000000
END:STANDARD
END:VTIMEZONE
BEGIN:VEVENT
DTSTART;TZID=UTC:20180410T183000
DTEND;TZID=UTC:20180410T203000
DTSTAMP:20260423T201233
CREATED:20160512T222047Z
LAST-MODIFIED:20160512T222047Z
UID:10010038-1523385000-1523392200@nepenthehoa.com
SUMMARY:Meet\, Greet and Walk
DESCRIPTION:
URL:https://nepenthehoa.com/event/meet-greet-and-walk-2/2018-04-10/
LOCATION:Tennis Courts on Commons Dr.
ORGANIZER;CN="Gerry Gelfand":MAILTO:gerisg@pacbell.net
END:VEVENT
BEGIN:VEVENT
DTSTART;TZID=UTC:20180403T183000
DTEND;TZID=UTC:20180403T203000
DTSTAMP:20260423T201233
CREATED:20160512T222047Z
LAST-MODIFIED:20160512T222047Z
UID:10010037-1522780200-1522787400@nepenthehoa.com
SUMMARY:Meet\, Greet and Walk
DESCRIPTION:
URL:https://nepenthehoa.com/event/meet-greet-and-walk-2/2018-04-03/
LOCATION:Tennis Courts on Commons Dr.
ORGANIZER;CN="Gerry Gelfand":MAILTO:gerisg@pacbell.net
END:VEVENT
BEGIN:VEVENT
DTSTART;TZID=UTC:20180327T183000
DTEND;TZID=UTC:20180327T203000
DTSTAMP:20260423T201233
CREATED:20160512T222047Z
LAST-MODIFIED:20160512T222047Z
UID:10010036-1522175400-1522182600@nepenthehoa.com
SUMMARY:Meet\, Greet and Walk
DESCRIPTION:
URL:https://nepenthehoa.com/event/meet-greet-and-walk-2/2018-03-27/
LOCATION:Tennis Courts on Commons Dr.
ORGANIZER;CN="Gerry Gelfand":MAILTO:gerisg@pacbell.net
END:VEVENT
BEGIN:VEVENT
DTSTART;TZID=UTC:20180320T183000
DTEND;TZID=UTC:20180320T203000
DTSTAMP:20260423T201233
CREATED:20160512T222047Z
LAST-MODIFIED:20160512T222047Z
UID:10010035-1521570600-1521577800@nepenthehoa.com
SUMMARY:Meet\, Greet and Walk
DESCRIPTION:
URL:https://nepenthehoa.com/event/meet-greet-and-walk-2/2018-03-20/
LOCATION:Tennis Courts on Commons Dr.
ORGANIZER;CN="Gerry Gelfand":MAILTO:gerisg@pacbell.net
END:VEVENT
BEGIN:VEVENT
DTSTART;TZID=UTC:20180313T183000
DTEND;TZID=UTC:20180313T203000
DTSTAMP:20260423T201233
CREATED:20160512T222047Z
LAST-MODIFIED:20160512T222047Z
UID:10010034-1520965800-1520973000@nepenthehoa.com
SUMMARY:Meet\, Greet and Walk
DESCRIPTION:
URL:https://nepenthehoa.com/event/meet-greet-and-walk-2/2018-03-13/
LOCATION:Tennis Courts on Commons Dr.
ORGANIZER;CN="Gerry Gelfand":MAILTO:gerisg@pacbell.net
END:VEVENT
BEGIN:VEVENT
DTSTART;TZID=UTC:20180306T183000
DTEND;TZID=UTC:20180306T203000
DTSTAMP:20260423T201233
CREATED:20160512T222047Z
LAST-MODIFIED:20160512T222047Z
UID:10010033-1520361000-1520368200@nepenthehoa.com
SUMMARY:Meet\, Greet and Walk
DESCRIPTION:
URL:https://nepenthehoa.com/event/meet-greet-and-walk-2/2018-03-06/
LOCATION:Tennis Courts on Commons Dr.
ORGANIZER;CN="Gerry Gelfand":MAILTO:gerisg@pacbell.net
END:VEVENT
BEGIN:VEVENT
DTSTART;TZID=UTC:20180227T183000
DTEND;TZID=UTC:20180227T203000
DTSTAMP:20260423T201233
CREATED:20160512T222047Z
LAST-MODIFIED:20160512T222047Z
UID:10010032-1519756200-1519763400@nepenthehoa.com
SUMMARY:Meet\, Greet and Walk
DESCRIPTION:
URL:https://nepenthehoa.com/event/meet-greet-and-walk-2/2018-02-27/
LOCATION:Tennis Courts on Commons Dr.
ORGANIZER;CN="Gerry Gelfand":MAILTO:gerisg@pacbell.net
END:VEVENT
BEGIN:VEVENT
DTSTART;TZID=UTC:20180220T183000
DTEND;TZID=UTC:20180220T203000
DTSTAMP:20260423T201233
CREATED:20160512T222047Z
LAST-MODIFIED:20160512T222047Z
UID:10010031-1519151400-1519158600@nepenthehoa.com
SUMMARY:Meet\, Greet and Walk
DESCRIPTION:
URL:https://nepenthehoa.com/event/meet-greet-and-walk-2/2018-02-20/
LOCATION:Tennis Courts on Commons Dr.
ORGANIZER;CN="Gerry Gelfand":MAILTO:gerisg@pacbell.net
END:VEVENT
BEGIN:VEVENT
DTSTART;TZID=UTC:20180213T183000
DTEND;TZID=UTC:20180213T203000
DTSTAMP:20260423T201233
CREATED:20160512T222047Z
LAST-MODIFIED:20160512T222047Z
UID:10010030-1518546600-1518553800@nepenthehoa.com
SUMMARY:Meet\, Greet and Walk
DESCRIPTION:
URL:https://nepenthehoa.com/event/meet-greet-and-walk-2/2018-02-13/
LOCATION:Tennis Courts on Commons Dr.
ORGANIZER;CN="Gerry Gelfand":MAILTO:gerisg@pacbell.net
END:VEVENT
BEGIN:VEVENT
DTSTART;TZID=UTC:20180206T183000
DTEND;TZID=UTC:20180206T203000
DTSTAMP:20260423T201233
CREATED:20160512T222047Z
LAST-MODIFIED:20160512T222047Z
UID:10010029-1517941800-1517949000@nepenthehoa.com
SUMMARY:Meet\, Greet and Walk
DESCRIPTION:
URL:https://nepenthehoa.com/event/meet-greet-and-walk-2/2018-02-06/
LOCATION:Tennis Courts on Commons Dr.
ORGANIZER;CN="Gerry Gelfand":MAILTO:gerisg@pacbell.net
END:VEVENT
BEGIN:VEVENT
DTSTART;TZID=UTC:20180130T183000
DTEND;TZID=UTC:20180130T203000
DTSTAMP:20260423T201233
CREATED:20160512T222047Z
LAST-MODIFIED:20160512T222047Z
UID:10010028-1517337000-1517344200@nepenthehoa.com
SUMMARY:Meet\, Greet and Walk
DESCRIPTION:
URL:https://nepenthehoa.com/event/meet-greet-and-walk-2/2018-01-30/
LOCATION:Tennis Courts on Commons Dr.
ORGANIZER;CN="Gerry Gelfand":MAILTO:gerisg@pacbell.net
END:VEVENT
BEGIN:VEVENT
DTSTART;TZID=UTC:20180123T183000
DTEND;TZID=UTC:20180123T203000
DTSTAMP:20260423T201233
CREATED:20160512T222047Z
LAST-MODIFIED:20160512T222047Z
UID:10010027-1516732200-1516739400@nepenthehoa.com
SUMMARY:Meet\, Greet and Walk
DESCRIPTION:
URL:https://nepenthehoa.com/event/meet-greet-and-walk-2/2018-01-23/
LOCATION:Tennis Courts on Commons Dr.
ORGANIZER;CN="Gerry Gelfand":MAILTO:gerisg@pacbell.net
END:VEVENT
BEGIN:VEVENT
DTSTART;TZID=UTC:20180116T183000
DTEND;TZID=UTC:20180116T203000
DTSTAMP:20260423T201233
CREATED:20160512T222047Z
LAST-MODIFIED:20160512T222047Z
UID:10010026-1516127400-1516134600@nepenthehoa.com
SUMMARY:Meet\, Greet and Walk
DESCRIPTION:
URL:https://nepenthehoa.com/event/meet-greet-and-walk-2/2018-01-16/
LOCATION:Tennis Courts on Commons Dr.
ORGANIZER;CN="Gerry Gelfand":MAILTO:gerisg@pacbell.net
END:VEVENT
BEGIN:VEVENT
DTSTART;TZID=UTC:20180109T183000
DTEND;TZID=UTC:20180109T203000
DTSTAMP:20260423T201233
CREATED:20160512T222047Z
LAST-MODIFIED:20160512T222047Z
UID:10010025-1515522600-1515529800@nepenthehoa.com
SUMMARY:Meet\, Greet and Walk
DESCRIPTION:
URL:https://nepenthehoa.com/event/meet-greet-and-walk-2/2018-01-09/
LOCATION:Tennis Courts on Commons Dr.
ORGANIZER;CN="Gerry Gelfand":MAILTO:gerisg@pacbell.net
END:VEVENT
BEGIN:VEVENT
DTSTART;TZID=UTC:20180102T183000
DTEND;TZID=UTC:20180102T203000
DTSTAMP:20260423T201233
CREATED:20160512T222047Z
LAST-MODIFIED:20160512T222047Z
UID:10010024-1514917800-1514925000@nepenthehoa.com
SUMMARY:Meet\, Greet and Walk
DESCRIPTION:
URL:https://nepenthehoa.com/event/meet-greet-and-walk-2/2018-01-02/
LOCATION:Tennis Courts on Commons Dr.
ORGANIZER;CN="Gerry Gelfand":MAILTO:gerisg@pacbell.net
END:VEVENT
BEGIN:VEVENT
DTSTART;TZID=UTC:20171226T183000
DTEND;TZID=UTC:20171226T203000
DTSTAMP:20260423T201233
CREATED:20160512T222047Z
LAST-MODIFIED:20160512T222047Z
UID:10010023-1514313000-1514320200@nepenthehoa.com
SUMMARY:Meet\, Greet and Walk
DESCRIPTION:
URL:https://nepenthehoa.com/event/meet-greet-and-walk-2/2017-12-26/
LOCATION:Tennis Courts on Commons Dr.
ORGANIZER;CN="Gerry Gelfand":MAILTO:gerisg@pacbell.net
END:VEVENT
BEGIN:VEVENT
DTSTART;TZID=UTC:20171219T183000
DTEND;TZID=UTC:20171219T203000
DTSTAMP:20260423T201233
CREATED:20160512T222047Z
LAST-MODIFIED:20160512T222047Z
UID:10010022-1513708200-1513715400@nepenthehoa.com
SUMMARY:Meet\, Greet and Walk
DESCRIPTION:
URL:https://nepenthehoa.com/event/meet-greet-and-walk-2/2017-12-19/
LOCATION:Tennis Courts on Commons Dr.
ORGANIZER;CN="Gerry Gelfand":MAILTO:gerisg@pacbell.net
END:VEVENT
BEGIN:VEVENT
DTSTART;TZID=UTC:20171212T183000
DTEND;TZID=UTC:20171212T203000
DTSTAMP:20260423T201233
CREATED:20160512T222047Z
LAST-MODIFIED:20160512T222047Z
UID:10010021-1513103400-1513110600@nepenthehoa.com
SUMMARY:Meet\, Greet and Walk
DESCRIPTION:
URL:https://nepenthehoa.com/event/meet-greet-and-walk-2/2017-12-12/
LOCATION:Tennis Courts on Commons Dr.
ORGANIZER;CN="Gerry Gelfand":MAILTO:gerisg@pacbell.net
END:VEVENT
BEGIN:VEVENT
DTSTART;TZID=UTC:20171205T183000
DTEND;TZID=UTC:20171205T203000
DTSTAMP:20260423T201233
CREATED:20160512T222047Z
LAST-MODIFIED:20160512T222047Z
UID:10010020-1512498600-1512505800@nepenthehoa.com
SUMMARY:Meet\, Greet and Walk
DESCRIPTION:
URL:https://nepenthehoa.com/event/meet-greet-and-walk-2/2017-12-05/
LOCATION:Tennis Courts on Commons Dr.
ORGANIZER;CN="Gerry Gelfand":MAILTO:gerisg@pacbell.net
END:VEVENT
BEGIN:VEVENT
DTSTART;TZID=UTC:20171128T183000
DTEND;TZID=UTC:20171128T203000
DTSTAMP:20260423T201233
CREATED:20160512T222047Z
LAST-MODIFIED:20160512T222047Z
UID:10010019-1511893800-1511901000@nepenthehoa.com
SUMMARY:Meet\, Greet and Walk
DESCRIPTION:
URL:https://nepenthehoa.com/event/meet-greet-and-walk-2/2017-11-28/
LOCATION:Tennis Courts on Commons Dr.
ORGANIZER;CN="Gerry Gelfand":MAILTO:gerisg@pacbell.net
END:VEVENT
BEGIN:VEVENT
DTSTART;TZID=UTC:20171121T183000
DTEND;TZID=UTC:20171121T203000
DTSTAMP:20260423T201233
CREATED:20160512T222047Z
LAST-MODIFIED:20160512T222047Z
UID:10010018-1511289000-1511296200@nepenthehoa.com
SUMMARY:Meet\, Greet and Walk
DESCRIPTION:
URL:https://nepenthehoa.com/event/meet-greet-and-walk-2/2017-11-21/
LOCATION:Tennis Courts on Commons Dr.
ORGANIZER;CN="Gerry Gelfand":MAILTO:gerisg@pacbell.net
END:VEVENT
BEGIN:VEVENT
DTSTART;TZID=UTC:20171114T183000
DTEND;TZID=UTC:20171114T203000
DTSTAMP:20260423T201233
CREATED:20160512T222047Z
LAST-MODIFIED:20160512T222047Z
UID:10010017-1510684200-1510691400@nepenthehoa.com
SUMMARY:Meet\, Greet and Walk
DESCRIPTION:
URL:https://nepenthehoa.com/event/meet-greet-and-walk-2/2017-11-14/
LOCATION:Tennis Courts on Commons Dr.
ORGANIZER;CN="Gerry Gelfand":MAILTO:gerisg@pacbell.net
END:VEVENT
BEGIN:VEVENT
DTSTART;TZID=UTC:20171107T183000
DTEND;TZID=UTC:20171107T203000
DTSTAMP:20260423T201233
CREATED:20160512T222047Z
LAST-MODIFIED:20160512T222047Z
UID:10010016-1510079400-1510086600@nepenthehoa.com
SUMMARY:Meet\, Greet and Walk
DESCRIPTION:
URL:https://nepenthehoa.com/event/meet-greet-and-walk-2/2017-11-07/
LOCATION:Tennis Courts on Commons Dr.
ORGANIZER;CN="Gerry Gelfand":MAILTO:gerisg@pacbell.net
END:VEVENT
BEGIN:VEVENT
DTSTART;TZID=UTC:20171031T183000
DTEND;TZID=UTC:20171031T203000
DTSTAMP:20260423T201233
CREATED:20160512T222047Z
LAST-MODIFIED:20160512T222047Z
UID:10010015-1509474600-1509481800@nepenthehoa.com
SUMMARY:Meet\, Greet and Walk
DESCRIPTION:
URL:https://nepenthehoa.com/event/meet-greet-and-walk-2/2017-10-31/
LOCATION:Tennis Courts on Commons Dr.
ORGANIZER;CN="Gerry Gelfand":MAILTO:gerisg@pacbell.net
END:VEVENT
BEGIN:VEVENT
DTSTART;TZID=UTC:20171024T183000
DTEND;TZID=UTC:20171024T203000
DTSTAMP:20260423T201233
CREATED:20160512T222047Z
LAST-MODIFIED:20160512T222047Z
UID:10010014-1508869800-1508877000@nepenthehoa.com
SUMMARY:Meet\, Greet and Walk
DESCRIPTION:
URL:https://nepenthehoa.com/event/meet-greet-and-walk-2/2017-10-24/
LOCATION:Tennis Courts on Commons Dr.
ORGANIZER;CN="Gerry Gelfand":MAILTO:gerisg@pacbell.net
END:VEVENT
BEGIN:VEVENT
DTSTART;TZID=UTC:20171017T183000
DTEND;TZID=UTC:20171017T203000
DTSTAMP:20260423T201233
CREATED:20160512T222047Z
LAST-MODIFIED:20160512T222047Z
UID:10010013-1508265000-1508272200@nepenthehoa.com
SUMMARY:Meet\, Greet and Walk
DESCRIPTION:
URL:https://nepenthehoa.com/event/meet-greet-and-walk-2/2017-10-17/
LOCATION:Tennis Courts on Commons Dr.
ORGANIZER;CN="Gerry Gelfand":MAILTO:gerisg@pacbell.net
END:VEVENT
BEGIN:VEVENT
DTSTART;TZID=UTC:20171010T183000
DTEND;TZID=UTC:20171010T203000
DTSTAMP:20260423T201233
CREATED:20160512T222047Z
LAST-MODIFIED:20160512T222047Z
UID:10010012-1507660200-1507667400@nepenthehoa.com
SUMMARY:Meet\, Greet and Walk
DESCRIPTION:
URL:https://nepenthehoa.com/event/meet-greet-and-walk-2/2017-10-10/
LOCATION:Tennis Courts on Commons Dr.
ORGANIZER;CN="Gerry Gelfand":MAILTO:gerisg@pacbell.net
END:VEVENT
BEGIN:VEVENT
DTSTART;TZID=UTC:20171003T183000
DTEND;TZID=UTC:20171003T203000
DTSTAMP:20260423T201233
CREATED:20160512T222047Z
LAST-MODIFIED:20160512T222047Z
UID:10010011-1507055400-1507062600@nepenthehoa.com
SUMMARY:Meet\, Greet and Walk
DESCRIPTION:
URL:https://nepenthehoa.com/event/meet-greet-and-walk-2/2017-10-03/
LOCATION:Tennis Courts on Commons Dr.
ORGANIZER;CN="Gerry Gelfand":MAILTO:gerisg@pacbell.net
END:VEVENT
BEGIN:VEVENT
DTSTART;TZID=UTC:20170926T183000
DTEND;TZID=UTC:20170926T203000
DTSTAMP:20260423T201233
CREATED:20160512T222047Z
LAST-MODIFIED:20160512T222047Z
UID:10010010-1506450600-1506457800@nepenthehoa.com
SUMMARY:Meet\, Greet and Walk
DESCRIPTION:
URL:https://nepenthehoa.com/event/meet-greet-and-walk-2/2017-09-26/
LOCATION:Tennis Courts on Commons Dr.
ORGANIZER;CN="Gerry Gelfand":MAILTO:gerisg@pacbell.net
END:VEVENT
BEGIN:VEVENT
DTSTART;TZID=UTC:20170919T183000
DTEND;TZID=UTC:20170919T203000
DTSTAMP:20260423T201233
CREATED:20160512T222047Z
LAST-MODIFIED:20160512T222047Z
UID:10010009-1505845800-1505853000@nepenthehoa.com
SUMMARY:Meet\, Greet and Walk
DESCRIPTION:
URL:https://nepenthehoa.com/event/meet-greet-and-walk-2/2017-09-19/
LOCATION:Tennis Courts on Commons Dr.
ORGANIZER;CN="Gerry Gelfand":MAILTO:gerisg@pacbell.net
END:VEVENT
END:VCALENDAR