BEGIN:VCALENDAR
VERSION:2.0
PRODID:-//Nepenthe - ECPv6.15.17.1//NONSGML v1.0//EN
CALSCALE:GREGORIAN
METHOD:PUBLISH
X-WR-CALNAME:Nepenthe
X-ORIGINAL-URL:https://nepenthehoa.com
X-WR-CALDESC:Events for Nepenthe
REFRESH-INTERVAL;VALUE=DURATION:PT1H
X-Robots-Tag:noindex
X-PUBLISHED-TTL:PT1H
BEGIN:VTIMEZONE
TZID:UTC
BEGIN:STANDARD
TZOFFSETFROM:+0000
TZOFFSETTO:+0000
TZNAME:UTC
DTSTART:20180101T000000
END:STANDARD
END:VTIMEZONE
BEGIN:VEVENT
DTSTART;TZID=UTC:20191231T183000
DTEND;TZID=UTC:20191231T203000
DTSTAMP:20260423T070818
CREATED:20160512T222047Z
LAST-MODIFIED:20160512T222047Z
UID:10010128-1577817000-1577824200@nepenthehoa.com
SUMMARY:Meet\, Greet and Walk
DESCRIPTION:
URL:https://nepenthehoa.com/event/meet-greet-and-walk-2/2019-12-31/
LOCATION:Tennis Courts on Commons Dr.
ORGANIZER;CN="Gerry Gelfand":MAILTO:gerisg@pacbell.net
END:VEVENT
BEGIN:VEVENT
DTSTART;TZID=UTC:20191224T183000
DTEND;TZID=UTC:20191224T203000
DTSTAMP:20260423T070818
CREATED:20160512T222047Z
LAST-MODIFIED:20160512T222047Z
UID:10010127-1577212200-1577219400@nepenthehoa.com
SUMMARY:Meet\, Greet and Walk
DESCRIPTION:
URL:https://nepenthehoa.com/event/meet-greet-and-walk-2/2019-12-24/
LOCATION:Tennis Courts on Commons Dr.
ORGANIZER;CN="Gerry Gelfand":MAILTO:gerisg@pacbell.net
END:VEVENT
BEGIN:VEVENT
DTSTART;TZID=UTC:20191217T183000
DTEND;TZID=UTC:20191217T203000
DTSTAMP:20260423T070818
CREATED:20160512T222047Z
LAST-MODIFIED:20160512T222047Z
UID:10010126-1576607400-1576614600@nepenthehoa.com
SUMMARY:Meet\, Greet and Walk
DESCRIPTION:
URL:https://nepenthehoa.com/event/meet-greet-and-walk-2/2019-12-17/
LOCATION:Tennis Courts on Commons Dr.
ORGANIZER;CN="Gerry Gelfand":MAILTO:gerisg@pacbell.net
END:VEVENT
BEGIN:VEVENT
DTSTART;TZID=UTC:20191210T183000
DTEND;TZID=UTC:20191210T203000
DTSTAMP:20260423T070818
CREATED:20160512T222047Z
LAST-MODIFIED:20160512T222047Z
UID:10010125-1576002600-1576009800@nepenthehoa.com
SUMMARY:Meet\, Greet and Walk
DESCRIPTION:
URL:https://nepenthehoa.com/event/meet-greet-and-walk-2/2019-12-10/
LOCATION:Tennis Courts on Commons Dr.
ORGANIZER;CN="Gerry Gelfand":MAILTO:gerisg@pacbell.net
END:VEVENT
BEGIN:VEVENT
DTSTART;TZID=UTC:20191203T183000
DTEND;TZID=UTC:20191203T203000
DTSTAMP:20260423T070818
CREATED:20160512T222047Z
LAST-MODIFIED:20160512T222047Z
UID:10010124-1575397800-1575405000@nepenthehoa.com
SUMMARY:Meet\, Greet and Walk
DESCRIPTION:
URL:https://nepenthehoa.com/event/meet-greet-and-walk-2/2019-12-03/
LOCATION:Tennis Courts on Commons Dr.
ORGANIZER;CN="Gerry Gelfand":MAILTO:gerisg@pacbell.net
END:VEVENT
BEGIN:VEVENT
DTSTART;TZID=UTC:20191126T183000
DTEND;TZID=UTC:20191126T203000
DTSTAMP:20260423T070818
CREATED:20160512T222047Z
LAST-MODIFIED:20160512T222047Z
UID:10010123-1574793000-1574800200@nepenthehoa.com
SUMMARY:Meet\, Greet and Walk
DESCRIPTION:
URL:https://nepenthehoa.com/event/meet-greet-and-walk-2/2019-11-26/
LOCATION:Tennis Courts on Commons Dr.
ORGANIZER;CN="Gerry Gelfand":MAILTO:gerisg@pacbell.net
END:VEVENT
BEGIN:VEVENT
DTSTART;TZID=UTC:20191119T183000
DTEND;TZID=UTC:20191119T203000
DTSTAMP:20260423T070818
CREATED:20160512T222047Z
LAST-MODIFIED:20160512T222047Z
UID:10010122-1574188200-1574195400@nepenthehoa.com
SUMMARY:Meet\, Greet and Walk
DESCRIPTION:
URL:https://nepenthehoa.com/event/meet-greet-and-walk-2/2019-11-19/
LOCATION:Tennis Courts on Commons Dr.
ORGANIZER;CN="Gerry Gelfand":MAILTO:gerisg@pacbell.net
END:VEVENT
BEGIN:VEVENT
DTSTART;TZID=UTC:20191112T183000
DTEND;TZID=UTC:20191112T203000
DTSTAMP:20260423T070818
CREATED:20160512T222047Z
LAST-MODIFIED:20160512T222047Z
UID:10010121-1573583400-1573590600@nepenthehoa.com
SUMMARY:Meet\, Greet and Walk
DESCRIPTION:
URL:https://nepenthehoa.com/event/meet-greet-and-walk-2/2019-11-12/
LOCATION:Tennis Courts on Commons Dr.
ORGANIZER;CN="Gerry Gelfand":MAILTO:gerisg@pacbell.net
END:VEVENT
BEGIN:VEVENT
DTSTART;TZID=UTC:20191105T183000
DTEND;TZID=UTC:20191105T203000
DTSTAMP:20260423T070818
CREATED:20160512T222047Z
LAST-MODIFIED:20160512T222047Z
UID:10010120-1572978600-1572985800@nepenthehoa.com
SUMMARY:Meet\, Greet and Walk
DESCRIPTION:
URL:https://nepenthehoa.com/event/meet-greet-and-walk-2/2019-11-05/
LOCATION:Tennis Courts on Commons Dr.
ORGANIZER;CN="Gerry Gelfand":MAILTO:gerisg@pacbell.net
END:VEVENT
BEGIN:VEVENT
DTSTART;TZID=UTC:20191029T183000
DTEND;TZID=UTC:20191029T203000
DTSTAMP:20260423T070818
CREATED:20160512T222047Z
LAST-MODIFIED:20160512T222047Z
UID:10010119-1572373800-1572381000@nepenthehoa.com
SUMMARY:Meet\, Greet and Walk
DESCRIPTION:
URL:https://nepenthehoa.com/event/meet-greet-and-walk-2/2019-10-29/
LOCATION:Tennis Courts on Commons Dr.
ORGANIZER;CN="Gerry Gelfand":MAILTO:gerisg@pacbell.net
END:VEVENT
BEGIN:VEVENT
DTSTART;TZID=UTC:20191022T183000
DTEND;TZID=UTC:20191022T203000
DTSTAMP:20260423T070818
CREATED:20160512T222047Z
LAST-MODIFIED:20160512T222047Z
UID:10010118-1571769000-1571776200@nepenthehoa.com
SUMMARY:Meet\, Greet and Walk
DESCRIPTION:
URL:https://nepenthehoa.com/event/meet-greet-and-walk-2/2019-10-22/
LOCATION:Tennis Courts on Commons Dr.
ORGANIZER;CN="Gerry Gelfand":MAILTO:gerisg@pacbell.net
END:VEVENT
BEGIN:VEVENT
DTSTART;TZID=UTC:20191015T183000
DTEND;TZID=UTC:20191015T203000
DTSTAMP:20260423T070818
CREATED:20160512T222047Z
LAST-MODIFIED:20160512T222047Z
UID:10010117-1571164200-1571171400@nepenthehoa.com
SUMMARY:Meet\, Greet and Walk
DESCRIPTION:
URL:https://nepenthehoa.com/event/meet-greet-and-walk-2/2019-10-15/
LOCATION:Tennis Courts on Commons Dr.
ORGANIZER;CN="Gerry Gelfand":MAILTO:gerisg@pacbell.net
END:VEVENT
BEGIN:VEVENT
DTSTART;TZID=UTC:20191008T183000
DTEND;TZID=UTC:20191008T203000
DTSTAMP:20260423T070818
CREATED:20160512T222047Z
LAST-MODIFIED:20160512T222047Z
UID:10010116-1570559400-1570566600@nepenthehoa.com
SUMMARY:Meet\, Greet and Walk
DESCRIPTION:
URL:https://nepenthehoa.com/event/meet-greet-and-walk-2/2019-10-08/
LOCATION:Tennis Courts on Commons Dr.
ORGANIZER;CN="Gerry Gelfand":MAILTO:gerisg@pacbell.net
END:VEVENT
BEGIN:VEVENT
DTSTART;TZID=UTC:20191001T183000
DTEND;TZID=UTC:20191001T203000
DTSTAMP:20260423T070818
CREATED:20160512T222047Z
LAST-MODIFIED:20160512T222047Z
UID:10010115-1569954600-1569961800@nepenthehoa.com
SUMMARY:Meet\, Greet and Walk
DESCRIPTION:
URL:https://nepenthehoa.com/event/meet-greet-and-walk-2/2019-10-01/
LOCATION:Tennis Courts on Commons Dr.
ORGANIZER;CN="Gerry Gelfand":MAILTO:gerisg@pacbell.net
END:VEVENT
BEGIN:VEVENT
DTSTART;TZID=UTC:20190924T183000
DTEND;TZID=UTC:20190924T203000
DTSTAMP:20260423T070818
CREATED:20160512T222047Z
LAST-MODIFIED:20160512T222047Z
UID:10010114-1569349800-1569357000@nepenthehoa.com
SUMMARY:Meet\, Greet and Walk
DESCRIPTION:
URL:https://nepenthehoa.com/event/meet-greet-and-walk-2/2019-09-24/
LOCATION:Tennis Courts on Commons Dr.
ORGANIZER;CN="Gerry Gelfand":MAILTO:gerisg@pacbell.net
END:VEVENT
BEGIN:VEVENT
DTSTART;TZID=UTC:20190917T183000
DTEND;TZID=UTC:20190917T203000
DTSTAMP:20260423T070818
CREATED:20160512T222047Z
LAST-MODIFIED:20160512T222047Z
UID:10010113-1568745000-1568752200@nepenthehoa.com
SUMMARY:Meet\, Greet and Walk
DESCRIPTION:
URL:https://nepenthehoa.com/event/meet-greet-and-walk-2/2019-09-17/
LOCATION:Tennis Courts on Commons Dr.
ORGANIZER;CN="Gerry Gelfand":MAILTO:gerisg@pacbell.net
END:VEVENT
BEGIN:VEVENT
DTSTART;TZID=UTC:20190910T183000
DTEND;TZID=UTC:20190910T203000
DTSTAMP:20260423T070818
CREATED:20160512T222047Z
LAST-MODIFIED:20160512T222047Z
UID:10010112-1568140200-1568147400@nepenthehoa.com
SUMMARY:Meet\, Greet and Walk
DESCRIPTION:
URL:https://nepenthehoa.com/event/meet-greet-and-walk-2/2019-09-10/
LOCATION:Tennis Courts on Commons Dr.
ORGANIZER;CN="Gerry Gelfand":MAILTO:gerisg@pacbell.net
END:VEVENT
BEGIN:VEVENT
DTSTART;TZID=UTC:20190903T183000
DTEND;TZID=UTC:20190903T203000
DTSTAMP:20260423T070818
CREATED:20160512T222047Z
LAST-MODIFIED:20160512T222047Z
UID:10010111-1567535400-1567542600@nepenthehoa.com
SUMMARY:Meet\, Greet and Walk
DESCRIPTION:
URL:https://nepenthehoa.com/event/meet-greet-and-walk-2/2019-09-03/
LOCATION:Tennis Courts on Commons Dr.
ORGANIZER;CN="Gerry Gelfand":MAILTO:gerisg@pacbell.net
END:VEVENT
BEGIN:VEVENT
DTSTART;TZID=UTC:20190827T183000
DTEND;TZID=UTC:20190827T203000
DTSTAMP:20260423T070818
CREATED:20160512T222047Z
LAST-MODIFIED:20160512T222047Z
UID:10010110-1566930600-1566937800@nepenthehoa.com
SUMMARY:Meet\, Greet and Walk
DESCRIPTION:
URL:https://nepenthehoa.com/event/meet-greet-and-walk-2/2019-08-27/
LOCATION:Tennis Courts on Commons Dr.
ORGANIZER;CN="Gerry Gelfand":MAILTO:gerisg@pacbell.net
END:VEVENT
BEGIN:VEVENT
DTSTART;TZID=UTC:20190820T183000
DTEND;TZID=UTC:20190820T203000
DTSTAMP:20260423T070818
CREATED:20160512T222047Z
LAST-MODIFIED:20160512T222047Z
UID:10010109-1566325800-1566333000@nepenthehoa.com
SUMMARY:Meet\, Greet and Walk
DESCRIPTION:
URL:https://nepenthehoa.com/event/meet-greet-and-walk-2/2019-08-20/
LOCATION:Tennis Courts on Commons Dr.
ORGANIZER;CN="Gerry Gelfand":MAILTO:gerisg@pacbell.net
END:VEVENT
BEGIN:VEVENT
DTSTART;TZID=UTC:20190813T183000
DTEND;TZID=UTC:20190813T203000
DTSTAMP:20260423T070818
CREATED:20160512T222047Z
LAST-MODIFIED:20160512T222047Z
UID:10010108-1565721000-1565728200@nepenthehoa.com
SUMMARY:Meet\, Greet and Walk
DESCRIPTION:
URL:https://nepenthehoa.com/event/meet-greet-and-walk-2/2019-08-13/
LOCATION:Tennis Courts on Commons Dr.
ORGANIZER;CN="Gerry Gelfand":MAILTO:gerisg@pacbell.net
END:VEVENT
BEGIN:VEVENT
DTSTART;TZID=UTC:20190806T183000
DTEND;TZID=UTC:20190806T203000
DTSTAMP:20260423T070818
CREATED:20160512T222047Z
LAST-MODIFIED:20160512T222047Z
UID:10010107-1565116200-1565123400@nepenthehoa.com
SUMMARY:Meet\, Greet and Walk
DESCRIPTION:
URL:https://nepenthehoa.com/event/meet-greet-and-walk-2/2019-08-06/
LOCATION:Tennis Courts on Commons Dr.
ORGANIZER;CN="Gerry Gelfand":MAILTO:gerisg@pacbell.net
END:VEVENT
BEGIN:VEVENT
DTSTART;TZID=UTC:20190730T183000
DTEND;TZID=UTC:20190730T203000
DTSTAMP:20260423T070818
CREATED:20160512T222047Z
LAST-MODIFIED:20160512T222047Z
UID:10010106-1564511400-1564518600@nepenthehoa.com
SUMMARY:Meet\, Greet and Walk
DESCRIPTION:
URL:https://nepenthehoa.com/event/meet-greet-and-walk-2/2019-07-30/
LOCATION:Tennis Courts on Commons Dr.
ORGANIZER;CN="Gerry Gelfand":MAILTO:gerisg@pacbell.net
END:VEVENT
BEGIN:VEVENT
DTSTART;TZID=UTC:20190723T183000
DTEND;TZID=UTC:20190723T203000
DTSTAMP:20260423T070818
CREATED:20160512T222047Z
LAST-MODIFIED:20160512T222047Z
UID:10010105-1563906600-1563913800@nepenthehoa.com
SUMMARY:Meet\, Greet and Walk
DESCRIPTION:
URL:https://nepenthehoa.com/event/meet-greet-and-walk-2/2019-07-23/
LOCATION:Tennis Courts on Commons Dr.
ORGANIZER;CN="Gerry Gelfand":MAILTO:gerisg@pacbell.net
END:VEVENT
BEGIN:VEVENT
DTSTART;TZID=UTC:20190716T183000
DTEND;TZID=UTC:20190716T203000
DTSTAMP:20260423T070818
CREATED:20160512T222047Z
LAST-MODIFIED:20160512T222047Z
UID:10010104-1563301800-1563309000@nepenthehoa.com
SUMMARY:Meet\, Greet and Walk
DESCRIPTION:
URL:https://nepenthehoa.com/event/meet-greet-and-walk-2/2019-07-16/
LOCATION:Tennis Courts on Commons Dr.
ORGANIZER;CN="Gerry Gelfand":MAILTO:gerisg@pacbell.net
END:VEVENT
BEGIN:VEVENT
DTSTART;TZID=UTC:20190709T183000
DTEND;TZID=UTC:20190709T203000
DTSTAMP:20260423T070818
CREATED:20160512T222047Z
LAST-MODIFIED:20160512T222047Z
UID:10010103-1562697000-1562704200@nepenthehoa.com
SUMMARY:Meet\, Greet and Walk
DESCRIPTION:
URL:https://nepenthehoa.com/event/meet-greet-and-walk-2/2019-07-09/
LOCATION:Tennis Courts on Commons Dr.
ORGANIZER;CN="Gerry Gelfand":MAILTO:gerisg@pacbell.net
END:VEVENT
BEGIN:VEVENT
DTSTART;TZID=UTC:20190702T183000
DTEND;TZID=UTC:20190702T203000
DTSTAMP:20260423T070818
CREATED:20160512T222047Z
LAST-MODIFIED:20160512T222047Z
UID:10010102-1562092200-1562099400@nepenthehoa.com
SUMMARY:Meet\, Greet and Walk
DESCRIPTION:
URL:https://nepenthehoa.com/event/meet-greet-and-walk-2/2019-07-02/
LOCATION:Tennis Courts on Commons Dr.
ORGANIZER;CN="Gerry Gelfand":MAILTO:gerisg@pacbell.net
END:VEVENT
BEGIN:VEVENT
DTSTART;TZID=UTC:20190625T183000
DTEND;TZID=UTC:20190625T203000
DTSTAMP:20260423T070818
CREATED:20160512T222047Z
LAST-MODIFIED:20160512T222047Z
UID:10010101-1561487400-1561494600@nepenthehoa.com
SUMMARY:Meet\, Greet and Walk
DESCRIPTION:
URL:https://nepenthehoa.com/event/meet-greet-and-walk-2/2019-06-25/
LOCATION:Tennis Courts on Commons Dr.
ORGANIZER;CN="Gerry Gelfand":MAILTO:gerisg@pacbell.net
END:VEVENT
BEGIN:VEVENT
DTSTART;TZID=UTC:20190618T183000
DTEND;TZID=UTC:20190618T203000
DTSTAMP:20260423T070818
CREATED:20160512T222047Z
LAST-MODIFIED:20160512T222047Z
UID:10010100-1560882600-1560889800@nepenthehoa.com
SUMMARY:Meet\, Greet and Walk
DESCRIPTION:
URL:https://nepenthehoa.com/event/meet-greet-and-walk-2/2019-06-18/
LOCATION:Tennis Courts on Commons Dr.
ORGANIZER;CN="Gerry Gelfand":MAILTO:gerisg@pacbell.net
END:VEVENT
BEGIN:VEVENT
DTSTART;TZID=UTC:20190611T183000
DTEND;TZID=UTC:20190611T203000
DTSTAMP:20260423T070818
CREATED:20160512T222047Z
LAST-MODIFIED:20160512T222047Z
UID:10010099-1560277800-1560285000@nepenthehoa.com
SUMMARY:Meet\, Greet and Walk
DESCRIPTION:
URL:https://nepenthehoa.com/event/meet-greet-and-walk-2/2019-06-11/
LOCATION:Tennis Courts on Commons Dr.
ORGANIZER;CN="Gerry Gelfand":MAILTO:gerisg@pacbell.net
END:VEVENT
END:VCALENDAR