BEGIN:VCALENDAR
VERSION:2.0
PRODID:-//Nepenthe - ECPv6.15.17.1//NONSGML v1.0//EN
CALSCALE:GREGORIAN
METHOD:PUBLISH
X-ORIGINAL-URL:https://nepenthehoa.com
X-WR-CALDESC:Events for Nepenthe
REFRESH-INTERVAL;VALUE=DURATION:PT1H
X-Robots-Tag:noindex
X-PUBLISHED-TTL:PT1H
BEGIN:VTIMEZONE
TZID:UTC
BEGIN:STANDARD
TZOFFSETFROM:+0000
TZOFFSETTO:+0000
TZNAME:UTC
DTSTART:20190101T000000
END:STANDARD
END:VTIMEZONE
BEGIN:VEVENT
DTSTART;TZID=UTC:20201006T183000
DTEND;TZID=UTC:20201006T203000
DTSTAMP:20260423T010101
CREATED:20160512T222047Z
LAST-MODIFIED:20160512T222047Z
UID:10010168-1602009000-1602016200@nepenthehoa.com
SUMMARY:Meet\, Greet and Walk
DESCRIPTION:
URL:https://nepenthehoa.com/event/meet-greet-and-walk-2/2020-10-06/
LOCATION:Tennis Courts on Commons Dr.
ORGANIZER;CN="Gerry Gelfand":MAILTO:gerisg@pacbell.net
END:VEVENT
BEGIN:VEVENT
DTSTART;TZID=UTC:20200929T183000
DTEND;TZID=UTC:20200929T203000
DTSTAMP:20260423T010101
CREATED:20160512T222047Z
LAST-MODIFIED:20160512T222047Z
UID:10010167-1601404200-1601411400@nepenthehoa.com
SUMMARY:Meet\, Greet and Walk
DESCRIPTION:
URL:https://nepenthehoa.com/event/meet-greet-and-walk-2/2020-09-29/
LOCATION:Tennis Courts on Commons Dr.
ORGANIZER;CN="Gerry Gelfand":MAILTO:gerisg@pacbell.net
END:VEVENT
BEGIN:VEVENT
DTSTART;TZID=UTC:20200922T183000
DTEND;TZID=UTC:20200922T203000
DTSTAMP:20260423T010101
CREATED:20160512T222047Z
LAST-MODIFIED:20160512T222047Z
UID:10010166-1600799400-1600806600@nepenthehoa.com
SUMMARY:Meet\, Greet and Walk
DESCRIPTION:
URL:https://nepenthehoa.com/event/meet-greet-and-walk-2/2020-09-22/
LOCATION:Tennis Courts on Commons Dr.
ORGANIZER;CN="Gerry Gelfand":MAILTO:gerisg@pacbell.net
END:VEVENT
BEGIN:VEVENT
DTSTART;TZID=UTC:20200915T183000
DTEND;TZID=UTC:20200915T203000
DTSTAMP:20260423T010101
CREATED:20160512T222047Z
LAST-MODIFIED:20160512T222047Z
UID:10010165-1600194600-1600201800@nepenthehoa.com
SUMMARY:Meet\, Greet and Walk
DESCRIPTION:
URL:https://nepenthehoa.com/event/meet-greet-and-walk-2/2020-09-15/
LOCATION:Tennis Courts on Commons Dr.
ORGANIZER;CN="Gerry Gelfand":MAILTO:gerisg@pacbell.net
END:VEVENT
BEGIN:VEVENT
DTSTART;TZID=UTC:20200908T183000
DTEND;TZID=UTC:20200908T203000
DTSTAMP:20260423T010101
CREATED:20160512T222047Z
LAST-MODIFIED:20160512T222047Z
UID:10010164-1599589800-1599597000@nepenthehoa.com
SUMMARY:Meet\, Greet and Walk
DESCRIPTION:
URL:https://nepenthehoa.com/event/meet-greet-and-walk-2/2020-09-08/
LOCATION:Tennis Courts on Commons Dr.
ORGANIZER;CN="Gerry Gelfand":MAILTO:gerisg@pacbell.net
END:VEVENT
BEGIN:VEVENT
DTSTART;TZID=UTC:20200901T183000
DTEND;TZID=UTC:20200901T203000
DTSTAMP:20260423T010101
CREATED:20160512T222047Z
LAST-MODIFIED:20160512T222047Z
UID:10010163-1598985000-1598992200@nepenthehoa.com
SUMMARY:Meet\, Greet and Walk
DESCRIPTION:
URL:https://nepenthehoa.com/event/meet-greet-and-walk-2/2020-09-01/
LOCATION:Tennis Courts on Commons Dr.
ORGANIZER;CN="Gerry Gelfand":MAILTO:gerisg@pacbell.net
END:VEVENT
BEGIN:VEVENT
DTSTART;TZID=UTC:20200825T183000
DTEND;TZID=UTC:20200825T203000
DTSTAMP:20260423T010101
CREATED:20160512T222047Z
LAST-MODIFIED:20160512T222047Z
UID:10010162-1598380200-1598387400@nepenthehoa.com
SUMMARY:Meet\, Greet and Walk
DESCRIPTION:
URL:https://nepenthehoa.com/event/meet-greet-and-walk-2/2020-08-25/
LOCATION:Tennis Courts on Commons Dr.
ORGANIZER;CN="Gerry Gelfand":MAILTO:gerisg@pacbell.net
END:VEVENT
BEGIN:VEVENT
DTSTART;TZID=UTC:20200818T183000
DTEND;TZID=UTC:20200818T203000
DTSTAMP:20260423T010101
CREATED:20160512T222047Z
LAST-MODIFIED:20160512T222047Z
UID:10010161-1597775400-1597782600@nepenthehoa.com
SUMMARY:Meet\, Greet and Walk
DESCRIPTION:
URL:https://nepenthehoa.com/event/meet-greet-and-walk-2/2020-08-18/
LOCATION:Tennis Courts on Commons Dr.
ORGANIZER;CN="Gerry Gelfand":MAILTO:gerisg@pacbell.net
END:VEVENT
BEGIN:VEVENT
DTSTART;TZID=UTC:20200811T183000
DTEND;TZID=UTC:20200811T203000
DTSTAMP:20260423T010101
CREATED:20160512T222047Z
LAST-MODIFIED:20160512T222047Z
UID:10010160-1597170600-1597177800@nepenthehoa.com
SUMMARY:Meet\, Greet and Walk
DESCRIPTION:
URL:https://nepenthehoa.com/event/meet-greet-and-walk-2/2020-08-11/
LOCATION:Tennis Courts on Commons Dr.
ORGANIZER;CN="Gerry Gelfand":MAILTO:gerisg@pacbell.net
END:VEVENT
BEGIN:VEVENT
DTSTART;TZID=UTC:20200804T183000
DTEND;TZID=UTC:20200804T203000
DTSTAMP:20260423T010101
CREATED:20160512T222047Z
LAST-MODIFIED:20160512T222047Z
UID:10010159-1596565800-1596573000@nepenthehoa.com
SUMMARY:Meet\, Greet and Walk
DESCRIPTION:
URL:https://nepenthehoa.com/event/meet-greet-and-walk-2/2020-08-04/
LOCATION:Tennis Courts on Commons Dr.
ORGANIZER;CN="Gerry Gelfand":MAILTO:gerisg@pacbell.net
END:VEVENT
BEGIN:VEVENT
DTSTART;TZID=UTC:20200728T183000
DTEND;TZID=UTC:20200728T203000
DTSTAMP:20260423T010101
CREATED:20160512T222047Z
LAST-MODIFIED:20160512T222047Z
UID:10010158-1595961000-1595968200@nepenthehoa.com
SUMMARY:Meet\, Greet and Walk
DESCRIPTION:
URL:https://nepenthehoa.com/event/meet-greet-and-walk-2/2020-07-28/
LOCATION:Tennis Courts on Commons Dr.
ORGANIZER;CN="Gerry Gelfand":MAILTO:gerisg@pacbell.net
END:VEVENT
BEGIN:VEVENT
DTSTART;TZID=UTC:20200721T183000
DTEND;TZID=UTC:20200721T203000
DTSTAMP:20260423T010101
CREATED:20160512T222047Z
LAST-MODIFIED:20160512T222047Z
UID:10010157-1595356200-1595363400@nepenthehoa.com
SUMMARY:Meet\, Greet and Walk
DESCRIPTION:
URL:https://nepenthehoa.com/event/meet-greet-and-walk-2/2020-07-21/
LOCATION:Tennis Courts on Commons Dr.
ORGANIZER;CN="Gerry Gelfand":MAILTO:gerisg@pacbell.net
END:VEVENT
BEGIN:VEVENT
DTSTART;TZID=UTC:20200714T183000
DTEND;TZID=UTC:20200714T203000
DTSTAMP:20260423T010101
CREATED:20160512T222047Z
LAST-MODIFIED:20160512T222047Z
UID:10010156-1594751400-1594758600@nepenthehoa.com
SUMMARY:Meet\, Greet and Walk
DESCRIPTION:
URL:https://nepenthehoa.com/event/meet-greet-and-walk-2/2020-07-14/
LOCATION:Tennis Courts on Commons Dr.
ORGANIZER;CN="Gerry Gelfand":MAILTO:gerisg@pacbell.net
END:VEVENT
BEGIN:VEVENT
DTSTART;TZID=UTC:20200707T183000
DTEND;TZID=UTC:20200707T203000
DTSTAMP:20260423T010101
CREATED:20160512T222047Z
LAST-MODIFIED:20160512T222047Z
UID:10010155-1594146600-1594153800@nepenthehoa.com
SUMMARY:Meet\, Greet and Walk
DESCRIPTION:
URL:https://nepenthehoa.com/event/meet-greet-and-walk-2/2020-07-07/
LOCATION:Tennis Courts on Commons Dr.
ORGANIZER;CN="Gerry Gelfand":MAILTO:gerisg@pacbell.net
END:VEVENT
BEGIN:VEVENT
DTSTART;TZID=UTC:20200630T183000
DTEND;TZID=UTC:20200630T203000
DTSTAMP:20260423T010101
CREATED:20160512T222047Z
LAST-MODIFIED:20160512T222047Z
UID:10010154-1593541800-1593549000@nepenthehoa.com
SUMMARY:Meet\, Greet and Walk
DESCRIPTION:
URL:https://nepenthehoa.com/event/meet-greet-and-walk-2/2020-06-30/
LOCATION:Tennis Courts on Commons Dr.
ORGANIZER;CN="Gerry Gelfand":MAILTO:gerisg@pacbell.net
END:VEVENT
BEGIN:VEVENT
DTSTART;TZID=UTC:20200623T183000
DTEND;TZID=UTC:20200623T203000
DTSTAMP:20260423T010101
CREATED:20160512T222047Z
LAST-MODIFIED:20160512T222047Z
UID:10010153-1592937000-1592944200@nepenthehoa.com
SUMMARY:Meet\, Greet and Walk
DESCRIPTION:
URL:https://nepenthehoa.com/event/meet-greet-and-walk-2/2020-06-23/
LOCATION:Tennis Courts on Commons Dr.
ORGANIZER;CN="Gerry Gelfand":MAILTO:gerisg@pacbell.net
END:VEVENT
BEGIN:VEVENT
DTSTART;TZID=UTC:20200616T183000
DTEND;TZID=UTC:20200616T203000
DTSTAMP:20260423T010101
CREATED:20160512T222047Z
LAST-MODIFIED:20160512T222047Z
UID:10010152-1592332200-1592339400@nepenthehoa.com
SUMMARY:Meet\, Greet and Walk
DESCRIPTION:
URL:https://nepenthehoa.com/event/meet-greet-and-walk-2/2020-06-16/
LOCATION:Tennis Courts on Commons Dr.
ORGANIZER;CN="Gerry Gelfand":MAILTO:gerisg@pacbell.net
END:VEVENT
BEGIN:VEVENT
DTSTART;TZID=UTC:20200609T183000
DTEND;TZID=UTC:20200609T203000
DTSTAMP:20260423T010101
CREATED:20160512T222047Z
LAST-MODIFIED:20160512T222047Z
UID:10010151-1591727400-1591734600@nepenthehoa.com
SUMMARY:Meet\, Greet and Walk
DESCRIPTION:
URL:https://nepenthehoa.com/event/meet-greet-and-walk-2/2020-06-09/
LOCATION:Tennis Courts on Commons Dr.
ORGANIZER;CN="Gerry Gelfand":MAILTO:gerisg@pacbell.net
END:VEVENT
BEGIN:VEVENT
DTSTART;TZID=UTC:20200602T183000
DTEND;TZID=UTC:20200602T203000
DTSTAMP:20260423T010101
CREATED:20160512T222047Z
LAST-MODIFIED:20160512T222047Z
UID:10010150-1591122600-1591129800@nepenthehoa.com
SUMMARY:Meet\, Greet and Walk
DESCRIPTION:
URL:https://nepenthehoa.com/event/meet-greet-and-walk-2/2020-06-02/
LOCATION:Tennis Courts on Commons Dr.
ORGANIZER;CN="Gerry Gelfand":MAILTO:gerisg@pacbell.net
END:VEVENT
BEGIN:VEVENT
DTSTART;TZID=UTC:20200526T183000
DTEND;TZID=UTC:20200526T203000
DTSTAMP:20260423T010101
CREATED:20160512T222047Z
LAST-MODIFIED:20160512T222047Z
UID:10010149-1590517800-1590525000@nepenthehoa.com
SUMMARY:Meet\, Greet and Walk
DESCRIPTION:
URL:https://nepenthehoa.com/event/meet-greet-and-walk-2/2020-05-26/
LOCATION:Tennis Courts on Commons Dr.
ORGANIZER;CN="Gerry Gelfand":MAILTO:gerisg@pacbell.net
END:VEVENT
BEGIN:VEVENT
DTSTART;TZID=UTC:20200519T183000
DTEND;TZID=UTC:20200519T203000
DTSTAMP:20260423T010101
CREATED:20160512T222047Z
LAST-MODIFIED:20160512T222047Z
UID:10010148-1589913000-1589920200@nepenthehoa.com
SUMMARY:Meet\, Greet and Walk
DESCRIPTION:
URL:https://nepenthehoa.com/event/meet-greet-and-walk-2/2020-05-19/
LOCATION:Tennis Courts on Commons Dr.
ORGANIZER;CN="Gerry Gelfand":MAILTO:gerisg@pacbell.net
END:VEVENT
BEGIN:VEVENT
DTSTART;TZID=UTC:20200512T183000
DTEND;TZID=UTC:20200512T203000
DTSTAMP:20260423T010101
CREATED:20160512T222047Z
LAST-MODIFIED:20160512T222047Z
UID:10010147-1589308200-1589315400@nepenthehoa.com
SUMMARY:Meet\, Greet and Walk
DESCRIPTION:
URL:https://nepenthehoa.com/event/meet-greet-and-walk-2/2020-05-12/
LOCATION:Tennis Courts on Commons Dr.
ORGANIZER;CN="Gerry Gelfand":MAILTO:gerisg@pacbell.net
END:VEVENT
BEGIN:VEVENT
DTSTART;TZID=UTC:20200505T183000
DTEND;TZID=UTC:20200505T203000
DTSTAMP:20260423T010101
CREATED:20160512T222047Z
LAST-MODIFIED:20160512T222047Z
UID:10010146-1588703400-1588710600@nepenthehoa.com
SUMMARY:Meet\, Greet and Walk
DESCRIPTION:
URL:https://nepenthehoa.com/event/meet-greet-and-walk-2/2020-05-05/
LOCATION:Tennis Courts on Commons Dr.
ORGANIZER;CN="Gerry Gelfand":MAILTO:gerisg@pacbell.net
END:VEVENT
BEGIN:VEVENT
DTSTART;TZID=UTC:20200428T183000
DTEND;TZID=UTC:20200428T203000
DTSTAMP:20260423T010101
CREATED:20160512T222047Z
LAST-MODIFIED:20160512T222047Z
UID:10010145-1588098600-1588105800@nepenthehoa.com
SUMMARY:Meet\, Greet and Walk
DESCRIPTION:
URL:https://nepenthehoa.com/event/meet-greet-and-walk-2/2020-04-28/
LOCATION:Tennis Courts on Commons Dr.
ORGANIZER;CN="Gerry Gelfand":MAILTO:gerisg@pacbell.net
END:VEVENT
BEGIN:VEVENT
DTSTART;TZID=UTC:20200421T183000
DTEND;TZID=UTC:20200421T203000
DTSTAMP:20260423T010101
CREATED:20160512T222047Z
LAST-MODIFIED:20160512T222047Z
UID:10010144-1587493800-1587501000@nepenthehoa.com
SUMMARY:Meet\, Greet and Walk
DESCRIPTION:
URL:https://nepenthehoa.com/event/meet-greet-and-walk-2/2020-04-21/
LOCATION:Tennis Courts on Commons Dr.
ORGANIZER;CN="Gerry Gelfand":MAILTO:gerisg@pacbell.net
END:VEVENT
BEGIN:VEVENT
DTSTART;TZID=UTC:20200414T183000
DTEND;TZID=UTC:20200414T203000
DTSTAMP:20260423T010101
CREATED:20160512T222047Z
LAST-MODIFIED:20160512T222047Z
UID:10010143-1586889000-1586896200@nepenthehoa.com
SUMMARY:Meet\, Greet and Walk
DESCRIPTION:
URL:https://nepenthehoa.com/event/meet-greet-and-walk-2/2020-04-14/
LOCATION:Tennis Courts on Commons Dr.
ORGANIZER;CN="Gerry Gelfand":MAILTO:gerisg@pacbell.net
END:VEVENT
BEGIN:VEVENT
DTSTART;TZID=UTC:20200407T183000
DTEND;TZID=UTC:20200407T203000
DTSTAMP:20260423T010101
CREATED:20160512T222047Z
LAST-MODIFIED:20160512T222047Z
UID:10010142-1586284200-1586291400@nepenthehoa.com
SUMMARY:Meet\, Greet and Walk
DESCRIPTION:
URL:https://nepenthehoa.com/event/meet-greet-and-walk-2/2020-04-07/
LOCATION:Tennis Courts on Commons Dr.
ORGANIZER;CN="Gerry Gelfand":MAILTO:gerisg@pacbell.net
END:VEVENT
BEGIN:VEVENT
DTSTART;TZID=UTC:20200331T183000
DTEND;TZID=UTC:20200331T203000
DTSTAMP:20260423T010101
CREATED:20160512T222047Z
LAST-MODIFIED:20160512T222047Z
UID:10010141-1585679400-1585686600@nepenthehoa.com
SUMMARY:Meet\, Greet and Walk
DESCRIPTION:
URL:https://nepenthehoa.com/event/meet-greet-and-walk-2/2020-03-31/
LOCATION:Tennis Courts on Commons Dr.
ORGANIZER;CN="Gerry Gelfand":MAILTO:gerisg@pacbell.net
END:VEVENT
BEGIN:VEVENT
DTSTART;TZID=UTC:20200324T183000
DTEND;TZID=UTC:20200324T203000
DTSTAMP:20260423T010101
CREATED:20160512T222047Z
LAST-MODIFIED:20160512T222047Z
UID:10010140-1585074600-1585081800@nepenthehoa.com
SUMMARY:Meet\, Greet and Walk
DESCRIPTION:
URL:https://nepenthehoa.com/event/meet-greet-and-walk-2/2020-03-24/
LOCATION:Tennis Courts on Commons Dr.
ORGANIZER;CN="Gerry Gelfand":MAILTO:gerisg@pacbell.net
END:VEVENT
BEGIN:VEVENT
DTSTART;TZID=UTC:20200317T183000
DTEND;TZID=UTC:20200317T203000
DTSTAMP:20260423T010101
CREATED:20160512T222047Z
LAST-MODIFIED:20160512T222047Z
UID:10010139-1584469800-1584477000@nepenthehoa.com
SUMMARY:Meet\, Greet and Walk
DESCRIPTION:
URL:https://nepenthehoa.com/event/meet-greet-and-walk-2/2020-03-17/
LOCATION:Tennis Courts on Commons Dr.
ORGANIZER;CN="Gerry Gelfand":MAILTO:gerisg@pacbell.net
END:VEVENT
END:VCALENDAR