BEGIN:VCALENDAR
VERSION:2.0
PRODID:-//Nepenthe - ECPv6.15.17.1//NONSGML v1.0//EN
CALSCALE:GREGORIAN
METHOD:PUBLISH
X-WR-CALNAME:Nepenthe
X-ORIGINAL-URL:https://nepenthehoa.com
X-WR-CALDESC:Events for Nepenthe
REFRESH-INTERVAL;VALUE=DURATION:PT1H
X-Robots-Tag:noindex
X-PUBLISHED-TTL:PT1H
BEGIN:VTIMEZONE
TZID:UTC
BEGIN:STANDARD
TZOFFSETFROM:+0000
TZOFFSETTO:+0000
TZNAME:UTC
DTSTART:20190101T000000
END:STANDARD
END:VTIMEZONE
BEGIN:VEVENT
DTSTART;TZID=UTC:20210504T183000
DTEND;TZID=UTC:20210504T203000
DTSTAMP:20260422T202614
CREATED:20160512T222047Z
LAST-MODIFIED:20160512T222047Z
UID:10010198-1620153000-1620160200@nepenthehoa.com
SUMMARY:Meet\, Greet and Walk
DESCRIPTION:
URL:https://nepenthehoa.com/event/meet-greet-and-walk-2/2021-05-04/
LOCATION:Tennis Courts on Commons Dr.
ORGANIZER;CN="Gerry Gelfand":MAILTO:gerisg@pacbell.net
END:VEVENT
BEGIN:VEVENT
DTSTART;TZID=UTC:20210427T183000
DTEND;TZID=UTC:20210427T203000
DTSTAMP:20260422T202614
CREATED:20160512T222047Z
LAST-MODIFIED:20160512T222047Z
UID:10010197-1619548200-1619555400@nepenthehoa.com
SUMMARY:Meet\, Greet and Walk
DESCRIPTION:
URL:https://nepenthehoa.com/event/meet-greet-and-walk-2/2021-04-27/
LOCATION:Tennis Courts on Commons Dr.
ORGANIZER;CN="Gerry Gelfand":MAILTO:gerisg@pacbell.net
END:VEVENT
BEGIN:VEVENT
DTSTART;TZID=UTC:20210420T183000
DTEND;TZID=UTC:20210420T203000
DTSTAMP:20260422T202614
CREATED:20160512T222047Z
LAST-MODIFIED:20160512T222047Z
UID:10010196-1618943400-1618950600@nepenthehoa.com
SUMMARY:Meet\, Greet and Walk
DESCRIPTION:
URL:https://nepenthehoa.com/event/meet-greet-and-walk-2/2021-04-20/
LOCATION:Tennis Courts on Commons Dr.
ORGANIZER;CN="Gerry Gelfand":MAILTO:gerisg@pacbell.net
END:VEVENT
BEGIN:VEVENT
DTSTART;TZID=UTC:20210413T183000
DTEND;TZID=UTC:20210413T203000
DTSTAMP:20260422T202614
CREATED:20160512T222047Z
LAST-MODIFIED:20160512T222047Z
UID:10010195-1618338600-1618345800@nepenthehoa.com
SUMMARY:Meet\, Greet and Walk
DESCRIPTION:
URL:https://nepenthehoa.com/event/meet-greet-and-walk-2/2021-04-13/
LOCATION:Tennis Courts on Commons Dr.
ORGANIZER;CN="Gerry Gelfand":MAILTO:gerisg@pacbell.net
END:VEVENT
BEGIN:VEVENT
DTSTART;TZID=UTC:20210406T183000
DTEND;TZID=UTC:20210406T203000
DTSTAMP:20260422T202614
CREATED:20160512T222047Z
LAST-MODIFIED:20160512T222047Z
UID:10010194-1617733800-1617741000@nepenthehoa.com
SUMMARY:Meet\, Greet and Walk
DESCRIPTION:
URL:https://nepenthehoa.com/event/meet-greet-and-walk-2/2021-04-06/
LOCATION:Tennis Courts on Commons Dr.
ORGANIZER;CN="Gerry Gelfand":MAILTO:gerisg@pacbell.net
END:VEVENT
BEGIN:VEVENT
DTSTART;TZID=UTC:20210330T183000
DTEND;TZID=UTC:20210330T203000
DTSTAMP:20260422T202614
CREATED:20160512T222047Z
LAST-MODIFIED:20160512T222047Z
UID:10010193-1617129000-1617136200@nepenthehoa.com
SUMMARY:Meet\, Greet and Walk
DESCRIPTION:
URL:https://nepenthehoa.com/event/meet-greet-and-walk-2/2021-03-30/
LOCATION:Tennis Courts on Commons Dr.
ORGANIZER;CN="Gerry Gelfand":MAILTO:gerisg@pacbell.net
END:VEVENT
BEGIN:VEVENT
DTSTART;TZID=UTC:20210323T183000
DTEND;TZID=UTC:20210323T203000
DTSTAMP:20260422T202614
CREATED:20160512T222047Z
LAST-MODIFIED:20160512T222047Z
UID:10010192-1616524200-1616531400@nepenthehoa.com
SUMMARY:Meet\, Greet and Walk
DESCRIPTION:
URL:https://nepenthehoa.com/event/meet-greet-and-walk-2/2021-03-23/
LOCATION:Tennis Courts on Commons Dr.
ORGANIZER;CN="Gerry Gelfand":MAILTO:gerisg@pacbell.net
END:VEVENT
BEGIN:VEVENT
DTSTART;TZID=UTC:20210316T183000
DTEND;TZID=UTC:20210316T203000
DTSTAMP:20260422T202614
CREATED:20160512T222047Z
LAST-MODIFIED:20160512T222047Z
UID:10010191-1615919400-1615926600@nepenthehoa.com
SUMMARY:Meet\, Greet and Walk
DESCRIPTION:
URL:https://nepenthehoa.com/event/meet-greet-and-walk-2/2021-03-16/
LOCATION:Tennis Courts on Commons Dr.
ORGANIZER;CN="Gerry Gelfand":MAILTO:gerisg@pacbell.net
END:VEVENT
BEGIN:VEVENT
DTSTART;TZID=UTC:20210309T183000
DTEND;TZID=UTC:20210309T203000
DTSTAMP:20260422T202614
CREATED:20160512T222047Z
LAST-MODIFIED:20160512T222047Z
UID:10010190-1615314600-1615321800@nepenthehoa.com
SUMMARY:Meet\, Greet and Walk
DESCRIPTION:
URL:https://nepenthehoa.com/event/meet-greet-and-walk-2/2021-03-09/
LOCATION:Tennis Courts on Commons Dr.
ORGANIZER;CN="Gerry Gelfand":MAILTO:gerisg@pacbell.net
END:VEVENT
BEGIN:VEVENT
DTSTART;TZID=UTC:20210302T183000
DTEND;TZID=UTC:20210302T203000
DTSTAMP:20260422T202614
CREATED:20160512T222047Z
LAST-MODIFIED:20160512T222047Z
UID:10010189-1614709800-1614717000@nepenthehoa.com
SUMMARY:Meet\, Greet and Walk
DESCRIPTION:
URL:https://nepenthehoa.com/event/meet-greet-and-walk-2/2021-03-02/
LOCATION:Tennis Courts on Commons Dr.
ORGANIZER;CN="Gerry Gelfand":MAILTO:gerisg@pacbell.net
END:VEVENT
BEGIN:VEVENT
DTSTART;TZID=UTC:20210223T183000
DTEND;TZID=UTC:20210223T203000
DTSTAMP:20260422T202614
CREATED:20160512T222047Z
LAST-MODIFIED:20160512T222047Z
UID:10010188-1614105000-1614112200@nepenthehoa.com
SUMMARY:Meet\, Greet and Walk
DESCRIPTION:
URL:https://nepenthehoa.com/event/meet-greet-and-walk-2/2021-02-23/
LOCATION:Tennis Courts on Commons Dr.
ORGANIZER;CN="Gerry Gelfand":MAILTO:gerisg@pacbell.net
END:VEVENT
BEGIN:VEVENT
DTSTART;TZID=UTC:20210216T183000
DTEND;TZID=UTC:20210216T203000
DTSTAMP:20260422T202614
CREATED:20160512T222047Z
LAST-MODIFIED:20160512T222047Z
UID:10010187-1613500200-1613507400@nepenthehoa.com
SUMMARY:Meet\, Greet and Walk
DESCRIPTION:
URL:https://nepenthehoa.com/event/meet-greet-and-walk-2/2021-02-16/
LOCATION:Tennis Courts on Commons Dr.
ORGANIZER;CN="Gerry Gelfand":MAILTO:gerisg@pacbell.net
END:VEVENT
BEGIN:VEVENT
DTSTART;TZID=UTC:20210209T183000
DTEND;TZID=UTC:20210209T203000
DTSTAMP:20260422T202614
CREATED:20160512T222047Z
LAST-MODIFIED:20160512T222047Z
UID:10010186-1612895400-1612902600@nepenthehoa.com
SUMMARY:Meet\, Greet and Walk
DESCRIPTION:
URL:https://nepenthehoa.com/event/meet-greet-and-walk-2/2021-02-09/
LOCATION:Tennis Courts on Commons Dr.
ORGANIZER;CN="Gerry Gelfand":MAILTO:gerisg@pacbell.net
END:VEVENT
BEGIN:VEVENT
DTSTART;TZID=UTC:20210202T183000
DTEND;TZID=UTC:20210202T203000
DTSTAMP:20260422T202614
CREATED:20160512T222047Z
LAST-MODIFIED:20160512T222047Z
UID:10010185-1612290600-1612297800@nepenthehoa.com
SUMMARY:Meet\, Greet and Walk
DESCRIPTION:
URL:https://nepenthehoa.com/event/meet-greet-and-walk-2/2021-02-02/
LOCATION:Tennis Courts on Commons Dr.
ORGANIZER;CN="Gerry Gelfand":MAILTO:gerisg@pacbell.net
END:VEVENT
BEGIN:VEVENT
DTSTART;TZID=UTC:20210126T183000
DTEND;TZID=UTC:20210126T203000
DTSTAMP:20260422T202614
CREATED:20160512T222047Z
LAST-MODIFIED:20160512T222047Z
UID:10010184-1611685800-1611693000@nepenthehoa.com
SUMMARY:Meet\, Greet and Walk
DESCRIPTION:
URL:https://nepenthehoa.com/event/meet-greet-and-walk-2/2021-01-26/
LOCATION:Tennis Courts on Commons Dr.
ORGANIZER;CN="Gerry Gelfand":MAILTO:gerisg@pacbell.net
END:VEVENT
BEGIN:VEVENT
DTSTART;TZID=UTC:20210119T183000
DTEND;TZID=UTC:20210119T203000
DTSTAMP:20260422T202614
CREATED:20160512T222047Z
LAST-MODIFIED:20160512T222047Z
UID:10010183-1611081000-1611088200@nepenthehoa.com
SUMMARY:Meet\, Greet and Walk
DESCRIPTION:
URL:https://nepenthehoa.com/event/meet-greet-and-walk-2/2021-01-19/
LOCATION:Tennis Courts on Commons Dr.
ORGANIZER;CN="Gerry Gelfand":MAILTO:gerisg@pacbell.net
END:VEVENT
BEGIN:VEVENT
DTSTART;TZID=UTC:20210112T183000
DTEND;TZID=UTC:20210112T203000
DTSTAMP:20260422T202614
CREATED:20160512T222047Z
LAST-MODIFIED:20160512T222047Z
UID:10010182-1610476200-1610483400@nepenthehoa.com
SUMMARY:Meet\, Greet and Walk
DESCRIPTION:
URL:https://nepenthehoa.com/event/meet-greet-and-walk-2/2021-01-12/
LOCATION:Tennis Courts on Commons Dr.
ORGANIZER;CN="Gerry Gelfand":MAILTO:gerisg@pacbell.net
END:VEVENT
BEGIN:VEVENT
DTSTART;TZID=UTC:20210105T183000
DTEND;TZID=UTC:20210105T203000
DTSTAMP:20260422T202614
CREATED:20160512T222047Z
LAST-MODIFIED:20160512T222047Z
UID:10010181-1609871400-1609878600@nepenthehoa.com
SUMMARY:Meet\, Greet and Walk
DESCRIPTION:
URL:https://nepenthehoa.com/event/meet-greet-and-walk-2/2021-01-05/
LOCATION:Tennis Courts on Commons Dr.
ORGANIZER;CN="Gerry Gelfand":MAILTO:gerisg@pacbell.net
END:VEVENT
BEGIN:VEVENT
DTSTART;TZID=UTC:20201229T183000
DTEND;TZID=UTC:20201229T203000
DTSTAMP:20260422T202614
CREATED:20160512T222047Z
LAST-MODIFIED:20160512T222047Z
UID:10010180-1609266600-1609273800@nepenthehoa.com
SUMMARY:Meet\, Greet and Walk
DESCRIPTION:
URL:https://nepenthehoa.com/event/meet-greet-and-walk-2/2020-12-29/
LOCATION:Tennis Courts on Commons Dr.
ORGANIZER;CN="Gerry Gelfand":MAILTO:gerisg@pacbell.net
END:VEVENT
BEGIN:VEVENT
DTSTART;TZID=UTC:20201222T183000
DTEND;TZID=UTC:20201222T203000
DTSTAMP:20260422T202614
CREATED:20160512T222047Z
LAST-MODIFIED:20160512T222047Z
UID:10010179-1608661800-1608669000@nepenthehoa.com
SUMMARY:Meet\, Greet and Walk
DESCRIPTION:
URL:https://nepenthehoa.com/event/meet-greet-and-walk-2/2020-12-22/
LOCATION:Tennis Courts on Commons Dr.
ORGANIZER;CN="Gerry Gelfand":MAILTO:gerisg@pacbell.net
END:VEVENT
BEGIN:VEVENT
DTSTART;TZID=UTC:20201215T183000
DTEND;TZID=UTC:20201215T203000
DTSTAMP:20260422T202614
CREATED:20160512T222047Z
LAST-MODIFIED:20160512T222047Z
UID:10010178-1608057000-1608064200@nepenthehoa.com
SUMMARY:Meet\, Greet and Walk
DESCRIPTION:
URL:https://nepenthehoa.com/event/meet-greet-and-walk-2/2020-12-15/
LOCATION:Tennis Courts on Commons Dr.
ORGANIZER;CN="Gerry Gelfand":MAILTO:gerisg@pacbell.net
END:VEVENT
BEGIN:VEVENT
DTSTART;TZID=UTC:20201208T183000
DTEND;TZID=UTC:20201208T203000
DTSTAMP:20260422T202614
CREATED:20160512T222047Z
LAST-MODIFIED:20160512T222047Z
UID:10010177-1607452200-1607459400@nepenthehoa.com
SUMMARY:Meet\, Greet and Walk
DESCRIPTION:
URL:https://nepenthehoa.com/event/meet-greet-and-walk-2/2020-12-08/
LOCATION:Tennis Courts on Commons Dr.
ORGANIZER;CN="Gerry Gelfand":MAILTO:gerisg@pacbell.net
END:VEVENT
BEGIN:VEVENT
DTSTART;TZID=UTC:20201201T183000
DTEND;TZID=UTC:20201201T203000
DTSTAMP:20260422T202614
CREATED:20160512T222047Z
LAST-MODIFIED:20160512T222047Z
UID:10010176-1606847400-1606854600@nepenthehoa.com
SUMMARY:Meet\, Greet and Walk
DESCRIPTION:
URL:https://nepenthehoa.com/event/meet-greet-and-walk-2/2020-12-01/
LOCATION:Tennis Courts on Commons Dr.
ORGANIZER;CN="Gerry Gelfand":MAILTO:gerisg@pacbell.net
END:VEVENT
BEGIN:VEVENT
DTSTART;TZID=UTC:20201124T183000
DTEND;TZID=UTC:20201124T203000
DTSTAMP:20260422T202614
CREATED:20160512T222047Z
LAST-MODIFIED:20160512T222047Z
UID:10010175-1606242600-1606249800@nepenthehoa.com
SUMMARY:Meet\, Greet and Walk
DESCRIPTION:
URL:https://nepenthehoa.com/event/meet-greet-and-walk-2/2020-11-24/
LOCATION:Tennis Courts on Commons Dr.
ORGANIZER;CN="Gerry Gelfand":MAILTO:gerisg@pacbell.net
END:VEVENT
BEGIN:VEVENT
DTSTART;TZID=UTC:20201117T183000
DTEND;TZID=UTC:20201117T203000
DTSTAMP:20260422T202614
CREATED:20160512T222047Z
LAST-MODIFIED:20160512T222047Z
UID:10010174-1605637800-1605645000@nepenthehoa.com
SUMMARY:Meet\, Greet and Walk
DESCRIPTION:
URL:https://nepenthehoa.com/event/meet-greet-and-walk-2/2020-11-17/
LOCATION:Tennis Courts on Commons Dr.
ORGANIZER;CN="Gerry Gelfand":MAILTO:gerisg@pacbell.net
END:VEVENT
BEGIN:VEVENT
DTSTART;TZID=UTC:20201110T183000
DTEND;TZID=UTC:20201110T203000
DTSTAMP:20260422T202614
CREATED:20160512T222047Z
LAST-MODIFIED:20160512T222047Z
UID:10010173-1605033000-1605040200@nepenthehoa.com
SUMMARY:Meet\, Greet and Walk
DESCRIPTION:
URL:https://nepenthehoa.com/event/meet-greet-and-walk-2/2020-11-10/
LOCATION:Tennis Courts on Commons Dr.
ORGANIZER;CN="Gerry Gelfand":MAILTO:gerisg@pacbell.net
END:VEVENT
BEGIN:VEVENT
DTSTART;TZID=UTC:20201103T183000
DTEND;TZID=UTC:20201103T203000
DTSTAMP:20260422T202614
CREATED:20160512T222047Z
LAST-MODIFIED:20160512T222047Z
UID:10010172-1604428200-1604435400@nepenthehoa.com
SUMMARY:Meet\, Greet and Walk
DESCRIPTION:
URL:https://nepenthehoa.com/event/meet-greet-and-walk-2/2020-11-03/
LOCATION:Tennis Courts on Commons Dr.
ORGANIZER;CN="Gerry Gelfand":MAILTO:gerisg@pacbell.net
END:VEVENT
BEGIN:VEVENT
DTSTART;TZID=UTC:20201027T183000
DTEND;TZID=UTC:20201027T203000
DTSTAMP:20260422T202614
CREATED:20160512T222047Z
LAST-MODIFIED:20160512T222047Z
UID:10010171-1603823400-1603830600@nepenthehoa.com
SUMMARY:Meet\, Greet and Walk
DESCRIPTION:
URL:https://nepenthehoa.com/event/meet-greet-and-walk-2/2020-10-27/
LOCATION:Tennis Courts on Commons Dr.
ORGANIZER;CN="Gerry Gelfand":MAILTO:gerisg@pacbell.net
END:VEVENT
BEGIN:VEVENT
DTSTART;TZID=UTC:20201020T183000
DTEND;TZID=UTC:20201020T203000
DTSTAMP:20260422T202614
CREATED:20160512T222047Z
LAST-MODIFIED:20160512T222047Z
UID:10010170-1603218600-1603225800@nepenthehoa.com
SUMMARY:Meet\, Greet and Walk
DESCRIPTION:
URL:https://nepenthehoa.com/event/meet-greet-and-walk-2/2020-10-20/
LOCATION:Tennis Courts on Commons Dr.
ORGANIZER;CN="Gerry Gelfand":MAILTO:gerisg@pacbell.net
END:VEVENT
BEGIN:VEVENT
DTSTART;TZID=UTC:20201013T183000
DTEND;TZID=UTC:20201013T203000
DTSTAMP:20260422T202614
CREATED:20160512T222047Z
LAST-MODIFIED:20160512T222047Z
UID:10010169-1602613800-1602621000@nepenthehoa.com
SUMMARY:Meet\, Greet and Walk
DESCRIPTION:
URL:https://nepenthehoa.com/event/meet-greet-and-walk-2/2020-10-13/
LOCATION:Tennis Courts on Commons Dr.
ORGANIZER;CN="Gerry Gelfand":MAILTO:gerisg@pacbell.net
END:VEVENT
END:VCALENDAR