BEGIN:VCALENDAR
VERSION:2.0
PRODID:-//Nepenthe - ECPv6.15.17.1//NONSGML v1.0//EN
CALSCALE:GREGORIAN
METHOD:PUBLISH
X-WR-CALNAME:Nepenthe
X-ORIGINAL-URL:https://nepenthehoa.com
X-WR-CALDESC:Events for Nepenthe
REFRESH-INTERVAL;VALUE=DURATION:PT1H
X-Robots-Tag:noindex
X-PUBLISHED-TTL:PT1H
BEGIN:VTIMEZONE
TZID:UTC
BEGIN:STANDARD
TZOFFSETFROM:+0000
TZOFFSETTO:+0000
TZNAME:UTC
DTSTART:20200101T000000
END:STANDARD
END:VTIMEZONE
BEGIN:VEVENT
DTSTART;TZID=UTC:20220419T183000
DTEND;TZID=UTC:20220419T203000
DTSTAMP:20260422T132304
CREATED:20160512T222047Z
LAST-MODIFIED:20160512T222047Z
UID:10010248-1650393000-1650400200@nepenthehoa.com
SUMMARY:Meet\, Greet and Walk
DESCRIPTION:
URL:https://nepenthehoa.com/event/meet-greet-and-walk-2/2022-04-19/
LOCATION:Tennis Courts on Commons Dr.
ORGANIZER;CN="Gerry Gelfand":MAILTO:gerisg@pacbell.net
END:VEVENT
BEGIN:VEVENT
DTSTART;TZID=UTC:20220412T183000
DTEND;TZID=UTC:20220412T203000
DTSTAMP:20260422T132304
CREATED:20160512T222047Z
LAST-MODIFIED:20160512T222047Z
UID:10010247-1649788200-1649795400@nepenthehoa.com
SUMMARY:Meet\, Greet and Walk
DESCRIPTION:
URL:https://nepenthehoa.com/event/meet-greet-and-walk-2/2022-04-12/
LOCATION:Tennis Courts on Commons Dr.
ORGANIZER;CN="Gerry Gelfand":MAILTO:gerisg@pacbell.net
END:VEVENT
BEGIN:VEVENT
DTSTART;TZID=UTC:20220405T183000
DTEND;TZID=UTC:20220405T203000
DTSTAMP:20260422T132304
CREATED:20160512T222047Z
LAST-MODIFIED:20160512T222047Z
UID:10010246-1649183400-1649190600@nepenthehoa.com
SUMMARY:Meet\, Greet and Walk
DESCRIPTION:
URL:https://nepenthehoa.com/event/meet-greet-and-walk-2/2022-04-05/
LOCATION:Tennis Courts on Commons Dr.
ORGANIZER;CN="Gerry Gelfand":MAILTO:gerisg@pacbell.net
END:VEVENT
BEGIN:VEVENT
DTSTART;TZID=UTC:20220329T183000
DTEND;TZID=UTC:20220329T203000
DTSTAMP:20260422T132304
CREATED:20160512T222047Z
LAST-MODIFIED:20160512T222047Z
UID:10010245-1648578600-1648585800@nepenthehoa.com
SUMMARY:Meet\, Greet and Walk
DESCRIPTION:
URL:https://nepenthehoa.com/event/meet-greet-and-walk-2/2022-03-29/
LOCATION:Tennis Courts on Commons Dr.
ORGANIZER;CN="Gerry Gelfand":MAILTO:gerisg@pacbell.net
END:VEVENT
BEGIN:VEVENT
DTSTART;TZID=UTC:20220322T183000
DTEND;TZID=UTC:20220322T203000
DTSTAMP:20260422T132304
CREATED:20160512T222047Z
LAST-MODIFIED:20160512T222047Z
UID:10010244-1647973800-1647981000@nepenthehoa.com
SUMMARY:Meet\, Greet and Walk
DESCRIPTION:
URL:https://nepenthehoa.com/event/meet-greet-and-walk-2/2022-03-22/
LOCATION:Tennis Courts on Commons Dr.
ORGANIZER;CN="Gerry Gelfand":MAILTO:gerisg@pacbell.net
END:VEVENT
BEGIN:VEVENT
DTSTART;TZID=UTC:20220315T183000
DTEND;TZID=UTC:20220315T203000
DTSTAMP:20260422T132304
CREATED:20160512T222047Z
LAST-MODIFIED:20160512T222047Z
UID:10010243-1647369000-1647376200@nepenthehoa.com
SUMMARY:Meet\, Greet and Walk
DESCRIPTION:
URL:https://nepenthehoa.com/event/meet-greet-and-walk-2/2022-03-15/
LOCATION:Tennis Courts on Commons Dr.
ORGANIZER;CN="Gerry Gelfand":MAILTO:gerisg@pacbell.net
END:VEVENT
BEGIN:VEVENT
DTSTART;TZID=UTC:20220308T183000
DTEND;TZID=UTC:20220308T203000
DTSTAMP:20260422T132304
CREATED:20160512T222047Z
LAST-MODIFIED:20160512T222047Z
UID:10010242-1646764200-1646771400@nepenthehoa.com
SUMMARY:Meet\, Greet and Walk
DESCRIPTION:
URL:https://nepenthehoa.com/event/meet-greet-and-walk-2/2022-03-08/
LOCATION:Tennis Courts on Commons Dr.
ORGANIZER;CN="Gerry Gelfand":MAILTO:gerisg@pacbell.net
END:VEVENT
BEGIN:VEVENT
DTSTART;TZID=UTC:20220301T183000
DTEND;TZID=UTC:20220301T203000
DTSTAMP:20260422T132304
CREATED:20160512T222047Z
LAST-MODIFIED:20160512T222047Z
UID:10010241-1646159400-1646166600@nepenthehoa.com
SUMMARY:Meet\, Greet and Walk
DESCRIPTION:
URL:https://nepenthehoa.com/event/meet-greet-and-walk-2/2022-03-01/
LOCATION:Tennis Courts on Commons Dr.
ORGANIZER;CN="Gerry Gelfand":MAILTO:gerisg@pacbell.net
END:VEVENT
BEGIN:VEVENT
DTSTART;TZID=UTC:20220222T183000
DTEND;TZID=UTC:20220222T203000
DTSTAMP:20260422T132304
CREATED:20160512T222047Z
LAST-MODIFIED:20160512T222047Z
UID:10010240-1645554600-1645561800@nepenthehoa.com
SUMMARY:Meet\, Greet and Walk
DESCRIPTION:
URL:https://nepenthehoa.com/event/meet-greet-and-walk-2/2022-02-22/
LOCATION:Tennis Courts on Commons Dr.
ORGANIZER;CN="Gerry Gelfand":MAILTO:gerisg@pacbell.net
END:VEVENT
BEGIN:VEVENT
DTSTART;TZID=UTC:20220215T183000
DTEND;TZID=UTC:20220215T203000
DTSTAMP:20260422T132304
CREATED:20160512T222047Z
LAST-MODIFIED:20160512T222047Z
UID:10010239-1644949800-1644957000@nepenthehoa.com
SUMMARY:Meet\, Greet and Walk
DESCRIPTION:
URL:https://nepenthehoa.com/event/meet-greet-and-walk-2/2022-02-15/
LOCATION:Tennis Courts on Commons Dr.
ORGANIZER;CN="Gerry Gelfand":MAILTO:gerisg@pacbell.net
END:VEVENT
BEGIN:VEVENT
DTSTART;TZID=UTC:20220208T183000
DTEND;TZID=UTC:20220208T203000
DTSTAMP:20260422T132304
CREATED:20160512T222047Z
LAST-MODIFIED:20160512T222047Z
UID:10010238-1644345000-1644352200@nepenthehoa.com
SUMMARY:Meet\, Greet and Walk
DESCRIPTION:
URL:https://nepenthehoa.com/event/meet-greet-and-walk-2/2022-02-08/
LOCATION:Tennis Courts on Commons Dr.
ORGANIZER;CN="Gerry Gelfand":MAILTO:gerisg@pacbell.net
END:VEVENT
BEGIN:VEVENT
DTSTART;TZID=UTC:20220201T183000
DTEND;TZID=UTC:20220201T203000
DTSTAMP:20260422T132304
CREATED:20160512T222047Z
LAST-MODIFIED:20160512T222047Z
UID:10010237-1643740200-1643747400@nepenthehoa.com
SUMMARY:Meet\, Greet and Walk
DESCRIPTION:
URL:https://nepenthehoa.com/event/meet-greet-and-walk-2/2022-02-01/
LOCATION:Tennis Courts on Commons Dr.
ORGANIZER;CN="Gerry Gelfand":MAILTO:gerisg@pacbell.net
END:VEVENT
BEGIN:VEVENT
DTSTART;TZID=UTC:20220125T183000
DTEND;TZID=UTC:20220125T203000
DTSTAMP:20260422T132304
CREATED:20160512T222047Z
LAST-MODIFIED:20160512T222047Z
UID:10010236-1643135400-1643142600@nepenthehoa.com
SUMMARY:Meet\, Greet and Walk
DESCRIPTION:
URL:https://nepenthehoa.com/event/meet-greet-and-walk-2/2022-01-25/
LOCATION:Tennis Courts on Commons Dr.
ORGANIZER;CN="Gerry Gelfand":MAILTO:gerisg@pacbell.net
END:VEVENT
BEGIN:VEVENT
DTSTART;TZID=UTC:20220118T183000
DTEND;TZID=UTC:20220118T203000
DTSTAMP:20260422T132304
CREATED:20160512T222047Z
LAST-MODIFIED:20160512T222047Z
UID:10010235-1642530600-1642537800@nepenthehoa.com
SUMMARY:Meet\, Greet and Walk
DESCRIPTION:
URL:https://nepenthehoa.com/event/meet-greet-and-walk-2/2022-01-18/
LOCATION:Tennis Courts on Commons Dr.
ORGANIZER;CN="Gerry Gelfand":MAILTO:gerisg@pacbell.net
END:VEVENT
BEGIN:VEVENT
DTSTART;TZID=UTC:20220111T183000
DTEND;TZID=UTC:20220111T203000
DTSTAMP:20260422T132304
CREATED:20160512T222047Z
LAST-MODIFIED:20160512T222047Z
UID:10010234-1641925800-1641933000@nepenthehoa.com
SUMMARY:Meet\, Greet and Walk
DESCRIPTION:
URL:https://nepenthehoa.com/event/meet-greet-and-walk-2/2022-01-11/
LOCATION:Tennis Courts on Commons Dr.
ORGANIZER;CN="Gerry Gelfand":MAILTO:gerisg@pacbell.net
END:VEVENT
BEGIN:VEVENT
DTSTART;TZID=UTC:20220104T183000
DTEND;TZID=UTC:20220104T203000
DTSTAMP:20260422T132304
CREATED:20160512T222047Z
LAST-MODIFIED:20160512T222047Z
UID:10010233-1641321000-1641328200@nepenthehoa.com
SUMMARY:Meet\, Greet and Walk
DESCRIPTION:
URL:https://nepenthehoa.com/event/meet-greet-and-walk-2/2022-01-04/
LOCATION:Tennis Courts on Commons Dr.
ORGANIZER;CN="Gerry Gelfand":MAILTO:gerisg@pacbell.net
END:VEVENT
BEGIN:VEVENT
DTSTART;TZID=UTC:20211228T183000
DTEND;TZID=UTC:20211228T203000
DTSTAMP:20260422T132304
CREATED:20160512T222047Z
LAST-MODIFIED:20160512T222047Z
UID:10010232-1640716200-1640723400@nepenthehoa.com
SUMMARY:Meet\, Greet and Walk
DESCRIPTION:
URL:https://nepenthehoa.com/event/meet-greet-and-walk-2/2021-12-28/
LOCATION:Tennis Courts on Commons Dr.
ORGANIZER;CN="Gerry Gelfand":MAILTO:gerisg@pacbell.net
END:VEVENT
BEGIN:VEVENT
DTSTART;TZID=UTC:20211221T183000
DTEND;TZID=UTC:20211221T203000
DTSTAMP:20260422T132304
CREATED:20160512T222047Z
LAST-MODIFIED:20160512T222047Z
UID:10010231-1640111400-1640118600@nepenthehoa.com
SUMMARY:Meet\, Greet and Walk
DESCRIPTION:
URL:https://nepenthehoa.com/event/meet-greet-and-walk-2/2021-12-21/
LOCATION:Tennis Courts on Commons Dr.
ORGANIZER;CN="Gerry Gelfand":MAILTO:gerisg@pacbell.net
END:VEVENT
BEGIN:VEVENT
DTSTART;TZID=UTC:20211214T183000
DTEND;TZID=UTC:20211214T203000
DTSTAMP:20260422T132304
CREATED:20160512T222047Z
LAST-MODIFIED:20160512T222047Z
UID:10010230-1639506600-1639513800@nepenthehoa.com
SUMMARY:Meet\, Greet and Walk
DESCRIPTION:
URL:https://nepenthehoa.com/event/meet-greet-and-walk-2/2021-12-14/
LOCATION:Tennis Courts on Commons Dr.
ORGANIZER;CN="Gerry Gelfand":MAILTO:gerisg@pacbell.net
END:VEVENT
BEGIN:VEVENT
DTSTART;TZID=UTC:20211207T183000
DTEND;TZID=UTC:20211207T203000
DTSTAMP:20260422T132304
CREATED:20160512T222047Z
LAST-MODIFIED:20160512T222047Z
UID:10010229-1638901800-1638909000@nepenthehoa.com
SUMMARY:Meet\, Greet and Walk
DESCRIPTION:
URL:https://nepenthehoa.com/event/meet-greet-and-walk-2/2021-12-07/
LOCATION:Tennis Courts on Commons Dr.
ORGANIZER;CN="Gerry Gelfand":MAILTO:gerisg@pacbell.net
END:VEVENT
BEGIN:VEVENT
DTSTART;TZID=UTC:20211130T183000
DTEND;TZID=UTC:20211130T203000
DTSTAMP:20260422T132304
CREATED:20160512T222047Z
LAST-MODIFIED:20160512T222047Z
UID:10010228-1638297000-1638304200@nepenthehoa.com
SUMMARY:Meet\, Greet and Walk
DESCRIPTION:
URL:https://nepenthehoa.com/event/meet-greet-and-walk-2/2021-11-30/
LOCATION:Tennis Courts on Commons Dr.
ORGANIZER;CN="Gerry Gelfand":MAILTO:gerisg@pacbell.net
END:VEVENT
BEGIN:VEVENT
DTSTART;TZID=UTC:20211123T183000
DTEND;TZID=UTC:20211123T203000
DTSTAMP:20260422T132304
CREATED:20160512T222047Z
LAST-MODIFIED:20160512T222047Z
UID:10010227-1637692200-1637699400@nepenthehoa.com
SUMMARY:Meet\, Greet and Walk
DESCRIPTION:
URL:https://nepenthehoa.com/event/meet-greet-and-walk-2/2021-11-23/
LOCATION:Tennis Courts on Commons Dr.
ORGANIZER;CN="Gerry Gelfand":MAILTO:gerisg@pacbell.net
END:VEVENT
BEGIN:VEVENT
DTSTART;TZID=UTC:20211116T183000
DTEND;TZID=UTC:20211116T203000
DTSTAMP:20260422T132304
CREATED:20160512T222047Z
LAST-MODIFIED:20160512T222047Z
UID:10010226-1637087400-1637094600@nepenthehoa.com
SUMMARY:Meet\, Greet and Walk
DESCRIPTION:
URL:https://nepenthehoa.com/event/meet-greet-and-walk-2/2021-11-16/
LOCATION:Tennis Courts on Commons Dr.
ORGANIZER;CN="Gerry Gelfand":MAILTO:gerisg@pacbell.net
END:VEVENT
BEGIN:VEVENT
DTSTART;TZID=UTC:20211109T183000
DTEND;TZID=UTC:20211109T203000
DTSTAMP:20260422T132304
CREATED:20160512T222047Z
LAST-MODIFIED:20160512T222047Z
UID:10010225-1636482600-1636489800@nepenthehoa.com
SUMMARY:Meet\, Greet and Walk
DESCRIPTION:
URL:https://nepenthehoa.com/event/meet-greet-and-walk-2/2021-11-09/
LOCATION:Tennis Courts on Commons Dr.
ORGANIZER;CN="Gerry Gelfand":MAILTO:gerisg@pacbell.net
END:VEVENT
BEGIN:VEVENT
DTSTART;TZID=UTC:20211102T183000
DTEND;TZID=UTC:20211102T203000
DTSTAMP:20260422T132304
CREATED:20160512T222047Z
LAST-MODIFIED:20160512T222047Z
UID:10010224-1635877800-1635885000@nepenthehoa.com
SUMMARY:Meet\, Greet and Walk
DESCRIPTION:
URL:https://nepenthehoa.com/event/meet-greet-and-walk-2/2021-11-02/
LOCATION:Tennis Courts on Commons Dr.
ORGANIZER;CN="Gerry Gelfand":MAILTO:gerisg@pacbell.net
END:VEVENT
BEGIN:VEVENT
DTSTART;TZID=UTC:20211026T183000
DTEND;TZID=UTC:20211026T203000
DTSTAMP:20260422T132304
CREATED:20160512T222047Z
LAST-MODIFIED:20160512T222047Z
UID:10010223-1635273000-1635280200@nepenthehoa.com
SUMMARY:Meet\, Greet and Walk
DESCRIPTION:
URL:https://nepenthehoa.com/event/meet-greet-and-walk-2/2021-10-26/
LOCATION:Tennis Courts on Commons Dr.
ORGANIZER;CN="Gerry Gelfand":MAILTO:gerisg@pacbell.net
END:VEVENT
BEGIN:VEVENT
DTSTART;TZID=UTC:20211019T183000
DTEND;TZID=UTC:20211019T203000
DTSTAMP:20260422T132304
CREATED:20160512T222047Z
LAST-MODIFIED:20160512T222047Z
UID:10010222-1634668200-1634675400@nepenthehoa.com
SUMMARY:Meet\, Greet and Walk
DESCRIPTION:
URL:https://nepenthehoa.com/event/meet-greet-and-walk-2/2021-10-19/
LOCATION:Tennis Courts on Commons Dr.
ORGANIZER;CN="Gerry Gelfand":MAILTO:gerisg@pacbell.net
END:VEVENT
BEGIN:VEVENT
DTSTART;TZID=UTC:20211012T183000
DTEND;TZID=UTC:20211012T203000
DTSTAMP:20260422T132304
CREATED:20160512T222047Z
LAST-MODIFIED:20160512T222047Z
UID:10010221-1634063400-1634070600@nepenthehoa.com
SUMMARY:Meet\, Greet and Walk
DESCRIPTION:
URL:https://nepenthehoa.com/event/meet-greet-and-walk-2/2021-10-12/
LOCATION:Tennis Courts on Commons Dr.
ORGANIZER;CN="Gerry Gelfand":MAILTO:gerisg@pacbell.net
END:VEVENT
BEGIN:VEVENT
DTSTART;TZID=UTC:20211005T183000
DTEND;TZID=UTC:20211005T203000
DTSTAMP:20260422T132304
CREATED:20160512T222047Z
LAST-MODIFIED:20160512T222047Z
UID:10010220-1633458600-1633465800@nepenthehoa.com
SUMMARY:Meet\, Greet and Walk
DESCRIPTION:
URL:https://nepenthehoa.com/event/meet-greet-and-walk-2/2021-10-05/
LOCATION:Tennis Courts on Commons Dr.
ORGANIZER;CN="Gerry Gelfand":MAILTO:gerisg@pacbell.net
END:VEVENT
BEGIN:VEVENT
DTSTART;TZID=UTC:20210928T183000
DTEND;TZID=UTC:20210928T203000
DTSTAMP:20260422T132304
CREATED:20160512T222047Z
LAST-MODIFIED:20160512T222047Z
UID:10010219-1632853800-1632861000@nepenthehoa.com
SUMMARY:Meet\, Greet and Walk
DESCRIPTION:
URL:https://nepenthehoa.com/event/meet-greet-and-walk-2/2021-09-28/
LOCATION:Tennis Courts on Commons Dr.
ORGANIZER;CN="Gerry Gelfand":MAILTO:gerisg@pacbell.net
END:VEVENT
END:VCALENDAR