BEGIN:VCALENDAR
VERSION:2.0
PRODID:-//Nepenthe - ECPv6.15.17.1//NONSGML v1.0//EN
CALSCALE:GREGORIAN
METHOD:PUBLISH
X-ORIGINAL-URL:https://nepenthehoa.com
X-WR-CALDESC:Events for Nepenthe
REFRESH-INTERVAL;VALUE=DURATION:PT1H
X-Robots-Tag:noindex
X-PUBLISHED-TTL:PT1H
BEGIN:VTIMEZONE
TZID:UTC
BEGIN:STANDARD
TZOFFSETFROM:+0000
TZOFFSETTO:+0000
TZNAME:UTC
DTSTART:20150101T000000
END:STANDARD
END:VTIMEZONE
BEGIN:VEVENT
DTSTART;TZID=UTC:20170827T180000
DTEND;TZID=UTC:20170827T203000
DTSTAMP:20260420T085426
CREATED:20170609T005223Z
LAST-MODIFIED:20170609T005223Z
UID:10010639-1503856800-1503865800@nepenthehoa.com
SUMMARY:Jazz By The Pool
DESCRIPTION:  The Camellia Symphony String Quintet Camellia String Quintet is composed of Sacramento musicians who have played together for 100’s of wedding and special events. The repertoire is a mix of classical and popular music including today’s favorites. Whether it’s Journey\, Beatles\, or Bach\, they play music to complement all moods and occasions. So\, enjoy the soothing and popular contemporary music at the Nepenthe Pool on August 27. \nTickets on sale at Nepenthe Office\, August 17
URL:https://nepenthehoa.com/event/jazz-by-the-pool-6/
LOCATION:Nepenthe Clubhouse\, 1131 Commons Drive\, Sacramento\, 95825\, United States
GEO:38.5660202;-121.4105373
X-APPLE-STRUCTURED-LOCATION;VALUE=URI;X-ADDRESS=Nepenthe Clubhouse 1131 Commons Drive Sacramento 95825 United States;X-APPLE-RADIUS=500;X-TITLE=1131 Commons Drive:geo:-121.4105373,38.5660202
END:VEVENT
BEGIN:VEVENT
DTSTART;TZID=UTC:20170730T180000
DTEND;TZID=UTC:20170730T203000
DTSTAMP:20260420T085426
CREATED:20170609T005058Z
LAST-MODIFIED:20170609T005058Z
UID:10010637-1501437600-1501446600@nepenthehoa.com
SUMMARY:Jazz By The Pool
DESCRIPTION: Dan Whitney\, 5 Rivers Band Desert Dan Whitney has been playing guitar and singing since he was 7 years old. He added the harmonica in the mid 90s to enhance his music. His real love is songwriting; he began composing when he was just 19\, and now has a repertoire of 25 original compositions. Dan is skilled in performing country and classical rock. He resides in Sacramento and will be a welcome new addition to our Nepenthe Jazz @ the Pool in July. \nTickets on sale at Nepenthe Office\, July 20
URL:https://nepenthehoa.com/event/jazz-by-the-pool-5/
LOCATION:Nepenthe Clubhouse\, 1131 Commons Drive\, Sacramento\, 95825\, United States
GEO:38.5660202;-121.4105373
X-APPLE-STRUCTURED-LOCATION;VALUE=URI;X-ADDRESS=Nepenthe Clubhouse 1131 Commons Drive Sacramento 95825 United States;X-APPLE-RADIUS=500;X-TITLE=1131 Commons Drive:geo:-121.4105373,38.5660202
END:VEVENT
BEGIN:VEVENT
DTSTART;TZID=UTC:20170625T180000
DTEND;TZID=UTC:20170625T203000
DTSTAMP:20260420T085426
CREATED:20170609T004905Z
LAST-MODIFIED:20170609T004905Z
UID:10010635-1498413600-1498422600@nepenthehoa.com
SUMMARY:Jazz By The Pool
DESCRIPTION: The Sean Nelson Quintet This is some of the members of the old Rio Americano HS band. Now these musicians are in colleges or bound for college in the Fall\, but still making beautiful music together. Drummer Sean Nelson\, Bassist Adam Bly\, Pianist Nick Augusta\, Guitarist Brady Hegland and Vocalist Hanna Oldfield. The five of them have been playing for 4 years and have many accomplishments and awards. The rhythm section includes inventive and intricate drum licks from Sean solid groove lines from Adam\, phenomenal guitar and piano work by Brady and Nick\, along with the amazing vocal technique of Hannah. You’re sure to enjoy listening to you favorite music from this amazing group of young talented jazz musicians. \nTickets on sale at Nepenthe Office\, June 15
URL:https://nepenthehoa.com/event/jazz-by-the-pool-4/
LOCATION:Nepenthe Clubhouse\, 1131 Commons Drive\, Sacramento\, 95825\, United States
GEO:38.5660202;-121.4105373
X-APPLE-STRUCTURED-LOCATION;VALUE=URI;X-ADDRESS=Nepenthe Clubhouse 1131 Commons Drive Sacramento 95825 United States;X-APPLE-RADIUS=500;X-TITLE=1131 Commons Drive:geo:-121.4105373,38.5660202
END:VEVENT
BEGIN:VEVENT
DTSTART;TZID=UTC:20170507T120000
DTEND;TZID=UTC:20170507T170000
DTSTAMP:20260420T085426
CREATED:20170223T233601Z
LAST-MODIFIED:20170223T233601Z
UID:10009318-1494158400-1494176400@nepenthehoa.com
SUMMARY:Private Rental(Cabana)
DESCRIPTION:
URL:https://nepenthehoa.com/event/private-rentalcabana-22/
LOCATION:Nepenthe Clubhouse\, 1131 Commons Drive\, Sacramento\, 95825\, United States
GEO:38.5660202;-121.4105373
X-APPLE-STRUCTURED-LOCATION;VALUE=URI;X-ADDRESS=Nepenthe Clubhouse 1131 Commons Drive Sacramento 95825 United States;X-APPLE-RADIUS=500;X-TITLE=1131 Commons Drive:geo:-121.4105373,38.5660202
END:VEVENT
BEGIN:VEVENT
DTSTART;TZID=UTC:20160828T180000
DTEND;TZID=UTC:20160828T200000
DTSTAMP:20260420T085426
CREATED:20160620T161816Z
LAST-MODIFIED:20160620T161915Z
UID:10010494-1472407200-1472414400@nepenthehoa.com
SUMMARY:Jazz By The Pool
DESCRIPTION:
URL:https://nepenthehoa.com/event/jazz-by-the-pool-3/
LOCATION:Nepenthe Clubhouse\, 1131 Commons Drive\, Sacramento\, 95825\, United States
GEO:38.5660202;-121.4105373
X-APPLE-STRUCTURED-LOCATION;VALUE=URI;X-ADDRESS=Nepenthe Clubhouse 1131 Commons Drive Sacramento 95825 United States;X-APPLE-RADIUS=500;X-TITLE=1131 Commons Drive:geo:-121.4105373,38.5660202
END:VEVENT
BEGIN:VEVENT
DTSTART;TZID=UTC:20160724T180000
DTEND;TZID=UTC:20160724T200000
DTSTAMP:20260420T085426
CREATED:20160620T161514Z
LAST-MODIFIED:20160620T161514Z
UID:10010492-1469383200-1469390400@nepenthehoa.com
SUMMARY:Jazz By The Pool
DESCRIPTION:
URL:https://nepenthehoa.com/event/jazz-by-the-pool-2/
LOCATION:Nepenthe Clubhouse\, 1131 Commons Drive\, Sacramento\, 95825\, United States
GEO:38.5660202;-121.4105373
X-APPLE-STRUCTURED-LOCATION;VALUE=URI;X-ADDRESS=Nepenthe Clubhouse 1131 Commons Drive Sacramento 95825 United States;X-APPLE-RADIUS=500;X-TITLE=1131 Commons Drive:geo:-121.4105373,38.5660202
END:VEVENT
BEGIN:VEVENT
DTSTART;TZID=UTC:20160626T060000
DTEND;TZID=UTC:20160626T200000
DTSTAMP:20260420T085426
CREATED:20160620T161203Z
LAST-MODIFIED:20160620T161408Z
UID:10010490-1466920800-1466971200@nepenthehoa.com
SUMMARY:Jazz By The Pool
DESCRIPTION:
URL:https://nepenthehoa.com/event/jazz-by-the-pool/
LOCATION:Nepenthe Clubhouse\, 1131 Commons Drive\, Sacramento\, 95825\, United States
GEO:38.5660202;-121.4105373
X-APPLE-STRUCTURED-LOCATION;VALUE=URI;X-ADDRESS=Nepenthe Clubhouse 1131 Commons Drive Sacramento 95825 United States;X-APPLE-RADIUS=500;X-TITLE=1131 Commons Drive:geo:-121.4105373,38.5660202
END:VEVENT
END:VCALENDAR