BEGIN:VCALENDAR
VERSION:2.0
PRODID:-//Nepenthe - ECPv6.15.17.1//NONSGML v1.0//EN
CALSCALE:GREGORIAN
METHOD:PUBLISH
X-ORIGINAL-URL:https://nepenthehoa.com
X-WR-CALDESC:Events for Nepenthe
REFRESH-INTERVAL;VALUE=DURATION:PT1H
X-Robots-Tag:noindex
X-PUBLISHED-TTL:PT1H
BEGIN:VTIMEZONE
TZID:UTC
BEGIN:STANDARD
TZOFFSETFROM:+0000
TZOFFSETTO:+0000
TZNAME:UTC
DTSTART:20150101T000000
END:STANDARD
END:VTIMEZONE
BEGIN:VEVENT
DTSTART;TZID=UTC:20160614T170000
DTEND;TZID=UTC:20160614T180000
DTSTAMP:20260420T085426
CREATED:20160406T002725Z
LAST-MODIFIED:20160607T223155Z
UID:10009101-1465923600-1465927200@nepenthehoa.com
SUMMARY:Insurance\, Legal and Safety Committee Meeting- Cancelled
DESCRIPTION:The next meeting will be held on July 12th.
URL:https://nepenthehoa.com/event/insurance-legal-and-safety-committee-meeting-2016-06-14/
LOCATION:Dunbarton Cabana\, 150 Dunbarton Cir.\, Sacramento\, 95825\, United States
ORGANIZER;CN="Bill Newbill":MAILTO:bill@mcclatchyins.com
GEO:38.564129;-121.41026
X-APPLE-STRUCTURED-LOCATION;VALUE=URI;X-ADDRESS=Dunbarton Cabana 150 Dunbarton Cir. Sacramento 95825 United States;X-APPLE-RADIUS=500;X-TITLE=150 Dunbarton Cir.:geo:-121.41026,38.564129
END:VEVENT
END:VCALENDAR