BEGIN:VCALENDAR
VERSION:2.0
PRODID:-//Nepenthe - ECPv6.15.17.1//NONSGML v1.0//EN
CALSCALE:GREGORIAN
METHOD:PUBLISH
X-WR-CALNAME:Nepenthe
X-ORIGINAL-URL:https://nepenthehoa.com
X-WR-CALDESC:Events for Nepenthe
REFRESH-INTERVAL;VALUE=DURATION:PT1H
X-Robots-Tag:noindex
X-PUBLISHED-TTL:PT1H
BEGIN:VTIMEZONE
TZID:UTC
BEGIN:STANDARD
TZOFFSETFROM:+0000
TZOFFSETTO:+0000
TZNAME:UTC
DTSTART:20270101T000000
END:STANDARD
END:VTIMEZONE
BEGIN:VEVENT
DTSTART;TZID=UTC:20280207T110000
DTEND;TZID=UTC:20280207T130000
DTSTAMP:20260426T021350
CREATED:20221128T183416Z
LAST-MODIFIED:20250701T165641Z
UID:10017084-1833534000-1833541200@nepenthehoa.com
SUMMARY:Mahjong Group (Clubhouse)
DESCRIPTION:  \nPlease login to view this page. \n \n\n\n \n\nSign in to Your Account\n\nfacevisibility\n\n\n\n\n\n    Lost your password?
URL:https://nepenthehoa.com/event/mahjongg-group-clubhouse/2028-02-07/
LOCATION:Nepenthe Clubhouse\, 1131 Commons Drive\, Sacramento\, 95825\, United States
GEO:38.5660202;-121.4105373
X-APPLE-STRUCTURED-LOCATION;VALUE=URI;X-ADDRESS=Nepenthe Clubhouse 1131 Commons Drive Sacramento 95825 United States;X-APPLE-RADIUS=500;X-TITLE=1131 Commons Drive:geo:-121.4105373,38.5660202
END:VEVENT
BEGIN:VEVENT
DTSTART;TZID=UTC:20280207T120000
DTEND;TZID=UTC:20280207T153000
DTSTAMP:20260426T021350
CREATED:20231103T192108Z
LAST-MODIFIED:20250723T182105Z
UID:10017302-1833537600-1833550200@nepenthehoa.com
SUMMARY:Canasta Group (Library)
DESCRIPTION:  \nPlease login to view this page. \n \n\n\n \n\nSign in to Your Account\n\nfacevisibility\n\n\n\n\n\n    Lost your password?
URL:https://nepenthehoa.com/event/canasta-library/2028-02-07/
LOCATION:Nepenthe Clubhouse\, 1131 Commons Drive\, Sacramento\, 95825\, United States
GEO:38.5660202;-121.4105373
X-APPLE-STRUCTURED-LOCATION;VALUE=URI;X-ADDRESS=Nepenthe Clubhouse 1131 Commons Drive Sacramento 95825 United States;X-APPLE-RADIUS=500;X-TITLE=1131 Commons Drive:geo:-121.4105373,38.5660202
END:VEVENT
BEGIN:VEVENT
DTSTART;TZID=UTC:20280208T123000
DTEND;TZID=UTC:20280208T153000
DTSTAMP:20260426T021350
CREATED:20231103T193146Z
LAST-MODIFIED:20260121T230942Z
UID:10018294-1833625800-1833636600@nepenthehoa.com
SUMMARY:Mahjong Group (Library)
DESCRIPTION:  \nPlease login to view this page. \n \n\n\n \n\nSign in to Your Account\n\nfacevisibility\n\n\n\n\n\n    Lost your password?
URL:https://nepenthehoa.com/event/mahjong-group/2028-02-08/
LOCATION:Nepenthe Clubhouse\, 1131 Commons Drive\, Sacramento\, 95825\, United States
GEO:38.5660202;-121.4105373
X-APPLE-STRUCTURED-LOCATION;VALUE=URI;X-ADDRESS=Nepenthe Clubhouse 1131 Commons Drive Sacramento 95825 United States;X-APPLE-RADIUS=500;X-TITLE=1131 Commons Drive:geo:-121.4105373,38.5660202
END:VEVENT
BEGIN:VEVENT
DTSTART;TZID=UTC:20280209T100000
DTEND;TZID=UTC:20280209T143000
DTSTAMP:20260426T021350
CREATED:20231108T231058Z
LAST-MODIFIED:20250723T182146Z
UID:10017519-1833703200-1833719400@nepenthehoa.com
SUMMARY:Bridge Group (Library)
DESCRIPTION:  \nPlease login to view this page. \n \n\n\n \n\nSign in to Your Account\n\nfacevisibility\n\n\n\n\n\n    Lost your password?
URL:https://nepenthehoa.com/event/bridge-library-2/2028-02-09/
LOCATION:Nepenthe Clubhouse\, 1131 Commons Drive\, Sacramento\, 95825\, United States
GEO:38.5660202;-121.4105373
X-APPLE-STRUCTURED-LOCATION;VALUE=URI;X-ADDRESS=Nepenthe Clubhouse 1131 Commons Drive Sacramento 95825 United States;X-APPLE-RADIUS=500;X-TITLE=1131 Commons Drive:geo:-121.4105373,38.5660202
END:VEVENT
BEGIN:VEVENT
DTSTART;TZID=UTC:20280209T143000
DTEND;TZID=UTC:20280209T163000
DTSTAMP:20260426T021350
CREATED:20211118T190005Z
LAST-MODIFIED:20260121T231120Z
UID:10018549-1833719400-1833726600@nepenthehoa.com
SUMMARY:Alley Cats (Library)
DESCRIPTION:  \nPlease login to view this page. \n \n\n\n \n\nSign in to Your Account\n\nfacevisibility\n\n\n\n\n\n    Lost your password?
URL:https://nepenthehoa.com/event/alley-cats-group-library/2028-02-09/
LOCATION:Nepenthe Clubhouse\, 1131 Commons Drive\, Sacramento\, 95825\, United States
GEO:38.5660202;-121.4105373
X-APPLE-STRUCTURED-LOCATION;VALUE=URI;X-ADDRESS=Nepenthe Clubhouse 1131 Commons Drive Sacramento 95825 United States;X-APPLE-RADIUS=500;X-TITLE=1131 Commons Drive:geo:-121.4105373,38.5660202
END:VEVENT
BEGIN:VEVENT
DTSTART;TZID=UTC:20280209T160000
DTEND;TZID=UTC:20280209T180000
DTSTAMP:20260426T021350
CREATED:20250409T174619Z
LAST-MODIFIED:20250409T174620Z
UID:10016474-1833724800-1833732000@nepenthehoa.com
SUMMARY:Outreach Committee Meeting (Clubhouse)
DESCRIPTION:  \nPlease login to view this page. \n \n\n\n \n\nSign in to Your Account\n\nfacevisibility\n\n\n\n\n\n    Lost your password?
URL:https://nepenthehoa.com/event/outreach-committee-meeting-clubhouse-2/2028-02-09/
LOCATION:Nepenthe Clubhouse\, 1131 Commons Drive\, Sacramento\, 95825\, United States
GEO:38.5660202;-121.4105373
X-APPLE-STRUCTURED-LOCATION;VALUE=URI;X-ADDRESS=Nepenthe Clubhouse 1131 Commons Drive Sacramento 95825 United States;X-APPLE-RADIUS=500;X-TITLE=1131 Commons Drive:geo:-121.4105373,38.5660202
END:VEVENT
BEGIN:VEVENT
DTSTART;TZID=UTC:20280209T173000
DTEND;TZID=UTC:20280209T183000
DTSTAMP:20260426T021350
CREATED:20250610T190152Z
LAST-MODIFIED:20250610T190152Z
UID:10016716-1833730200-1833733800@nepenthehoa.com
SUMMARY:Insurance\, Legal & Safety Committee Meeting
DESCRIPTION:  \nPlease login to view this page. \n \n\n\n \n\nSign in to Your Account\n\nfacevisibility\n\n\n\n\n\n    Lost your password?
URL:https://nepenthehoa.com/event/insurance-legal-safety-committee-meeting-2-2/2028-02-09/
LOCATION:Nepenthe Clubhouse\, 1131 Commons Drive\, Sacramento\, 95825\, United States
GEO:38.5660202;-121.4105373
X-APPLE-STRUCTURED-LOCATION;VALUE=URI;X-ADDRESS=Nepenthe Clubhouse 1131 Commons Drive Sacramento 95825 United States;X-APPLE-RADIUS=500;X-TITLE=1131 Commons Drive:geo:-121.4105373,38.5660202
END:VEVENT
BEGIN:VEVENT
DTSTART;TZID=UTC:20280210T133000
DTEND;TZID=UTC:20280210T163000
DTSTAMP:20260426T021350
CREATED:20250401T212620Z
LAST-MODIFIED:20250401T212620Z
UID:10016188-1833802200-1833813000@nepenthehoa.com
SUMMARY:Greetings Cards for Seniors (Library)
DESCRIPTION:  \nPlease login to view this page. \n \n\n\n \n\nSign in to Your Account\n\nfacevisibility\n\n\n\n\n\n    Lost your password?
URL:https://nepenthehoa.com/event/greetings-cards-for-seniors-library/2028-02-10/
LOCATION:Nepenthe Clubhouse\, 1131 Commons Drive\, Sacramento\, 95825\, United States
GEO:38.5660202;-121.4105373
X-APPLE-STRUCTURED-LOCATION;VALUE=URI;X-ADDRESS=Nepenthe Clubhouse 1131 Commons Drive Sacramento 95825 United States;X-APPLE-RADIUS=500;X-TITLE=1131 Commons Drive:geo:-121.4105373,38.5660202
END:VEVENT
BEGIN:VEVENT
DTSTART;TZID=UTC:20280212T100000
DTEND;TZID=UTC:20280212T120000
DTSTAMP:20260426T021350
CREATED:20231103T190029Z
LAST-MODIFIED:20260121T230849Z
UID:10018052-1833962400-1833969600@nepenthehoa.com
SUMMARY:Coffee Group (Clubhouse)
DESCRIPTION:  \nPlease login to view this page. \n \n\n\n \n\nSign in to Your Account\n\nfacevisibility\n\n\n\n\n\n    Lost your password?
URL:https://nepenthehoa.com/event/coffee-group-clubhouse/2028-02-12/
LOCATION:Nepenthe Clubhouse\, 1131 Commons Drive\, Sacramento\, 95825\, United States
GEO:38.5660202;-121.4105373
X-APPLE-STRUCTURED-LOCATION;VALUE=URI;X-ADDRESS=Nepenthe Clubhouse 1131 Commons Drive Sacramento 95825 United States;X-APPLE-RADIUS=500;X-TITLE=1131 Commons Drive:geo:-121.4105373,38.5660202
END:VEVENT
BEGIN:VEVENT
DTSTART;TZID=UTC:20280214T110000
DTEND;TZID=UTC:20280214T130000
DTSTAMP:20260426T021350
CREATED:20221128T183416Z
LAST-MODIFIED:20250701T165641Z
UID:10017085-1834138800-1834146000@nepenthehoa.com
SUMMARY:Mahjong Group (Clubhouse)
DESCRIPTION:  \nPlease login to view this page. \n \n\n\n \n\nSign in to Your Account\n\nfacevisibility\n\n\n\n\n\n    Lost your password?
URL:https://nepenthehoa.com/event/mahjongg-group-clubhouse/2028-02-14/
LOCATION:Nepenthe Clubhouse\, 1131 Commons Drive\, Sacramento\, 95825\, United States
GEO:38.5660202;-121.4105373
X-APPLE-STRUCTURED-LOCATION;VALUE=URI;X-ADDRESS=Nepenthe Clubhouse 1131 Commons Drive Sacramento 95825 United States;X-APPLE-RADIUS=500;X-TITLE=1131 Commons Drive:geo:-121.4105373,38.5660202
END:VEVENT
BEGIN:VEVENT
DTSTART;TZID=UTC:20280214T120000
DTEND;TZID=UTC:20280214T153000
DTSTAMP:20260426T021350
CREATED:20231103T192108Z
LAST-MODIFIED:20250723T182105Z
UID:10017303-1834142400-1834155000@nepenthehoa.com
SUMMARY:Canasta Group (Library)
DESCRIPTION:  \nPlease login to view this page. \n \n\n\n \n\nSign in to Your Account\n\nfacevisibility\n\n\n\n\n\n    Lost your password?
URL:https://nepenthehoa.com/event/canasta-library/2028-02-14/
LOCATION:Nepenthe Clubhouse\, 1131 Commons Drive\, Sacramento\, 95825\, United States
GEO:38.5660202;-121.4105373
X-APPLE-STRUCTURED-LOCATION;VALUE=URI;X-ADDRESS=Nepenthe Clubhouse 1131 Commons Drive Sacramento 95825 United States;X-APPLE-RADIUS=500;X-TITLE=1131 Commons Drive:geo:-121.4105373,38.5660202
END:VEVENT
BEGIN:VEVENT
DTSTART;TZID=UTC:20280214T153000
DTEND;TZID=UTC:20280214T170000
DTSTAMP:20260426T021350
CREATED:20231103T193540Z
LAST-MODIFIED:20260121T231256Z
UID:10018733-1834155000-1834160400@nepenthehoa.com
SUMMARY:Book Club (Library)
DESCRIPTION:  \nPlease login to view this page. \n \n\n\n \n\nSign in to Your Account\n\nfacevisibility\n\n\n\n\n\n    Lost your password?
URL:https://nepenthehoa.com/event/book-club-library-2/2028-02-14/
LOCATION:Nepenthe Clubhouse\, 1131 Commons Drive\, Sacramento\, 95825\, United States
GEO:38.5660202;-121.4105373
X-APPLE-STRUCTURED-LOCATION;VALUE=URI;X-ADDRESS=Nepenthe Clubhouse 1131 Commons Drive Sacramento 95825 United States;X-APPLE-RADIUS=500;X-TITLE=1131 Commons Drive:geo:-121.4105373,38.5660202
END:VEVENT
BEGIN:VEVENT
DTSTART;TZID=UTC:20280215T090000
DTEND;TZID=UTC:20280215T150000
DTSTAMP:20260426T021350
CREATED:20250129T175733Z
LAST-MODIFIED:20250129T175733Z
UID:10015545-1834218000-1834239600@nepenthehoa.com
SUMMARY:Bridge Group (Clubhouse)
DESCRIPTION:  \nPlease login to view this page. \n \n\n\n \n\nSign in to Your Account\n\nfacevisibility\n\n\n\n\n\n    Lost your password?
URL:https://nepenthehoa.com/event/bridge-group-clubhouse-2/2028-02-15/
LOCATION:Nepenthe Clubhouse\, 1131 Commons Drive\, Sacramento\, 95825\, United States
GEO:38.5660202;-121.4105373
X-APPLE-STRUCTURED-LOCATION;VALUE=URI;X-ADDRESS=Nepenthe Clubhouse 1131 Commons Drive Sacramento 95825 United States;X-APPLE-RADIUS=500;X-TITLE=1131 Commons Drive:geo:-121.4105373,38.5660202
END:VEVENT
BEGIN:VEVENT
DTSTART;TZID=UTC:20280215T100000
DTEND;TZID=UTC:20280215T130000
DTSTAMP:20260426T021350
CREATED:20260330T153450Z
LAST-MODIFIED:20260330T153451Z
UID:10016038-1834221600-1834232400@nepenthehoa.com
SUMMARY:Private Event (Cabana)
DESCRIPTION:  \nPlease login to view this page. \n \n\n\n \n\nSign in to Your Account\n\nfacevisibility\n\n\n\n\n\n    Lost your password?
URL:https://nepenthehoa.com/event/private-event-cabana-75-2/2028-02-15/
LOCATION:Dunbarton Cabana\, 150 Dunbarton Cir.\, Sacramento\, 95825\, United States
GEO:38.564129;-121.41026
X-APPLE-STRUCTURED-LOCATION;VALUE=URI;X-ADDRESS=Dunbarton Cabana 150 Dunbarton Cir. Sacramento 95825 United States;X-APPLE-RADIUS=500;X-TITLE=150 Dunbarton Cir.:geo:-121.41026,38.564129
END:VEVENT
BEGIN:VEVENT
DTSTART;TZID=UTC:20280215T123000
DTEND;TZID=UTC:20280215T153000
DTSTAMP:20260426T021350
CREATED:20231103T193146Z
LAST-MODIFIED:20260121T230942Z
UID:10018295-1834230600-1834241400@nepenthehoa.com
SUMMARY:Mahjong Group (Library)
DESCRIPTION:  \nPlease login to view this page. \n \n\n\n \n\nSign in to Your Account\n\nfacevisibility\n\n\n\n\n\n    Lost your password?
URL:https://nepenthehoa.com/event/mahjong-group/2028-02-15/
LOCATION:Nepenthe Clubhouse\, 1131 Commons Drive\, Sacramento\, 95825\, United States
GEO:38.5660202;-121.4105373
X-APPLE-STRUCTURED-LOCATION;VALUE=URI;X-ADDRESS=Nepenthe Clubhouse 1131 Commons Drive Sacramento 95825 United States;X-APPLE-RADIUS=500;X-TITLE=1131 Commons Drive:geo:-121.4105373,38.5660202
END:VEVENT
BEGIN:VEVENT
DTSTART;TZID=UTC:20280216T100000
DTEND;TZID=UTC:20280216T143000
DTSTAMP:20260426T021350
CREATED:20231108T231058Z
LAST-MODIFIED:20250723T182146Z
UID:10017520-1834308000-1834324200@nepenthehoa.com
SUMMARY:Bridge Group (Library)
DESCRIPTION:  \nPlease login to view this page. \n \n\n\n \n\nSign in to Your Account\n\nfacevisibility\n\n\n\n\n\n    Lost your password?
URL:https://nepenthehoa.com/event/bridge-library-2/2028-02-16/
LOCATION:Nepenthe Clubhouse\, 1131 Commons Drive\, Sacramento\, 95825\, United States
GEO:38.5660202;-121.4105373
X-APPLE-STRUCTURED-LOCATION;VALUE=URI;X-ADDRESS=Nepenthe Clubhouse 1131 Commons Drive Sacramento 95825 United States;X-APPLE-RADIUS=500;X-TITLE=1131 Commons Drive:geo:-121.4105373,38.5660202
END:VEVENT
BEGIN:VEVENT
DTSTART;TZID=UTC:20280216T110000
DTEND;TZID=UTC:20280216T160000
DTSTAMP:20260426T021350
CREATED:20250414T172807Z
LAST-MODIFIED:20260121T231215Z
UID:10016636-1834311600-1834329600@nepenthehoa.com
SUMMARY:Rotary Wives Bridge (Clubhouse)
DESCRIPTION:  \nPlease login to view this page. \n \n\n\n \n\nSign in to Your Account\n\nfacevisibility\n\n\n\n\n\n    Lost your password?
URL:https://nepenthehoa.com/event/library-rotary-wives-bridge-group-2/2028-02-16/
LOCATION:Nepenthe Clubhouse\, 1131 Commons Drive\, Sacramento\, 95825\, United States
GEO:38.5660202;-121.4105373
X-APPLE-STRUCTURED-LOCATION;VALUE=URI;X-ADDRESS=Nepenthe Clubhouse 1131 Commons Drive Sacramento 95825 United States;X-APPLE-RADIUS=500;X-TITLE=1131 Commons Drive:geo:-121.4105373,38.5660202
END:VEVENT
BEGIN:VEVENT
DTSTART;TZID=UTC:20280216T143000
DTEND;TZID=UTC:20280216T163000
DTSTAMP:20260426T021350
CREATED:20211118T190005Z
LAST-MODIFIED:20260121T231120Z
UID:10018550-1834324200-1834331400@nepenthehoa.com
SUMMARY:Alley Cats (Library)
DESCRIPTION:  \nPlease login to view this page. \n \n\n\n \n\nSign in to Your Account\n\nfacevisibility\n\n\n\n\n\n    Lost your password?
URL:https://nepenthehoa.com/event/alley-cats-group-library/2028-02-16/
LOCATION:Nepenthe Clubhouse\, 1131 Commons Drive\, Sacramento\, 95825\, United States
GEO:38.5660202;-121.4105373
X-APPLE-STRUCTURED-LOCATION;VALUE=URI;X-ADDRESS=Nepenthe Clubhouse 1131 Commons Drive Sacramento 95825 United States;X-APPLE-RADIUS=500;X-TITLE=1131 Commons Drive:geo:-121.4105373,38.5660202
END:VEVENT
BEGIN:VEVENT
DTSTART;TZID=UTC:20280217T150000
DTEND;TZID=UTC:20280217T170000
DTSTAMP:20260426T021350
CREATED:20250902T163146Z
LAST-MODIFIED:20260224T164653Z
UID:10015912-1834412400-1834419600@nepenthehoa.com
SUMMARY:Grounds Committee Meeting
DESCRIPTION:  \nPlease login to view this page. \n \n\n\n \n\nSign in to Your Account\n\nfacevisibility\n\n\n\n\n\n    Lost your password?
URL:https://nepenthehoa.com/event/grounds-committee-meeting-4-2-2/2028-02-17/
LOCATION:Nepenthe Clubhouse\, 1131 Commons Drive\, Sacramento\, 95825\, United States
GEO:38.5660202;-121.4105373
X-APPLE-STRUCTURED-LOCATION;VALUE=URI;X-ADDRESS=Nepenthe Clubhouse 1131 Commons Drive Sacramento 95825 United States;X-APPLE-RADIUS=500;X-TITLE=1131 Commons Drive:geo:-121.4105373,38.5660202
END:VEVENT
BEGIN:VEVENT
DTSTART;TZID=UTC:20280219T100000
DTEND;TZID=UTC:20280219T120000
DTSTAMP:20260426T021350
CREATED:20231103T190029Z
LAST-MODIFIED:20260121T230849Z
UID:10018053-1834567200-1834574400@nepenthehoa.com
SUMMARY:Coffee Group (Clubhouse)
DESCRIPTION:  \nPlease login to view this page. \n \n\n\n \n\nSign in to Your Account\n\nfacevisibility\n\n\n\n\n\n    Lost your password?
URL:https://nepenthehoa.com/event/coffee-group-clubhouse/2028-02-19/
LOCATION:Nepenthe Clubhouse\, 1131 Commons Drive\, Sacramento\, 95825\, United States
GEO:38.5660202;-121.4105373
X-APPLE-STRUCTURED-LOCATION;VALUE=URI;X-ADDRESS=Nepenthe Clubhouse 1131 Commons Drive Sacramento 95825 United States;X-APPLE-RADIUS=500;X-TITLE=1131 Commons Drive:geo:-121.4105373,38.5660202
END:VEVENT
BEGIN:VEVENT
DTSTART;TZID=UTC:20280221T110000
DTEND;TZID=UTC:20280221T130000
DTSTAMP:20260426T021350
CREATED:20221128T183416Z
LAST-MODIFIED:20250701T165641Z
UID:10017086-1834743600-1834750800@nepenthehoa.com
SUMMARY:Mahjong Group (Clubhouse)
DESCRIPTION:  \nPlease login to view this page. \n \n\n\n \n\nSign in to Your Account\n\nfacevisibility\n\n\n\n\n\n    Lost your password?
URL:https://nepenthehoa.com/event/mahjongg-group-clubhouse/2028-02-21/
LOCATION:Nepenthe Clubhouse\, 1131 Commons Drive\, Sacramento\, 95825\, United States
GEO:38.5660202;-121.4105373
X-APPLE-STRUCTURED-LOCATION;VALUE=URI;X-ADDRESS=Nepenthe Clubhouse 1131 Commons Drive Sacramento 95825 United States;X-APPLE-RADIUS=500;X-TITLE=1131 Commons Drive:geo:-121.4105373,38.5660202
END:VEVENT
BEGIN:VEVENT
DTSTART;TZID=UTC:20280221T120000
DTEND;TZID=UTC:20280221T153000
DTSTAMP:20260426T021350
CREATED:20231103T192108Z
LAST-MODIFIED:20250723T182105Z
UID:10017304-1834747200-1834759800@nepenthehoa.com
SUMMARY:Canasta Group (Library)
DESCRIPTION:  \nPlease login to view this page. \n \n\n\n \n\nSign in to Your Account\n\nfacevisibility\n\n\n\n\n\n    Lost your password?
URL:https://nepenthehoa.com/event/canasta-library/2028-02-21/
LOCATION:Nepenthe Clubhouse\, 1131 Commons Drive\, Sacramento\, 95825\, United States
GEO:38.5660202;-121.4105373
X-APPLE-STRUCTURED-LOCATION;VALUE=URI;X-ADDRESS=Nepenthe Clubhouse 1131 Commons Drive Sacramento 95825 United States;X-APPLE-RADIUS=500;X-TITLE=1131 Commons Drive:geo:-121.4105373,38.5660202
END:VEVENT
BEGIN:VEVENT
DTSTART;TZID=UTC:20280221T160000
DTEND;TZID=UTC:20280221T170000
DTSTAMP:20260426T021350
CREATED:20260225T220400Z
LAST-MODIFIED:20260225T220402Z
UID:10018854-1834761600-1834765200@nepenthehoa.com
SUMMARY:Finance Committee Meeting
DESCRIPTION:  \nPlease login to view this page. \n \n\n\n \n\nSign in to Your Account\n\nfacevisibility\n\n\n\n\n\n    Lost your password?
URL:https://nepenthehoa.com/event/finance-committee-meeting-clubhouse-2-2-2/2028-02-21/
LOCATION:Nepenthe Clubhouse\, 1131 Commons Drive\, Sacramento\, 95825\, United States
GEO:38.5660202;-121.4105373
X-APPLE-STRUCTURED-LOCATION;VALUE=URI;X-ADDRESS=Nepenthe Clubhouse 1131 Commons Drive Sacramento 95825 United States;X-APPLE-RADIUS=500;X-TITLE=1131 Commons Drive:geo:-121.4105373,38.5660202
END:VEVENT
BEGIN:VEVENT
DTSTART;TZID=UTC:20280222T123000
DTEND;TZID=UTC:20280222T153000
DTSTAMP:20260426T021350
CREATED:20231103T193146Z
LAST-MODIFIED:20260121T230942Z
UID:10018296-1834835400-1834846200@nepenthehoa.com
SUMMARY:Mahjong Group (Library)
DESCRIPTION:  \nPlease login to view this page. \n \n\n\n \n\nSign in to Your Account\n\nfacevisibility\n\n\n\n\n\n    Lost your password?
URL:https://nepenthehoa.com/event/mahjong-group/2028-02-22/
LOCATION:Nepenthe Clubhouse\, 1131 Commons Drive\, Sacramento\, 95825\, United States
GEO:38.5660202;-121.4105373
X-APPLE-STRUCTURED-LOCATION;VALUE=URI;X-ADDRESS=Nepenthe Clubhouse 1131 Commons Drive Sacramento 95825 United States;X-APPLE-RADIUS=500;X-TITLE=1131 Commons Drive:geo:-121.4105373,38.5660202
END:VEVENT
BEGIN:VEVENT
DTSTART;TZID=UTC:20280223T100000
DTEND;TZID=UTC:20280223T143000
DTSTAMP:20260426T021350
CREATED:20231108T231058Z
LAST-MODIFIED:20250723T182146Z
UID:10017521-1834912800-1834929000@nepenthehoa.com
SUMMARY:Bridge Group (Library)
DESCRIPTION:  \nPlease login to view this page. \n \n\n\n \n\nSign in to Your Account\n\nfacevisibility\n\n\n\n\n\n    Lost your password?
URL:https://nepenthehoa.com/event/bridge-library-2/2028-02-23/
LOCATION:Nepenthe Clubhouse\, 1131 Commons Drive\, Sacramento\, 95825\, United States
GEO:38.5660202;-121.4105373
X-APPLE-STRUCTURED-LOCATION;VALUE=URI;X-ADDRESS=Nepenthe Clubhouse 1131 Commons Drive Sacramento 95825 United States;X-APPLE-RADIUS=500;X-TITLE=1131 Commons Drive:geo:-121.4105373,38.5660202
END:VEVENT
BEGIN:VEVENT
DTSTART;TZID=UTC:20280223T143000
DTEND;TZID=UTC:20280223T163000
DTSTAMP:20260426T021350
CREATED:20211118T190005Z
LAST-MODIFIED:20260121T231120Z
UID:10018551-1834929000-1834936200@nepenthehoa.com
SUMMARY:Alley Cats (Library)
DESCRIPTION:  \nPlease login to view this page. \n \n\n\n \n\nSign in to Your Account\n\nfacevisibility\n\n\n\n\n\n    Lost your password?
URL:https://nepenthehoa.com/event/alley-cats-group-library/2028-02-23/
LOCATION:Nepenthe Clubhouse\, 1131 Commons Drive\, Sacramento\, 95825\, United States
GEO:38.5660202;-121.4105373
X-APPLE-STRUCTURED-LOCATION;VALUE=URI;X-ADDRESS=Nepenthe Clubhouse 1131 Commons Drive Sacramento 95825 United States;X-APPLE-RADIUS=500;X-TITLE=1131 Commons Drive:geo:-121.4105373,38.5660202
END:VEVENT
BEGIN:VEVENT
DTSTART;TZID=UTC:20280226T100000
DTEND;TZID=UTC:20280226T120000
DTSTAMP:20260426T021350
CREATED:20231103T190029Z
LAST-MODIFIED:20260121T230849Z
UID:10018054-1835172000-1835179200@nepenthehoa.com
SUMMARY:Coffee Group (Clubhouse)
DESCRIPTION:  \nPlease login to view this page. \n \n\n\n \n\nSign in to Your Account\n\nfacevisibility\n\n\n\n\n\n    Lost your password?
URL:https://nepenthehoa.com/event/coffee-group-clubhouse/2028-02-26/
LOCATION:Nepenthe Clubhouse\, 1131 Commons Drive\, Sacramento\, 95825\, United States
GEO:38.5660202;-121.4105373
X-APPLE-STRUCTURED-LOCATION;VALUE=URI;X-ADDRESS=Nepenthe Clubhouse 1131 Commons Drive Sacramento 95825 United States;X-APPLE-RADIUS=500;X-TITLE=1131 Commons Drive:geo:-121.4105373,38.5660202
END:VEVENT
BEGIN:VEVENT
DTSTART;TZID=UTC:20280228T110000
DTEND;TZID=UTC:20280228T130000
DTSTAMP:20260426T021350
CREATED:20221128T183416Z
LAST-MODIFIED:20250701T165641Z
UID:10017087-1835348400-1835355600@nepenthehoa.com
SUMMARY:Mahjong Group (Clubhouse)
DESCRIPTION:  \nPlease login to view this page. \n \n\n\n \n\nSign in to Your Account\n\nfacevisibility\n\n\n\n\n\n    Lost your password?
URL:https://nepenthehoa.com/event/mahjongg-group-clubhouse/2028-02-28/
LOCATION:Nepenthe Clubhouse\, 1131 Commons Drive\, Sacramento\, 95825\, United States
GEO:38.5660202;-121.4105373
X-APPLE-STRUCTURED-LOCATION;VALUE=URI;X-ADDRESS=Nepenthe Clubhouse 1131 Commons Drive Sacramento 95825 United States;X-APPLE-RADIUS=500;X-TITLE=1131 Commons Drive:geo:-121.4105373,38.5660202
END:VEVENT
BEGIN:VEVENT
DTSTART;TZID=UTC:20280228T120000
DTEND;TZID=UTC:20280228T153000
DTSTAMP:20260426T021350
CREATED:20231103T192108Z
LAST-MODIFIED:20250723T182105Z
UID:10017305-1835352000-1835364600@nepenthehoa.com
SUMMARY:Canasta Group (Library)
DESCRIPTION:  \nPlease login to view this page. \n \n\n\n \n\nSign in to Your Account\n\nfacevisibility\n\n\n\n\n\n    Lost your password?
URL:https://nepenthehoa.com/event/canasta-library/2028-02-28/
LOCATION:Nepenthe Clubhouse\, 1131 Commons Drive\, Sacramento\, 95825\, United States
GEO:38.5660202;-121.4105373
X-APPLE-STRUCTURED-LOCATION;VALUE=URI;X-ADDRESS=Nepenthe Clubhouse 1131 Commons Drive Sacramento 95825 United States;X-APPLE-RADIUS=500;X-TITLE=1131 Commons Drive:geo:-121.4105373,38.5660202
END:VEVENT
BEGIN:VEVENT
DTSTART;TZID=UTC:20280229T123000
DTEND;TZID=UTC:20280229T153000
DTSTAMP:20260426T021350
CREATED:20231103T193146Z
LAST-MODIFIED:20260121T230942Z
UID:10018297-1835440200-1835451000@nepenthehoa.com
SUMMARY:Mahjong Group (Library)
DESCRIPTION:  \nPlease login to view this page. \n \n\n\n \n\nSign in to Your Account\n\nfacevisibility\n\n\n\n\n\n    Lost your password?
URL:https://nepenthehoa.com/event/mahjong-group/2028-02-29/
LOCATION:Nepenthe Clubhouse\, 1131 Commons Drive\, Sacramento\, 95825\, United States
GEO:38.5660202;-121.4105373
X-APPLE-STRUCTURED-LOCATION;VALUE=URI;X-ADDRESS=Nepenthe Clubhouse 1131 Commons Drive Sacramento 95825 United States;X-APPLE-RADIUS=500;X-TITLE=1131 Commons Drive:geo:-121.4105373,38.5660202
END:VEVENT
END:VCALENDAR