BEGIN:VCALENDAR
VERSION:2.0
PRODID:-//Nepenthe - ECPv6.15.17.1//NONSGML v1.0//EN
CALSCALE:GREGORIAN
METHOD:PUBLISH
X-WR-CALNAME:Nepenthe
X-ORIGINAL-URL:https://nepenthehoa.com
X-WR-CALDESC:Events for Nepenthe
REFRESH-INTERVAL;VALUE=DURATION:PT1H
X-Robots-Tag:noindex
X-PUBLISHED-TTL:PT1H
BEGIN:VTIMEZONE
TZID:UTC
BEGIN:STANDARD
TZOFFSETFROM:+0000
TZOFFSETTO:+0000
TZNAME:UTC
DTSTART:20260101T000000
END:STANDARD
END:VTIMEZONE
BEGIN:VEVENT
DTSTART;TZID=UTC:20270428T100000
DTEND;TZID=UTC:20270428T143000
DTSTAMP:20260422T054011
CREATED:20231108T231058Z
LAST-MODIFIED:20250723T182146Z
UID:10017478-1808906400-1808922600@nepenthehoa.com
SUMMARY:Bridge Group (Library)
DESCRIPTION:  \nPlease login to view this page. \n \n\n\n \n\nSign in to Your Account\n\nfacevisibility\n\n\n\n\n\n    Lost your password?
URL:https://nepenthehoa.com/event/bridge-library-2/2027-04-28/
LOCATION:Nepenthe Clubhouse\, 1131 Commons Drive\, Sacramento\, 95825\, United States
GEO:38.5660202;-121.4105373
X-APPLE-STRUCTURED-LOCATION;VALUE=URI;X-ADDRESS=Nepenthe Clubhouse 1131 Commons Drive Sacramento 95825 United States;X-APPLE-RADIUS=500;X-TITLE=1131 Commons Drive:geo:-121.4105373,38.5660202
END:VEVENT
BEGIN:VEVENT
DTSTART;TZID=UTC:20270428T143000
DTEND;TZID=UTC:20270428T163000
DTSTAMP:20260422T054012
CREATED:20211118T190005Z
LAST-MODIFIED:20260121T231120Z
UID:10018508-1808922600-1808929800@nepenthehoa.com
SUMMARY:Alley Cats (Library)
DESCRIPTION:  \nPlease login to view this page. \n \n\n\n \n\nSign in to Your Account\n\nfacevisibility\n\n\n\n\n\n    Lost your password?
URL:https://nepenthehoa.com/event/alley-cats-group-library/2027-04-28/
LOCATION:Nepenthe Clubhouse\, 1131 Commons Drive\, Sacramento\, 95825\, United States
GEO:38.5660202;-121.4105373
X-APPLE-STRUCTURED-LOCATION;VALUE=URI;X-ADDRESS=Nepenthe Clubhouse 1131 Commons Drive Sacramento 95825 United States;X-APPLE-RADIUS=500;X-TITLE=1131 Commons Drive:geo:-121.4105373,38.5660202
END:VEVENT
BEGIN:VEVENT
DTSTART;TZID=UTC:20270501T100000
DTEND;TZID=UTC:20270501T120000
DTSTAMP:20260422T054012
CREATED:20231103T190029Z
LAST-MODIFIED:20260121T230849Z
UID:10018011-1809165600-1809172800@nepenthehoa.com
SUMMARY:Coffee Group (Clubhouse)
DESCRIPTION:  \nPlease login to view this page. \n \n\n\n \n\nSign in to Your Account\n\nfacevisibility\n\n\n\n\n\n    Lost your password?
URL:https://nepenthehoa.com/event/coffee-group-clubhouse/2027-05-01/
LOCATION:Nepenthe Clubhouse\, 1131 Commons Drive\, Sacramento\, 95825\, United States
GEO:38.5660202;-121.4105373
X-APPLE-STRUCTURED-LOCATION;VALUE=URI;X-ADDRESS=Nepenthe Clubhouse 1131 Commons Drive Sacramento 95825 United States;X-APPLE-RADIUS=500;X-TITLE=1131 Commons Drive:geo:-121.4105373,38.5660202
END:VEVENT
BEGIN:VEVENT
DTSTART;TZID=UTC:20270503T110000
DTEND;TZID=UTC:20270503T130000
DTSTAMP:20260422T054012
CREATED:20221128T183416Z
LAST-MODIFIED:20250701T165641Z
UID:10017044-1809342000-1809349200@nepenthehoa.com
SUMMARY:Mahjong Group (Clubhouse)
DESCRIPTION:  \nPlease login to view this page. \n \n\n\n \n\nSign in to Your Account\n\nfacevisibility\n\n\n\n\n\n    Lost your password?
URL:https://nepenthehoa.com/event/mahjongg-group-clubhouse/2027-05-03/
LOCATION:Nepenthe Clubhouse\, 1131 Commons Drive\, Sacramento\, 95825\, United States
GEO:38.5660202;-121.4105373
X-APPLE-STRUCTURED-LOCATION;VALUE=URI;X-ADDRESS=Nepenthe Clubhouse 1131 Commons Drive Sacramento 95825 United States;X-APPLE-RADIUS=500;X-TITLE=1131 Commons Drive:geo:-121.4105373,38.5660202
END:VEVENT
BEGIN:VEVENT
DTSTART;TZID=UTC:20270503T120000
DTEND;TZID=UTC:20270503T153000
DTSTAMP:20260422T054012
CREATED:20231103T192108Z
LAST-MODIFIED:20250723T182105Z
UID:10017262-1809345600-1809358200@nepenthehoa.com
SUMMARY:Canasta Group (Library)
DESCRIPTION:  \nPlease login to view this page. \n \n\n\n \n\nSign in to Your Account\n\nfacevisibility\n\n\n\n\n\n    Lost your password?
URL:https://nepenthehoa.com/event/canasta-library/2027-05-03/
LOCATION:Nepenthe Clubhouse\, 1131 Commons Drive\, Sacramento\, 95825\, United States
GEO:38.5660202;-121.4105373
X-APPLE-STRUCTURED-LOCATION;VALUE=URI;X-ADDRESS=Nepenthe Clubhouse 1131 Commons Drive Sacramento 95825 United States;X-APPLE-RADIUS=500;X-TITLE=1131 Commons Drive:geo:-121.4105373,38.5660202
END:VEVENT
BEGIN:VEVENT
DTSTART;TZID=UTC:20270504T090000
DTEND;TZID=UTC:20270504T150000
DTSTAMP:20260422T054012
CREATED:20250129T175529Z
LAST-MODIFIED:20260121T231027Z
UID:10015597-1809421200-1809442800@nepenthehoa.com
SUMMARY:Bridge Group (Clubhouse)
DESCRIPTION:  \nPlease login to view this page. \n \n\n\n \n\nSign in to Your Account\n\nfacevisibility\n\n\n\n\n\n    Lost your password?
URL:https://nepenthehoa.com/event/bridge-group-clubhouse/2027-05-04/
LOCATION:Nepenthe Clubhouse\, 1131 Commons Drive\, Sacramento\, 95825\, United States
GEO:38.5660202;-121.4105373
X-APPLE-STRUCTURED-LOCATION;VALUE=URI;X-ADDRESS=Nepenthe Clubhouse 1131 Commons Drive Sacramento 95825 United States;X-APPLE-RADIUS=500;X-TITLE=1131 Commons Drive:geo:-121.4105373,38.5660202
END:VEVENT
BEGIN:VEVENT
DTSTART;TZID=UTC:20270504T100000
DTEND;TZID=UTC:20270504T120000
DTSTAMP:20260422T054012
CREATED:20250131T181917Z
LAST-MODIFIED:20260120T230159Z
UID:10017716-1809424800-1809432000@nepenthehoa.com
SUMMARY:Executive Board Meeting
DESCRIPTION:  \nPlease login to view this page. \n \n\n\n \n\nSign in to Your Account\n\nfacevisibility\n\n\n\n\n\n    Lost your password?
URL:https://nepenthehoa.com/event/executive-board-meeting-11/2027-05-04/
LOCATION:Nepenthe Clubhouse\, 1131 Commons Drive\, Sacramento\, 95825\, United States
GEO:38.5660202;-121.4105373
X-APPLE-STRUCTURED-LOCATION;VALUE=URI;X-ADDRESS=Nepenthe Clubhouse 1131 Commons Drive Sacramento 95825 United States;X-APPLE-RADIUS=500;X-TITLE=1131 Commons Drive:geo:-121.4105373,38.5660202
END:VEVENT
BEGIN:VEVENT
DTSTART;TZID=UTC:20270504T123000
DTEND;TZID=UTC:20270504T153000
DTSTAMP:20260422T054012
CREATED:20231103T193146Z
LAST-MODIFIED:20260121T230942Z
UID:10018254-1809433800-1809444600@nepenthehoa.com
SUMMARY:Mahjong Group (Library)
DESCRIPTION:  \nPlease login to view this page. \n \n\n\n \n\nSign in to Your Account\n\nfacevisibility\n\n\n\n\n\n    Lost your password?
URL:https://nepenthehoa.com/event/mahjong-group/2027-05-04/
LOCATION:Nepenthe Clubhouse\, 1131 Commons Drive\, Sacramento\, 95825\, United States
GEO:38.5660202;-121.4105373
X-APPLE-STRUCTURED-LOCATION;VALUE=URI;X-ADDRESS=Nepenthe Clubhouse 1131 Commons Drive Sacramento 95825 United States;X-APPLE-RADIUS=500;X-TITLE=1131 Commons Drive:geo:-121.4105373,38.5660202
END:VEVENT
BEGIN:VEVENT
DTSTART;TZID=UTC:20270505T100000
DTEND;TZID=UTC:20270505T143000
DTSTAMP:20260422T054012
CREATED:20231108T231058Z
LAST-MODIFIED:20250723T182146Z
UID:10017479-1809511200-1809527400@nepenthehoa.com
SUMMARY:Bridge Group (Library)
DESCRIPTION:  \nPlease login to view this page. \n \n\n\n \n\nSign in to Your Account\n\nfacevisibility\n\n\n\n\n\n    Lost your password?
URL:https://nepenthehoa.com/event/bridge-library-2/2027-05-05/
LOCATION:Nepenthe Clubhouse\, 1131 Commons Drive\, Sacramento\, 95825\, United States
GEO:38.5660202;-121.4105373
X-APPLE-STRUCTURED-LOCATION;VALUE=URI;X-ADDRESS=Nepenthe Clubhouse 1131 Commons Drive Sacramento 95825 United States;X-APPLE-RADIUS=500;X-TITLE=1131 Commons Drive:geo:-121.4105373,38.5660202
END:VEVENT
BEGIN:VEVENT
DTSTART;TZID=UTC:20270505T143000
DTEND;TZID=UTC:20270505T163000
DTSTAMP:20260422T054012
CREATED:20211118T190005Z
LAST-MODIFIED:20260121T231120Z
UID:10018509-1809527400-1809534600@nepenthehoa.com
SUMMARY:Alley Cats (Library)
DESCRIPTION:  \nPlease login to view this page. \n \n\n\n \n\nSign in to Your Account\n\nfacevisibility\n\n\n\n\n\n    Lost your password?
URL:https://nepenthehoa.com/event/alley-cats-group-library/2027-05-05/
LOCATION:Nepenthe Clubhouse\, 1131 Commons Drive\, Sacramento\, 95825\, United States
GEO:38.5660202;-121.4105373
X-APPLE-STRUCTURED-LOCATION;VALUE=URI;X-ADDRESS=Nepenthe Clubhouse 1131 Commons Drive Sacramento 95825 United States;X-APPLE-RADIUS=500;X-TITLE=1131 Commons Drive:geo:-121.4105373,38.5660202
END:VEVENT
BEGIN:VEVENT
DTSTART;TZID=UTC:20270505T180000
DTEND;TZID=UTC:20270505T200000
DTSTAMP:20260422T054012
CREATED:20231228T180317Z
LAST-MODIFIED:20251204T220644Z
UID:10017772-1809540000-1809547200@nepenthehoa.com
SUMMARY:Open Board Meeting
DESCRIPTION:  \nPlease login to view this page. \n \n\n\n \n\nSign in to Your Account\n\nfacevisibility\n\n\n\n\n\n    Lost your password?
URL:https://nepenthehoa.com/event/open-board-meeting/2027-05-05/
LOCATION:Nepenthe Clubhouse\, 1131 Commons Drive\, Sacramento\, 95825\, United States
GEO:38.5660202;-121.4105373
X-APPLE-STRUCTURED-LOCATION;VALUE=URI;X-ADDRESS=Nepenthe Clubhouse 1131 Commons Drive Sacramento 95825 United States;X-APPLE-RADIUS=500;X-TITLE=1131 Commons Drive:geo:-121.4105373,38.5660202
END:VEVENT
BEGIN:VEVENT
DTSTART;TZID=UTC:20270506T163000
DTEND;TZID=UTC:20270506T173000
DTSTAMP:20260422T054012
CREATED:20260109T171100Z
LAST-MODIFIED:20260225T220457Z
UID:10018905-1809621000-1809624600@nepenthehoa.com
SUMMARY:Architectural Committee Meeting
DESCRIPTION:  \nPlease login to view this page. \n \n\n\n \n\nSign in to Your Account\n\nfacevisibility\n\n\n\n\n\n    Lost your password?
URL:https://nepenthehoa.com/event/architectural-committee-meeting-3-2-2/2027-05-06/
LOCATION:Nepenthe Clubhouse\, 1131 Commons Drive\, Sacramento\, 95825\, United States
GEO:38.5660202;-121.4105373
X-APPLE-STRUCTURED-LOCATION;VALUE=URI;X-ADDRESS=Nepenthe Clubhouse 1131 Commons Drive Sacramento 95825 United States;X-APPLE-RADIUS=500;X-TITLE=1131 Commons Drive:geo:-121.4105373,38.5660202
END:VEVENT
BEGIN:VEVENT
DTSTART;TZID=UTC:20270508T100000
DTEND;TZID=UTC:20270508T120000
DTSTAMP:20260422T054012
CREATED:20231103T190029Z
LAST-MODIFIED:20260121T230849Z
UID:10018012-1809770400-1809777600@nepenthehoa.com
SUMMARY:Coffee Group (Clubhouse)
DESCRIPTION:  \nPlease login to view this page. \n \n\n\n \n\nSign in to Your Account\n\nfacevisibility\n\n\n\n\n\n    Lost your password?
URL:https://nepenthehoa.com/event/coffee-group-clubhouse/2027-05-08/
LOCATION:Nepenthe Clubhouse\, 1131 Commons Drive\, Sacramento\, 95825\, United States
GEO:38.5660202;-121.4105373
X-APPLE-STRUCTURED-LOCATION;VALUE=URI;X-ADDRESS=Nepenthe Clubhouse 1131 Commons Drive Sacramento 95825 United States;X-APPLE-RADIUS=500;X-TITLE=1131 Commons Drive:geo:-121.4105373,38.5660202
END:VEVENT
BEGIN:VEVENT
DTSTART;TZID=UTC:20270510T110000
DTEND;TZID=UTC:20270510T130000
DTSTAMP:20260422T054012
CREATED:20221128T183416Z
LAST-MODIFIED:20250701T165641Z
UID:10017045-1809946800-1809954000@nepenthehoa.com
SUMMARY:Mahjong Group (Clubhouse)
DESCRIPTION:  \nPlease login to view this page. \n \n\n\n \n\nSign in to Your Account\n\nfacevisibility\n\n\n\n\n\n    Lost your password?
URL:https://nepenthehoa.com/event/mahjongg-group-clubhouse/2027-05-10/
LOCATION:Nepenthe Clubhouse\, 1131 Commons Drive\, Sacramento\, 95825\, United States
GEO:38.5660202;-121.4105373
X-APPLE-STRUCTURED-LOCATION;VALUE=URI;X-ADDRESS=Nepenthe Clubhouse 1131 Commons Drive Sacramento 95825 United States;X-APPLE-RADIUS=500;X-TITLE=1131 Commons Drive:geo:-121.4105373,38.5660202
END:VEVENT
BEGIN:VEVENT
DTSTART;TZID=UTC:20270510T120000
DTEND;TZID=UTC:20270510T153000
DTSTAMP:20260422T054012
CREATED:20231103T192108Z
LAST-MODIFIED:20250723T182105Z
UID:10017263-1809950400-1809963000@nepenthehoa.com
SUMMARY:Canasta Group (Library)
DESCRIPTION:  \nPlease login to view this page. \n \n\n\n \n\nSign in to Your Account\n\nfacevisibility\n\n\n\n\n\n    Lost your password?
URL:https://nepenthehoa.com/event/canasta-library/2027-05-10/
LOCATION:Nepenthe Clubhouse\, 1131 Commons Drive\, Sacramento\, 95825\, United States
GEO:38.5660202;-121.4105373
X-APPLE-STRUCTURED-LOCATION;VALUE=URI;X-ADDRESS=Nepenthe Clubhouse 1131 Commons Drive Sacramento 95825 United States;X-APPLE-RADIUS=500;X-TITLE=1131 Commons Drive:geo:-121.4105373,38.5660202
END:VEVENT
BEGIN:VEVENT
DTSTART;TZID=UTC:20270510T153000
DTEND;TZID=UTC:20270510T170000
DTSTAMP:20260422T054012
CREATED:20231103T193540Z
LAST-MODIFIED:20260121T231256Z
UID:10018724-1809963000-1809968400@nepenthehoa.com
SUMMARY:Book Club (Library)
DESCRIPTION:  \nPlease login to view this page. \n \n\n\n \n\nSign in to Your Account\n\nfacevisibility\n\n\n\n\n\n    Lost your password?
URL:https://nepenthehoa.com/event/book-club-library-2/2027-05-10/
LOCATION:Nepenthe Clubhouse\, 1131 Commons Drive\, Sacramento\, 95825\, United States
GEO:38.5660202;-121.4105373
X-APPLE-STRUCTURED-LOCATION;VALUE=URI;X-ADDRESS=Nepenthe Clubhouse 1131 Commons Drive Sacramento 95825 United States;X-APPLE-RADIUS=500;X-TITLE=1131 Commons Drive:geo:-121.4105373,38.5660202
END:VEVENT
BEGIN:VEVENT
DTSTART;TZID=UTC:20270511T123000
DTEND;TZID=UTC:20270511T153000
DTSTAMP:20260422T054012
CREATED:20231103T193146Z
LAST-MODIFIED:20260121T230942Z
UID:10018255-1810038600-1810049400@nepenthehoa.com
SUMMARY:Mahjong Group (Library)
DESCRIPTION:  \nPlease login to view this page. \n \n\n\n \n\nSign in to Your Account\n\nfacevisibility\n\n\n\n\n\n    Lost your password?
URL:https://nepenthehoa.com/event/mahjong-group/2027-05-11/
LOCATION:Nepenthe Clubhouse\, 1131 Commons Drive\, Sacramento\, 95825\, United States
GEO:38.5660202;-121.4105373
X-APPLE-STRUCTURED-LOCATION;VALUE=URI;X-ADDRESS=Nepenthe Clubhouse 1131 Commons Drive Sacramento 95825 United States;X-APPLE-RADIUS=500;X-TITLE=1131 Commons Drive:geo:-121.4105373,38.5660202
END:VEVENT
BEGIN:VEVENT
DTSTART;TZID=UTC:20270512T100000
DTEND;TZID=UTC:20270512T143000
DTSTAMP:20260422T054012
CREATED:20231108T231058Z
LAST-MODIFIED:20250723T182146Z
UID:10017480-1810116000-1810132200@nepenthehoa.com
SUMMARY:Bridge Group (Library)
DESCRIPTION:  \nPlease login to view this page. \n \n\n\n \n\nSign in to Your Account\n\nfacevisibility\n\n\n\n\n\n    Lost your password?
URL:https://nepenthehoa.com/event/bridge-library-2/2027-05-12/
LOCATION:Nepenthe Clubhouse\, 1131 Commons Drive\, Sacramento\, 95825\, United States
GEO:38.5660202;-121.4105373
X-APPLE-STRUCTURED-LOCATION;VALUE=URI;X-ADDRESS=Nepenthe Clubhouse 1131 Commons Drive Sacramento 95825 United States;X-APPLE-RADIUS=500;X-TITLE=1131 Commons Drive:geo:-121.4105373,38.5660202
END:VEVENT
BEGIN:VEVENT
DTSTART;TZID=UTC:20270512T143000
DTEND;TZID=UTC:20270512T163000
DTSTAMP:20260422T054012
CREATED:20211118T190005Z
LAST-MODIFIED:20260121T231120Z
UID:10018510-1810132200-1810139400@nepenthehoa.com
SUMMARY:Alley Cats (Library)
DESCRIPTION:  \nPlease login to view this page. \n \n\n\n \n\nSign in to Your Account\n\nfacevisibility\n\n\n\n\n\n    Lost your password?
URL:https://nepenthehoa.com/event/alley-cats-group-library/2027-05-12/
LOCATION:Nepenthe Clubhouse\, 1131 Commons Drive\, Sacramento\, 95825\, United States
GEO:38.5660202;-121.4105373
X-APPLE-STRUCTURED-LOCATION;VALUE=URI;X-ADDRESS=Nepenthe Clubhouse 1131 Commons Drive Sacramento 95825 United States;X-APPLE-RADIUS=500;X-TITLE=1131 Commons Drive:geo:-121.4105373,38.5660202
END:VEVENT
BEGIN:VEVENT
DTSTART;TZID=UTC:20270512T160000
DTEND;TZID=UTC:20270512T180000
DTSTAMP:20260422T054012
CREATED:20250409T174619Z
LAST-MODIFIED:20250409T174620Z
UID:10016465-1810137600-1810144800@nepenthehoa.com
SUMMARY:Outreach Committee Meeting (Clubhouse)
DESCRIPTION:  \nPlease login to view this page. \n \n\n\n \n\nSign in to Your Account\n\nfacevisibility\n\n\n\n\n\n    Lost your password?
URL:https://nepenthehoa.com/event/outreach-committee-meeting-clubhouse-2/2027-05-12/
LOCATION:Nepenthe Clubhouse\, 1131 Commons Drive\, Sacramento\, 95825\, United States
GEO:38.5660202;-121.4105373
X-APPLE-STRUCTURED-LOCATION;VALUE=URI;X-ADDRESS=Nepenthe Clubhouse 1131 Commons Drive Sacramento 95825 United States;X-APPLE-RADIUS=500;X-TITLE=1131 Commons Drive:geo:-121.4105373,38.5660202
END:VEVENT
BEGIN:VEVENT
DTSTART;TZID=UTC:20270512T173000
DTEND;TZID=UTC:20270512T183000
DTSTAMP:20260422T054012
CREATED:20250610T190152Z
LAST-MODIFIED:20250610T190152Z
UID:10016707-1810143000-1810146600@nepenthehoa.com
SUMMARY:Insurance\, Legal & Safety Committee Meeting
DESCRIPTION:  \nPlease login to view this page. \n \n\n\n \n\nSign in to Your Account\n\nfacevisibility\n\n\n\n\n\n    Lost your password?
URL:https://nepenthehoa.com/event/insurance-legal-safety-committee-meeting-2-2/2027-05-12/
LOCATION:Nepenthe Clubhouse\, 1131 Commons Drive\, Sacramento\, 95825\, United States
GEO:38.5660202;-121.4105373
X-APPLE-STRUCTURED-LOCATION;VALUE=URI;X-ADDRESS=Nepenthe Clubhouse 1131 Commons Drive Sacramento 95825 United States;X-APPLE-RADIUS=500;X-TITLE=1131 Commons Drive:geo:-121.4105373,38.5660202
END:VEVENT
BEGIN:VEVENT
DTSTART;TZID=UTC:20270513T133000
DTEND;TZID=UTC:20270513T163000
DTSTAMP:20260422T054012
CREATED:20250401T212620Z
LAST-MODIFIED:20250401T212620Z
UID:10016179-1810215000-1810225800@nepenthehoa.com
SUMMARY:Greetings Cards for Seniors (Library)
DESCRIPTION:  \nPlease login to view this page. \n \n\n\n \n\nSign in to Your Account\n\nfacevisibility\n\n\n\n\n\n    Lost your password?
URL:https://nepenthehoa.com/event/greetings-cards-for-seniors-library/2027-05-13/
LOCATION:Nepenthe Clubhouse\, 1131 Commons Drive\, Sacramento\, 95825\, United States
GEO:38.5660202;-121.4105373
X-APPLE-STRUCTURED-LOCATION;VALUE=URI;X-ADDRESS=Nepenthe Clubhouse 1131 Commons Drive Sacramento 95825 United States;X-APPLE-RADIUS=500;X-TITLE=1131 Commons Drive:geo:-121.4105373,38.5660202
END:VEVENT
BEGIN:VEVENT
DTSTART;TZID=UTC:20270515T100000
DTEND;TZID=UTC:20270515T120000
DTSTAMP:20260422T054012
CREATED:20231103T190029Z
LAST-MODIFIED:20260121T230849Z
UID:10018013-1810375200-1810382400@nepenthehoa.com
SUMMARY:Coffee Group (Clubhouse)
DESCRIPTION:  \nPlease login to view this page. \n \n\n\n \n\nSign in to Your Account\n\nfacevisibility\n\n\n\n\n\n    Lost your password?
URL:https://nepenthehoa.com/event/coffee-group-clubhouse/2027-05-15/
LOCATION:Nepenthe Clubhouse\, 1131 Commons Drive\, Sacramento\, 95825\, United States
GEO:38.5660202;-121.4105373
X-APPLE-STRUCTURED-LOCATION;VALUE=URI;X-ADDRESS=Nepenthe Clubhouse 1131 Commons Drive Sacramento 95825 United States;X-APPLE-RADIUS=500;X-TITLE=1131 Commons Drive:geo:-121.4105373,38.5660202
END:VEVENT
BEGIN:VEVENT
DTSTART;TZID=UTC:20270517T110000
DTEND;TZID=UTC:20270517T130000
DTSTAMP:20260422T054012
CREATED:20221128T183416Z
LAST-MODIFIED:20250701T165641Z
UID:10017046-1810551600-1810558800@nepenthehoa.com
SUMMARY:Mahjong Group (Clubhouse)
DESCRIPTION:  \nPlease login to view this page. \n \n\n\n \n\nSign in to Your Account\n\nfacevisibility\n\n\n\n\n\n    Lost your password?
URL:https://nepenthehoa.com/event/mahjongg-group-clubhouse/2027-05-17/
LOCATION:Nepenthe Clubhouse\, 1131 Commons Drive\, Sacramento\, 95825\, United States
GEO:38.5660202;-121.4105373
X-APPLE-STRUCTURED-LOCATION;VALUE=URI;X-ADDRESS=Nepenthe Clubhouse 1131 Commons Drive Sacramento 95825 United States;X-APPLE-RADIUS=500;X-TITLE=1131 Commons Drive:geo:-121.4105373,38.5660202
END:VEVENT
BEGIN:VEVENT
DTSTART;TZID=UTC:20270517T120000
DTEND;TZID=UTC:20270517T153000
DTSTAMP:20260422T054012
CREATED:20231103T192108Z
LAST-MODIFIED:20250723T182105Z
UID:10017264-1810555200-1810567800@nepenthehoa.com
SUMMARY:Canasta Group (Library)
DESCRIPTION:  \nPlease login to view this page. \n \n\n\n \n\nSign in to Your Account\n\nfacevisibility\n\n\n\n\n\n    Lost your password?
URL:https://nepenthehoa.com/event/canasta-library/2027-05-17/
LOCATION:Nepenthe Clubhouse\, 1131 Commons Drive\, Sacramento\, 95825\, United States
GEO:38.5660202;-121.4105373
X-APPLE-STRUCTURED-LOCATION;VALUE=URI;X-ADDRESS=Nepenthe Clubhouse 1131 Commons Drive Sacramento 95825 United States;X-APPLE-RADIUS=500;X-TITLE=1131 Commons Drive:geo:-121.4105373,38.5660202
END:VEVENT
BEGIN:VEVENT
DTSTART;TZID=UTC:20270517T160000
DTEND;TZID=UTC:20270517T170000
DTSTAMP:20260422T054012
CREATED:20260225T220400Z
LAST-MODIFIED:20260225T220402Z
UID:10018845-1810569600-1810573200@nepenthehoa.com
SUMMARY:Finance Committee Meeting
DESCRIPTION:  \nPlease login to view this page. \n \n\n\n \n\nSign in to Your Account\n\nfacevisibility\n\n\n\n\n\n    Lost your password?
URL:https://nepenthehoa.com/event/finance-committee-meeting-clubhouse-2-2-2/2027-05-17/
LOCATION:Nepenthe Clubhouse\, 1131 Commons Drive\, Sacramento\, 95825\, United States
GEO:38.5660202;-121.4105373
X-APPLE-STRUCTURED-LOCATION;VALUE=URI;X-ADDRESS=Nepenthe Clubhouse 1131 Commons Drive Sacramento 95825 United States;X-APPLE-RADIUS=500;X-TITLE=1131 Commons Drive:geo:-121.4105373,38.5660202
END:VEVENT
BEGIN:VEVENT
DTSTART;TZID=UTC:20270518T090000
DTEND;TZID=UTC:20270518T150000
DTSTAMP:20260422T054012
CREATED:20250129T175733Z
LAST-MODIFIED:20250129T175733Z
UID:10015536-1810630800-1810652400@nepenthehoa.com
SUMMARY:Bridge Group (Clubhouse)
DESCRIPTION:  \nPlease login to view this page. \n \n\n\n \n\nSign in to Your Account\n\nfacevisibility\n\n\n\n\n\n    Lost your password?
URL:https://nepenthehoa.com/event/bridge-group-clubhouse-2/2027-05-18/
LOCATION:Nepenthe Clubhouse\, 1131 Commons Drive\, Sacramento\, 95825\, United States
GEO:38.5660202;-121.4105373
X-APPLE-STRUCTURED-LOCATION;VALUE=URI;X-ADDRESS=Nepenthe Clubhouse 1131 Commons Drive Sacramento 95825 United States;X-APPLE-RADIUS=500;X-TITLE=1131 Commons Drive:geo:-121.4105373,38.5660202
END:VEVENT
BEGIN:VEVENT
DTSTART;TZID=UTC:20270518T100000
DTEND;TZID=UTC:20270518T130000
DTSTAMP:20260422T054012
CREATED:20260330T153450Z
LAST-MODIFIED:20260330T153451Z
UID:10016029-1810634400-1810645200@nepenthehoa.com
SUMMARY:Private Event (Cabana)
DESCRIPTION:  \nPlease login to view this page. \n \n\n\n \n\nSign in to Your Account\n\nfacevisibility\n\n\n\n\n\n    Lost your password?
URL:https://nepenthehoa.com/event/private-event-cabana-75-2/2027-05-18/
LOCATION:Dunbarton Cabana\, 150 Dunbarton Cir.\, Sacramento\, 95825\, United States
GEO:38.564129;-121.41026
X-APPLE-STRUCTURED-LOCATION;VALUE=URI;X-ADDRESS=Dunbarton Cabana 150 Dunbarton Cir. Sacramento 95825 United States;X-APPLE-RADIUS=500;X-TITLE=150 Dunbarton Cir.:geo:-121.41026,38.564129
END:VEVENT
BEGIN:VEVENT
DTSTART;TZID=UTC:20270518T123000
DTEND;TZID=UTC:20270518T153000
DTSTAMP:20260422T054012
CREATED:20231103T193146Z
LAST-MODIFIED:20260121T230942Z
UID:10018256-1810643400-1810654200@nepenthehoa.com
SUMMARY:Mahjong Group (Library)
DESCRIPTION:  \nPlease login to view this page. \n \n\n\n \n\nSign in to Your Account\n\nfacevisibility\n\n\n\n\n\n    Lost your password?
URL:https://nepenthehoa.com/event/mahjong-group/2027-05-18/
LOCATION:Nepenthe Clubhouse\, 1131 Commons Drive\, Sacramento\, 95825\, United States
GEO:38.5660202;-121.4105373
X-APPLE-STRUCTURED-LOCATION;VALUE=URI;X-ADDRESS=Nepenthe Clubhouse 1131 Commons Drive Sacramento 95825 United States;X-APPLE-RADIUS=500;X-TITLE=1131 Commons Drive:geo:-121.4105373,38.5660202
END:VEVENT
BEGIN:VEVENT
DTSTART;TZID=UTC:20270519T100000
DTEND;TZID=UTC:20270519T143000
DTSTAMP:20260422T054012
CREATED:20231108T231058Z
LAST-MODIFIED:20250723T182146Z
UID:10017481-1810720800-1810737000@nepenthehoa.com
SUMMARY:Bridge Group (Library)
DESCRIPTION:  \nPlease login to view this page. \n \n\n\n \n\nSign in to Your Account\n\nfacevisibility\n\n\n\n\n\n    Lost your password?
URL:https://nepenthehoa.com/event/bridge-library-2/2027-05-19/
LOCATION:Nepenthe Clubhouse\, 1131 Commons Drive\, Sacramento\, 95825\, United States
GEO:38.5660202;-121.4105373
X-APPLE-STRUCTURED-LOCATION;VALUE=URI;X-ADDRESS=Nepenthe Clubhouse 1131 Commons Drive Sacramento 95825 United States;X-APPLE-RADIUS=500;X-TITLE=1131 Commons Drive:geo:-121.4105373,38.5660202
END:VEVENT
END:VCALENDAR