BEGIN:VCALENDAR
VERSION:2.0
PRODID:-//Nepenthe - ECPv6.15.17.1//NONSGML v1.0//EN
CALSCALE:GREGORIAN
METHOD:PUBLISH
X-WR-CALNAME:Nepenthe
X-ORIGINAL-URL:https://nepenthehoa.com
X-WR-CALDESC:Events for Nepenthe
REFRESH-INTERVAL;VALUE=DURATION:PT1H
X-Robots-Tag:noindex
X-PUBLISHED-TTL:PT1H
BEGIN:VTIMEZONE
TZID:UTC
BEGIN:STANDARD
TZOFFSETFROM:+0000
TZOFFSETTO:+0000
TZNAME:UTC
DTSTART:20240101T000000
END:STANDARD
END:VTIMEZONE
BEGIN:VEVENT
DTSTART;TZID=UTC:20251110T110000
DTEND;TZID=UTC:20251110T130000
DTSTAMP:20260422T014953
CREATED:20221128T183416Z
LAST-MODIFIED:20250701T165641Z
UID:10016967-1762772400-1762779600@nepenthehoa.com
SUMMARY:Mahjong Group (Clubhouse)
DESCRIPTION:  \nPlease login to view this page. \n \n\n\n \n\nSign in to Your Account\n\nfacevisibility\n\n\n\n\n\n    Lost your password?
URL:https://nepenthehoa.com/event/mahjongg-group-clubhouse/2025-11-10/
LOCATION:Nepenthe Clubhouse\, 1131 Commons Drive\, Sacramento\, 95825\, United States
GEO:38.5660202;-121.4105373
X-APPLE-STRUCTURED-LOCATION;VALUE=URI;X-ADDRESS=Nepenthe Clubhouse 1131 Commons Drive Sacramento 95825 United States;X-APPLE-RADIUS=500;X-TITLE=1131 Commons Drive:geo:-121.4105373,38.5660202
END:VEVENT
BEGIN:VEVENT
DTSTART;TZID=UTC:20251108T110000
DTEND;TZID=UTC:20251108T150000
DTSTAMP:20260422T014953
CREATED:20250218T174522Z
LAST-MODIFIED:20251027T221032Z
UID:10016078-1762599600-1762614000@nepenthehoa.com
SUMMARY:Arts and Crafts Fair (Clubhouse)
DESCRIPTION:  \nPlease login to view this page. \n \n\n\n \n\nSign in to Your Account\n\nfacevisibility\n\n\n\n\n\n    Lost your password?
URL:https://nepenthehoa.com/event/private-event-clubhouse-100/
LOCATION:Nepenthe Clubhouse\, 1131 Commons Drive\, Sacramento\, 95825\, United States
GEO:38.5660202;-121.4105373
X-APPLE-STRUCTURED-LOCATION;VALUE=URI;X-ADDRESS=Nepenthe Clubhouse 1131 Commons Drive Sacramento 95825 United States;X-APPLE-RADIUS=500;X-TITLE=1131 Commons Drive:geo:-121.4105373,38.5660202
END:VEVENT
BEGIN:VEVENT
DTSTART;TZID=UTC:20251108T100000
DTEND;TZID=UTC:20251108T120000
DTSTAMP:20260422T014953
CREATED:20231103T190029Z
LAST-MODIFIED:20260121T230849Z
UID:10010950-1762596000-1762603200@nepenthehoa.com
SUMMARY:Coffee Group (Clubhouse)
DESCRIPTION:  \nPlease login to view this page. \n \n\n\n \n\nSign in to Your Account\n\nfacevisibility\n\n\n\n\n\n    Lost your password?
URL:https://nepenthehoa.com/event/coffee-group-clubhouse/2025-11-08/
LOCATION:Nepenthe Clubhouse\, 1131 Commons Drive\, Sacramento\, 95825\, United States
GEO:38.5660202;-121.4105373
X-APPLE-STRUCTURED-LOCATION;VALUE=URI;X-ADDRESS=Nepenthe Clubhouse 1131 Commons Drive Sacramento 95825 United States;X-APPLE-RADIUS=500;X-TITLE=1131 Commons Drive:geo:-121.4105373,38.5660202
END:VEVENT
BEGIN:VEVENT
DTSTART;TZID=UTC:20251108T090000
DTEND;TZID=UTC:20251108T120000
DTSTAMP:20260422T014953
CREATED:20240229T190709Z
LAST-MODIFIED:20240229T192107Z
UID:10015085-1762592400-1762603200@nepenthehoa.com
SUMMARY:Pickleball
DESCRIPTION:  \nPlease login to view this page. \n \n\n\n \n\nSign in to Your Account\n\nfacevisibility\n\n\n\n\n\n    Lost your password?
URL:https://nepenthehoa.com/event/pickleball/2025-11-08/
LOCATION:Nepenthe Clubhouse\, 1131 Commons Drive\, Sacramento\, 95825\, United States
GEO:38.5660202;-121.4105373
X-APPLE-STRUCTURED-LOCATION;VALUE=URI;X-ADDRESS=Nepenthe Clubhouse 1131 Commons Drive Sacramento 95825 United States;X-APPLE-RADIUS=500;X-TITLE=1131 Commons Drive:geo:-121.4105373,38.5660202
END:VEVENT
BEGIN:VEVENT
DTSTART;TZID=UTC:20251106T163000
DTEND;TZID=UTC:20251106T173000
DTSTAMP:20260422T014953
CREATED:20250129T195747Z
LAST-MODIFIED:20251107T171736Z
UID:10015944-1762446600-1762450200@nepenthehoa.com
SUMMARY:Architectural Committee Meeting
DESCRIPTION:  \nPlease login to view this page. \n \n\n\n \n\nSign in to Your Account\n\nfacevisibility\n\n\n\n\n\n    Lost your password?
URL:https://nepenthehoa.com/event/architectural-committee-meeting-3-2/2025-11-06/
LOCATION:Nepenthe Clubhouse\, 1131 Commons Drive\, Sacramento\, 95825\, United States
GEO:38.5660202;-121.4105373
X-APPLE-STRUCTURED-LOCATION;VALUE=URI;X-ADDRESS=Nepenthe Clubhouse 1131 Commons Drive Sacramento 95825 United States;X-APPLE-RADIUS=500;X-TITLE=1131 Commons Drive:geo:-121.4105373,38.5660202
END:VEVENT
BEGIN:VEVENT
DTSTART;TZID=UTC:20251106T090000
DTEND;TZID=UTC:20251106T120000
DTSTAMP:20260422T014953
CREATED:20240229T190709Z
LAST-MODIFIED:20240229T192107Z
UID:10015084-1762419600-1762430400@nepenthehoa.com
SUMMARY:Pickleball
DESCRIPTION:  \nPlease login to view this page. \n \n\n\n \n\nSign in to Your Account\n\nfacevisibility\n\n\n\n\n\n    Lost your password?
URL:https://nepenthehoa.com/event/pickleball/2025-11-06/
LOCATION:Nepenthe Clubhouse\, 1131 Commons Drive\, Sacramento\, 95825\, United States
GEO:38.5660202;-121.4105373
X-APPLE-STRUCTURED-LOCATION;VALUE=URI;X-ADDRESS=Nepenthe Clubhouse 1131 Commons Drive Sacramento 95825 United States;X-APPLE-RADIUS=500;X-TITLE=1131 Commons Drive:geo:-121.4105373,38.5660202
END:VEVENT
BEGIN:VEVENT
DTSTART;TZID=UTC:20251105T180000
DTEND;TZID=UTC:20251105T200000
DTSTAMP:20260422T014953
CREATED:20231228T180317Z
LAST-MODIFIED:20251204T220644Z
UID:10011490-1762365600-1762372800@nepenthehoa.com
SUMMARY:Open Board Meeting
DESCRIPTION:  \nPlease login to view this page. \n \n\n\n \n\nSign in to Your Account\n\nfacevisibility\n\n\n\n\n\n    Lost your password?
URL:https://nepenthehoa.com/event/open-board-meeting/2025-11-05/
LOCATION:Nepenthe Clubhouse\, 1131 Commons Drive\, Sacramento\, 95825\, United States
GEO:38.5660202;-121.4105373
X-APPLE-STRUCTURED-LOCATION;VALUE=URI;X-ADDRESS=Nepenthe Clubhouse 1131 Commons Drive Sacramento 95825 United States;X-APPLE-RADIUS=500;X-TITLE=1131 Commons Drive:geo:-121.4105373,38.5660202
END:VEVENT
BEGIN:VEVENT
DTSTART;TZID=UTC:20251105T143000
DTEND;TZID=UTC:20251105T163000
DTSTAMP:20260422T014953
CREATED:20211118T190005Z
LAST-MODIFIED:20260121T231120Z
UID:10012425-1762353000-1762360200@nepenthehoa.com
SUMMARY:Alley Cats (Library)
DESCRIPTION:  \nPlease login to view this page. \n \n\n\n \n\nSign in to Your Account\n\nfacevisibility\n\n\n\n\n\n    Lost your password?
URL:https://nepenthehoa.com/event/alley-cats-group-library/2025-11-05/
LOCATION:Nepenthe Clubhouse\, 1131 Commons Drive\, Sacramento\, 95825\, United States
GEO:38.5660202;-121.4105373
X-APPLE-STRUCTURED-LOCATION;VALUE=URI;X-ADDRESS=Nepenthe Clubhouse 1131 Commons Drive Sacramento 95825 United States;X-APPLE-RADIUS=500;X-TITLE=1131 Commons Drive:geo:-121.4105373,38.5660202
END:VEVENT
BEGIN:VEVENT
DTSTART;TZID=UTC:20251105T100000
DTEND;TZID=UTC:20251105T143000
DTSTAMP:20260422T014953
CREATED:20231108T231058Z
LAST-MODIFIED:20250723T182146Z
UID:10011384-1762336800-1762353000@nepenthehoa.com
SUMMARY:Bridge Group (Library)
DESCRIPTION:  \nPlease login to view this page. \n \n\n\n \n\nSign in to Your Account\n\nfacevisibility\n\n\n\n\n\n    Lost your password?
URL:https://nepenthehoa.com/event/bridge-library-2/2025-11-05/
LOCATION:Nepenthe Clubhouse\, 1131 Commons Drive\, Sacramento\, 95825\, United States
GEO:38.5660202;-121.4105373
X-APPLE-STRUCTURED-LOCATION;VALUE=URI;X-ADDRESS=Nepenthe Clubhouse 1131 Commons Drive Sacramento 95825 United States;X-APPLE-RADIUS=500;X-TITLE=1131 Commons Drive:geo:-121.4105373,38.5660202
END:VEVENT
BEGIN:VEVENT
DTSTART;TZID=UTC:20251105T090000
DTEND;TZID=UTC:20251105T120000
DTSTAMP:20260422T014953
CREATED:20240229T190709Z
LAST-MODIFIED:20240229T192107Z
UID:10015083-1762333200-1762344000@nepenthehoa.com
SUMMARY:Pickleball
DESCRIPTION:  \nPlease login to view this page. \n \n\n\n \n\nSign in to Your Account\n\nfacevisibility\n\n\n\n\n\n    Lost your password?
URL:https://nepenthehoa.com/event/pickleball/2025-11-05/
LOCATION:Nepenthe Clubhouse\, 1131 Commons Drive\, Sacramento\, 95825\, United States
GEO:38.5660202;-121.4105373
X-APPLE-STRUCTURED-LOCATION;VALUE=URI;X-ADDRESS=Nepenthe Clubhouse 1131 Commons Drive Sacramento 95825 United States;X-APPLE-RADIUS=500;X-TITLE=1131 Commons Drive:geo:-121.4105373,38.5660202
END:VEVENT
BEGIN:VEVENT
DTSTART;TZID=UTC:20251104T123000
DTEND;TZID=UTC:20251104T153000
DTSTAMP:20260422T014953
CREATED:20231103T193146Z
LAST-MODIFIED:20260121T230942Z
UID:10011219-1762259400-1762270200@nepenthehoa.com
SUMMARY:Mahjong Group (Library)
DESCRIPTION:  \nPlease login to view this page. \n \n\n\n \n\nSign in to Your Account\n\nfacevisibility\n\n\n\n\n\n    Lost your password?
URL:https://nepenthehoa.com/event/mahjong-group/2025-11-04/
LOCATION:Nepenthe Clubhouse\, 1131 Commons Drive\, Sacramento\, 95825\, United States
GEO:38.5660202;-121.4105373
X-APPLE-STRUCTURED-LOCATION;VALUE=URI;X-ADDRESS=Nepenthe Clubhouse 1131 Commons Drive Sacramento 95825 United States;X-APPLE-RADIUS=500;X-TITLE=1131 Commons Drive:geo:-121.4105373,38.5660202
END:VEVENT
BEGIN:VEVENT
DTSTART;TZID=UTC:20251104T100000
DTEND;TZID=UTC:20251104T120000
DTSTAMP:20260422T014953
CREATED:20250131T181438Z
LAST-MODIFIED:20250723T182839Z
UID:10016074-1762250400-1762257600@nepenthehoa.com
SUMMARY:Executive Board Meeting
DESCRIPTION:  \nPlease login to view this page. \n \n\n\n \n\nSign in to Your Account\n\nfacevisibility\n\n\n\n\n\n    Lost your password?
URL:https://nepenthehoa.com/event/executive-board-meeting-10/
LOCATION:Nepenthe Clubhouse\, 1131 Commons Drive\, Sacramento\, 95825\, United States
GEO:38.5660202;-121.4105373
X-APPLE-STRUCTURED-LOCATION;VALUE=URI;X-ADDRESS=Nepenthe Clubhouse 1131 Commons Drive Sacramento 95825 United States;X-APPLE-RADIUS=500;X-TITLE=1131 Commons Drive:geo:-121.4105373,38.5660202
END:VEVENT
BEGIN:VEVENT
DTSTART;TZID=UTC:20251104T093000
DTEND;TZID=UTC:20251104T120000
DTSTAMP:20260422T014953
CREATED:20250520T180214Z
LAST-MODIFIED:20250520T180214Z
UID:10016675-1762248600-1762257600@nepenthehoa.com
SUMMARY:Renaissance Photo Club (Clubhouse)
DESCRIPTION:  \nPlease login to view this page. \n \n\n\n \n\nSign in to Your Account\n\nfacevisibility\n\n\n\n\n\n    Lost your password?
URL:https://nepenthehoa.com/event/renaissance-photo-club-clubhouse-2/
LOCATION:Nepenthe Clubhouse\, 1131 Commons Drive\, Sacramento\, 95825\, United States
GEO:38.5660202;-121.4105373
X-APPLE-STRUCTURED-LOCATION;VALUE=URI;X-ADDRESS=Nepenthe Clubhouse 1131 Commons Drive Sacramento 95825 United States;X-APPLE-RADIUS=500;X-TITLE=1131 Commons Drive:geo:-121.4105373,38.5660202
END:VEVENT
BEGIN:VEVENT
DTSTART;TZID=UTC:20251104T090000
DTEND;TZID=UTC:20251104T150000
DTSTAMP:20260422T014953
CREATED:20250129T175529Z
LAST-MODIFIED:20260121T231027Z
UID:10015579-1762246800-1762268400@nepenthehoa.com
SUMMARY:Bridge Group (Clubhouse)
DESCRIPTION:  \nPlease login to view this page. \n \n\n\n \n\nSign in to Your Account\n\nfacevisibility\n\n\n\n\n\n    Lost your password?
URL:https://nepenthehoa.com/event/bridge-group-clubhouse/2025-11-04/
LOCATION:Nepenthe Clubhouse\, 1131 Commons Drive\, Sacramento\, 95825\, United States
GEO:38.5660202;-121.4105373
X-APPLE-STRUCTURED-LOCATION;VALUE=URI;X-ADDRESS=Nepenthe Clubhouse 1131 Commons Drive Sacramento 95825 United States;X-APPLE-RADIUS=500;X-TITLE=1131 Commons Drive:geo:-121.4105373,38.5660202
END:VEVENT
BEGIN:VEVENT
DTSTART;TZID=UTC:20251104T090000
DTEND;TZID=UTC:20251104T120000
DTSTAMP:20260422T014953
CREATED:20240229T190709Z
LAST-MODIFIED:20240229T192107Z
UID:10015082-1762246800-1762257600@nepenthehoa.com
SUMMARY:Pickleball
DESCRIPTION:  \nPlease login to view this page. \n \n\n\n \n\nSign in to Your Account\n\nfacevisibility\n\n\n\n\n\n    Lost your password?
URL:https://nepenthehoa.com/event/pickleball/2025-11-04/
LOCATION:Nepenthe Clubhouse\, 1131 Commons Drive\, Sacramento\, 95825\, United States
GEO:38.5660202;-121.4105373
X-APPLE-STRUCTURED-LOCATION;VALUE=URI;X-ADDRESS=Nepenthe Clubhouse 1131 Commons Drive Sacramento 95825 United States;X-APPLE-RADIUS=500;X-TITLE=1131 Commons Drive:geo:-121.4105373,38.5660202
END:VEVENT
BEGIN:VEVENT
DTSTART;TZID=UTC:20251103T120000
DTEND;TZID=UTC:20251103T153000
DTSTAMP:20260422T014953
CREATED:20231103T192108Z
LAST-MODIFIED:20250723T182105Z
UID:10011085-1762171200-1762183800@nepenthehoa.com
SUMMARY:Canasta Group (Library)
DESCRIPTION:  \nPlease login to view this page. \n \n\n\n \n\nSign in to Your Account\n\nfacevisibility\n\n\n\n\n\n    Lost your password?
URL:https://nepenthehoa.com/event/canasta-library/2025-11-03/
LOCATION:Nepenthe Clubhouse\, 1131 Commons Drive\, Sacramento\, 95825\, United States
GEO:38.5660202;-121.4105373
X-APPLE-STRUCTURED-LOCATION;VALUE=URI;X-ADDRESS=Nepenthe Clubhouse 1131 Commons Drive Sacramento 95825 United States;X-APPLE-RADIUS=500;X-TITLE=1131 Commons Drive:geo:-121.4105373,38.5660202
END:VEVENT
BEGIN:VEVENT
DTSTART;TZID=UTC:20251103T110000
DTEND;TZID=UTC:20251103T130000
DTSTAMP:20260422T014953
CREATED:20221128T183416Z
LAST-MODIFIED:20250701T165641Z
UID:10016966-1762167600-1762174800@nepenthehoa.com
SUMMARY:Mahjong Group (Clubhouse)
DESCRIPTION:  \nPlease login to view this page. \n \n\n\n \n\nSign in to Your Account\n\nfacevisibility\n\n\n\n\n\n    Lost your password?
URL:https://nepenthehoa.com/event/mahjongg-group-clubhouse/2025-11-03/
LOCATION:Nepenthe Clubhouse\, 1131 Commons Drive\, Sacramento\, 95825\, United States
GEO:38.5660202;-121.4105373
X-APPLE-STRUCTURED-LOCATION;VALUE=URI;X-ADDRESS=Nepenthe Clubhouse 1131 Commons Drive Sacramento 95825 United States;X-APPLE-RADIUS=500;X-TITLE=1131 Commons Drive:geo:-121.4105373,38.5660202
END:VEVENT
BEGIN:VEVENT
DTSTART;TZID=UTC:20251101T123000
DTEND;TZID=UTC:20251101T153000
DTSTAMP:20260422T014953
CREATED:20251029T204605Z
LAST-MODIFIED:20251029T204605Z
UID:10017688-1762000200-1762011000@nepenthehoa.com
SUMMARY:Private Event (Clubhouse)
DESCRIPTION:  \nPlease login to view this page. \n \n\n\n \n\nSign in to Your Account\n\nfacevisibility\n\n\n\n\n\n    Lost your password?
URL:https://nepenthehoa.com/event/private-event-clubhouse-127/
LOCATION:Nepenthe Clubhouse\, 1131 Commons Drive\, Sacramento\, 95825\, United States
GEO:38.5660202;-121.4105373
X-APPLE-STRUCTURED-LOCATION;VALUE=URI;X-ADDRESS=Nepenthe Clubhouse 1131 Commons Drive Sacramento 95825 United States;X-APPLE-RADIUS=500;X-TITLE=1131 Commons Drive:geo:-121.4105373,38.5660202
END:VEVENT
BEGIN:VEVENT
DTSTART;TZID=UTC:20251101T100000
DTEND;TZID=UTC:20251101T120000
DTSTAMP:20260422T014953
CREATED:20231103T190029Z
LAST-MODIFIED:20260121T230849Z
UID:10010949-1761991200-1761998400@nepenthehoa.com
SUMMARY:Coffee Group (Clubhouse)
DESCRIPTION:  \nPlease login to view this page. \n \n\n\n \n\nSign in to Your Account\n\nfacevisibility\n\n\n\n\n\n    Lost your password?
URL:https://nepenthehoa.com/event/coffee-group-clubhouse/2025-11-01/
LOCATION:Nepenthe Clubhouse\, 1131 Commons Drive\, Sacramento\, 95825\, United States
GEO:38.5660202;-121.4105373
X-APPLE-STRUCTURED-LOCATION;VALUE=URI;X-ADDRESS=Nepenthe Clubhouse 1131 Commons Drive Sacramento 95825 United States;X-APPLE-RADIUS=500;X-TITLE=1131 Commons Drive:geo:-121.4105373,38.5660202
END:VEVENT
BEGIN:VEVENT
DTSTART;TZID=UTC:20251101T090000
DTEND;TZID=UTC:20251101T120000
DTSTAMP:20260422T014953
CREATED:20240229T190709Z
LAST-MODIFIED:20240229T192107Z
UID:10015081-1761987600-1761998400@nepenthehoa.com
SUMMARY:Pickleball
DESCRIPTION:  \nPlease login to view this page. \n \n\n\n \n\nSign in to Your Account\n\nfacevisibility\n\n\n\n\n\n    Lost your password?
URL:https://nepenthehoa.com/event/pickleball/2025-11-01/
LOCATION:Nepenthe Clubhouse\, 1131 Commons Drive\, Sacramento\, 95825\, United States
GEO:38.5660202;-121.4105373
X-APPLE-STRUCTURED-LOCATION;VALUE=URI;X-ADDRESS=Nepenthe Clubhouse 1131 Commons Drive Sacramento 95825 United States;X-APPLE-RADIUS=500;X-TITLE=1131 Commons Drive:geo:-121.4105373,38.5660202
END:VEVENT
BEGIN:VEVENT
DTSTART;TZID=UTC:20251031T190000
DTEND;TZID=UTC:20251031T220000
DTSTAMP:20260422T014953
CREATED:20250918T194254Z
LAST-MODIFIED:20251027T220939Z
UID:10017683-1761937200-1761948000@nepenthehoa.com
SUMMARY:Halloween Masquerade Party (Clubhouse)
DESCRIPTION:  \nPlease login to view this page. \n \n\n\n \n\nSign in to Your Account\n\nfacevisibility\n\n\n\n\n\n    Lost your password?
URL:https://nepenthehoa.com/event/outreach-event-clubhouse/
LOCATION:Nepenthe Clubhouse\, 1131 Commons Drive\, Sacramento\, 95825\, United States
GEO:38.5660202;-121.4105373
X-APPLE-STRUCTURED-LOCATION;VALUE=URI;X-ADDRESS=Nepenthe Clubhouse 1131 Commons Drive Sacramento 95825 United States;X-APPLE-RADIUS=500;X-TITLE=1131 Commons Drive:geo:-121.4105373,38.5660202
END:VEVENT
BEGIN:VEVENT
DTSTART;TZID=UTC:20251030T170000
DTEND;TZID=UTC:20251030T220000
DTSTAMP:20260422T014953
CREATED:20251020T153524Z
LAST-MODIFIED:20251020T155012Z
UID:10017686-1761843600-1761861600@nepenthehoa.com
SUMMARY:Outreach Reservation (Clubhouse)
DESCRIPTION:  \nPlease login to view this page. \n \n\n\n \n\nSign in to Your Account\n\nfacevisibility\n\n\n\n\n\n    Lost your password?
URL:https://nepenthehoa.com/event/outreach-reservation-clubhouse-2/
LOCATION:Nepenthe Clubhouse\, 1131 Commons Drive\, Sacramento\, 95825\, United States
GEO:38.5660202;-121.4105373
X-APPLE-STRUCTURED-LOCATION;VALUE=URI;X-ADDRESS=Nepenthe Clubhouse 1131 Commons Drive Sacramento 95825 United States;X-APPLE-RADIUS=500;X-TITLE=1131 Commons Drive:geo:-121.4105373,38.5660202
END:VEVENT
BEGIN:VEVENT
DTSTART;TZID=UTC:20251030T090000
DTEND;TZID=UTC:20251030T120000
DTSTAMP:20260422T014953
CREATED:20240229T190709Z
LAST-MODIFIED:20240229T192107Z
UID:10015080-1761814800-1761825600@nepenthehoa.com
SUMMARY:Pickleball
DESCRIPTION:  \nPlease login to view this page. \n \n\n\n \n\nSign in to Your Account\n\nfacevisibility\n\n\n\n\n\n    Lost your password?
URL:https://nepenthehoa.com/event/pickleball/2025-10-30/
LOCATION:Nepenthe Clubhouse\, 1131 Commons Drive\, Sacramento\, 95825\, United States
GEO:38.5660202;-121.4105373
X-APPLE-STRUCTURED-LOCATION;VALUE=URI;X-ADDRESS=Nepenthe Clubhouse 1131 Commons Drive Sacramento 95825 United States;X-APPLE-RADIUS=500;X-TITLE=1131 Commons Drive:geo:-121.4105373,38.5660202
END:VEVENT
BEGIN:VEVENT
DTSTART;TZID=UTC:20251029T143000
DTEND;TZID=UTC:20251029T163000
DTSTAMP:20260422T014953
CREATED:20211118T190005Z
LAST-MODIFIED:20260121T231120Z
UID:10012424-1761748200-1761755400@nepenthehoa.com
SUMMARY:Alley Cats (Library)
DESCRIPTION:  \nPlease login to view this page. \n \n\n\n \n\nSign in to Your Account\n\nfacevisibility\n\n\n\n\n\n    Lost your password?
URL:https://nepenthehoa.com/event/alley-cats-group-library/2025-10-29/
LOCATION:Nepenthe Clubhouse\, 1131 Commons Drive\, Sacramento\, 95825\, United States
GEO:38.5660202;-121.4105373
X-APPLE-STRUCTURED-LOCATION;VALUE=URI;X-ADDRESS=Nepenthe Clubhouse 1131 Commons Drive Sacramento 95825 United States;X-APPLE-RADIUS=500;X-TITLE=1131 Commons Drive:geo:-121.4105373,38.5660202
END:VEVENT
BEGIN:VEVENT
DTSTART;TZID=UTC:20251029T110000
DTEND;TZID=UTC:20251029T150000
DTSTAMP:20260422T014953
CREATED:20251023T232513Z
LAST-MODIFIED:20251023T232513Z
UID:10017687-1761735600-1761750000@nepenthehoa.com
SUMMARY:Executive Board Meeting
DESCRIPTION:  \nPlease login to view this page. \n \n\n\n \n\nSign in to Your Account\n\nfacevisibility\n\n\n\n\n\n    Lost your password?
URL:https://nepenthehoa.com/event/executive-board-meeting-12/
LOCATION:Nepenthe Clubhouse\, 1131 Commons Drive\, Sacramento\, 95825\, United States
GEO:38.5660202;-121.4105373
X-APPLE-STRUCTURED-LOCATION;VALUE=URI;X-ADDRESS=Nepenthe Clubhouse 1131 Commons Drive Sacramento 95825 United States;X-APPLE-RADIUS=500;X-TITLE=1131 Commons Drive:geo:-121.4105373,38.5660202
END:VEVENT
BEGIN:VEVENT
DTSTART;TZID=UTC:20251029T100000
DTEND;TZID=UTC:20251029T143000
DTSTAMP:20260422T014953
CREATED:20231108T231058Z
LAST-MODIFIED:20250723T182146Z
UID:10011383-1761732000-1761748200@nepenthehoa.com
SUMMARY:Bridge Group (Library)
DESCRIPTION:  \nPlease login to view this page. \n \n\n\n \n\nSign in to Your Account\n\nfacevisibility\n\n\n\n\n\n    Lost your password?
URL:https://nepenthehoa.com/event/bridge-library-2/2025-10-29/
LOCATION:Nepenthe Clubhouse\, 1131 Commons Drive\, Sacramento\, 95825\, United States
GEO:38.5660202;-121.4105373
X-APPLE-STRUCTURED-LOCATION;VALUE=URI;X-ADDRESS=Nepenthe Clubhouse 1131 Commons Drive Sacramento 95825 United States;X-APPLE-RADIUS=500;X-TITLE=1131 Commons Drive:geo:-121.4105373,38.5660202
END:VEVENT
BEGIN:VEVENT
DTSTART;TZID=UTC:20251029T090000
DTEND;TZID=UTC:20251029T120000
DTSTAMP:20260422T014953
CREATED:20240229T190709Z
LAST-MODIFIED:20240229T192107Z
UID:10015079-1761728400-1761739200@nepenthehoa.com
SUMMARY:Pickleball
DESCRIPTION:  \nPlease login to view this page. \n \n\n\n \n\nSign in to Your Account\n\nfacevisibility\n\n\n\n\n\n    Lost your password?
URL:https://nepenthehoa.com/event/pickleball/2025-10-29/
LOCATION:Nepenthe Clubhouse\, 1131 Commons Drive\, Sacramento\, 95825\, United States
GEO:38.5660202;-121.4105373
X-APPLE-STRUCTURED-LOCATION;VALUE=URI;X-ADDRESS=Nepenthe Clubhouse 1131 Commons Drive Sacramento 95825 United States;X-APPLE-RADIUS=500;X-TITLE=1131 Commons Drive:geo:-121.4105373,38.5660202
END:VEVENT
BEGIN:VEVENT
DTSTART;TZID=UTC:20251028T123000
DTEND;TZID=UTC:20251028T153000
DTSTAMP:20260422T014953
CREATED:20231103T193146Z
LAST-MODIFIED:20260121T230942Z
UID:10011218-1761654600-1761665400@nepenthehoa.com
SUMMARY:Mahjong Group (Library)
DESCRIPTION:  \nPlease login to view this page. \n \n\n\n \n\nSign in to Your Account\n\nfacevisibility\n\n\n\n\n\n    Lost your password?
URL:https://nepenthehoa.com/event/mahjong-group/2025-10-28/
LOCATION:Nepenthe Clubhouse\, 1131 Commons Drive\, Sacramento\, 95825\, United States
GEO:38.5660202;-121.4105373
X-APPLE-STRUCTURED-LOCATION;VALUE=URI;X-ADDRESS=Nepenthe Clubhouse 1131 Commons Drive Sacramento 95825 United States;X-APPLE-RADIUS=500;X-TITLE=1131 Commons Drive:geo:-121.4105373,38.5660202
END:VEVENT
BEGIN:VEVENT
DTSTART;TZID=UTC:20251028T090000
DTEND;TZID=UTC:20251028T120000
DTSTAMP:20260422T014953
CREATED:20240229T190709Z
LAST-MODIFIED:20240229T192107Z
UID:10015078-1761642000-1761652800@nepenthehoa.com
SUMMARY:Pickleball
DESCRIPTION:  \nPlease login to view this page. \n \n\n\n \n\nSign in to Your Account\n\nfacevisibility\n\n\n\n\n\n    Lost your password?
URL:https://nepenthehoa.com/event/pickleball/2025-10-28/
LOCATION:Nepenthe Clubhouse\, 1131 Commons Drive\, Sacramento\, 95825\, United States
GEO:38.5660202;-121.4105373
X-APPLE-STRUCTURED-LOCATION;VALUE=URI;X-ADDRESS=Nepenthe Clubhouse 1131 Commons Drive Sacramento 95825 United States;X-APPLE-RADIUS=500;X-TITLE=1131 Commons Drive:geo:-121.4105373,38.5660202
END:VEVENT
BEGIN:VEVENT
DTSTART;TZID=UTC:20251027T120000
DTEND;TZID=UTC:20251027T153000
DTSTAMP:20260422T014953
CREATED:20231103T192108Z
LAST-MODIFIED:20250723T182105Z
UID:10011084-1761566400-1761579000@nepenthehoa.com
SUMMARY:Canasta Group (Library)
DESCRIPTION:  \nPlease login to view this page. \n \n\n\n \n\nSign in to Your Account\n\nfacevisibility\n\n\n\n\n\n    Lost your password?
URL:https://nepenthehoa.com/event/canasta-library/2025-10-27/
LOCATION:Nepenthe Clubhouse\, 1131 Commons Drive\, Sacramento\, 95825\, United States
GEO:38.5660202;-121.4105373
X-APPLE-STRUCTURED-LOCATION;VALUE=URI;X-ADDRESS=Nepenthe Clubhouse 1131 Commons Drive Sacramento 95825 United States;X-APPLE-RADIUS=500;X-TITLE=1131 Commons Drive:geo:-121.4105373,38.5660202
END:VEVENT
END:VCALENDAR