BEGIN:VCALENDAR
VERSION:2.0
PRODID:-//Nepenthe - ECPv6.15.17.1//NONSGML v1.0//EN
CALSCALE:GREGORIAN
METHOD:PUBLISH
X-WR-CALNAME:Nepenthe
X-ORIGINAL-URL:https://nepenthehoa.com
X-WR-CALDESC:Events for Nepenthe
REFRESH-INTERVAL;VALUE=DURATION:PT1H
X-Robots-Tag:noindex
X-PUBLISHED-TTL:PT1H
BEGIN:VTIMEZONE
TZID:UTC
BEGIN:STANDARD
TZOFFSETFROM:+0000
TZOFFSETTO:+0000
TZNAME:UTC
DTSTART:20240101T000000
END:STANDARD
END:VTIMEZONE
BEGIN:VEVENT
DTSTART;TZID=UTC:20251218T150000
DTEND;TZID=UTC:20251218T170000
DTSTAMP:20260421T123244
CREATED:20250902T163146Z
LAST-MODIFIED:20260224T164653Z
UID:10015886-1766070000-1766077200@nepenthehoa.com
SUMMARY:Grounds Committee Meeting
DESCRIPTION:  \nPlease login to view this page. \n \n\n\n \n\nSign in to Your Account\n\nfacevisibility\n\n\n\n\n\n    Lost your password?
URL:https://nepenthehoa.com/event/grounds-committee-meeting-4-2-2/2025-12-18/
LOCATION:Nepenthe Clubhouse\, 1131 Commons Drive\, Sacramento\, 95825\, United States
GEO:38.5660202;-121.4105373
X-APPLE-STRUCTURED-LOCATION;VALUE=URI;X-ADDRESS=Nepenthe Clubhouse 1131 Commons Drive Sacramento 95825 United States;X-APPLE-RADIUS=500;X-TITLE=1131 Commons Drive:geo:-121.4105373,38.5660202
END:VEVENT
BEGIN:VEVENT
DTSTART;TZID=UTC:20251218T090000
DTEND;TZID=UTC:20251218T120000
DTSTAMP:20260421T123244
CREATED:20240229T190709Z
LAST-MODIFIED:20240229T192107Z
UID:10015108-1766048400-1766059200@nepenthehoa.com
SUMMARY:Pickleball
DESCRIPTION:  \nPlease login to view this page. \n \n\n\n \n\nSign in to Your Account\n\nfacevisibility\n\n\n\n\n\n    Lost your password?
URL:https://nepenthehoa.com/event/pickleball/2025-12-18/
LOCATION:Nepenthe Clubhouse\, 1131 Commons Drive\, Sacramento\, 95825\, United States
GEO:38.5660202;-121.4105373
X-APPLE-STRUCTURED-LOCATION;VALUE=URI;X-ADDRESS=Nepenthe Clubhouse 1131 Commons Drive Sacramento 95825 United States;X-APPLE-RADIUS=500;X-TITLE=1131 Commons Drive:geo:-121.4105373,38.5660202
END:VEVENT
BEGIN:VEVENT
DTSTART;TZID=UTC:20251217T143000
DTEND;TZID=UTC:20251217T163000
DTSTAMP:20260421T123244
CREATED:20211118T190005Z
LAST-MODIFIED:20260121T231120Z
UID:10012431-1765981800-1765989000@nepenthehoa.com
SUMMARY:Alley Cats (Library)
DESCRIPTION:  \nPlease login to view this page. \n \n\n\n \n\nSign in to Your Account\n\nfacevisibility\n\n\n\n\n\n    Lost your password?
URL:https://nepenthehoa.com/event/alley-cats-group-library/2025-12-17/
LOCATION:Nepenthe Clubhouse\, 1131 Commons Drive\, Sacramento\, 95825\, United States
GEO:38.5660202;-121.4105373
X-APPLE-STRUCTURED-LOCATION;VALUE=URI;X-ADDRESS=Nepenthe Clubhouse 1131 Commons Drive Sacramento 95825 United States;X-APPLE-RADIUS=500;X-TITLE=1131 Commons Drive:geo:-121.4105373,38.5660202
END:VEVENT
BEGIN:VEVENT
DTSTART;TZID=UTC:20251217T110000
DTEND;TZID=UTC:20251217T160000
DTSTAMP:20260421T123244
CREATED:20250414T172807Z
LAST-MODIFIED:20260121T231215Z
UID:10016610-1765969200-1765987200@nepenthehoa.com
SUMMARY:Rotary Wives Bridge (Clubhouse)
DESCRIPTION:  \nPlease login to view this page. \n \n\n\n \n\nSign in to Your Account\n\nfacevisibility\n\n\n\n\n\n    Lost your password?
URL:https://nepenthehoa.com/event/library-rotary-wives-bridge-group-2/2025-12-17/
LOCATION:Nepenthe Clubhouse\, 1131 Commons Drive\, Sacramento\, 95825\, United States
GEO:38.5660202;-121.4105373
X-APPLE-STRUCTURED-LOCATION;VALUE=URI;X-ADDRESS=Nepenthe Clubhouse 1131 Commons Drive Sacramento 95825 United States;X-APPLE-RADIUS=500;X-TITLE=1131 Commons Drive:geo:-121.4105373,38.5660202
END:VEVENT
BEGIN:VEVENT
DTSTART;TZID=UTC:20251217T100000
DTEND;TZID=UTC:20251217T143000
DTSTAMP:20260421T123244
CREATED:20231108T231058Z
LAST-MODIFIED:20250723T182146Z
UID:10011390-1765965600-1765981800@nepenthehoa.com
SUMMARY:Bridge Group (Library)
DESCRIPTION:  \nPlease login to view this page. \n \n\n\n \n\nSign in to Your Account\n\nfacevisibility\n\n\n\n\n\n    Lost your password?
URL:https://nepenthehoa.com/event/bridge-library-2/2025-12-17/
LOCATION:Nepenthe Clubhouse\, 1131 Commons Drive\, Sacramento\, 95825\, United States
GEO:38.5660202;-121.4105373
X-APPLE-STRUCTURED-LOCATION;VALUE=URI;X-ADDRESS=Nepenthe Clubhouse 1131 Commons Drive Sacramento 95825 United States;X-APPLE-RADIUS=500;X-TITLE=1131 Commons Drive:geo:-121.4105373,38.5660202
END:VEVENT
BEGIN:VEVENT
DTSTART;TZID=UTC:20251217T090000
DTEND;TZID=UTC:20251217T120000
DTSTAMP:20260421T123244
CREATED:20240229T190709Z
LAST-MODIFIED:20240229T192107Z
UID:10015107-1765962000-1765972800@nepenthehoa.com
SUMMARY:Pickleball
DESCRIPTION:  \nPlease login to view this page. \n \n\n\n \n\nSign in to Your Account\n\nfacevisibility\n\n\n\n\n\n    Lost your password?
URL:https://nepenthehoa.com/event/pickleball/2025-12-17/
LOCATION:Nepenthe Clubhouse\, 1131 Commons Drive\, Sacramento\, 95825\, United States
GEO:38.5660202;-121.4105373
X-APPLE-STRUCTURED-LOCATION;VALUE=URI;X-ADDRESS=Nepenthe Clubhouse 1131 Commons Drive Sacramento 95825 United States;X-APPLE-RADIUS=500;X-TITLE=1131 Commons Drive:geo:-121.4105373,38.5660202
END:VEVENT
BEGIN:VEVENT
DTSTART;TZID=UTC:20251216T123000
DTEND;TZID=UTC:20251216T153000
DTSTAMP:20260421T123244
CREATED:20231103T193146Z
LAST-MODIFIED:20260121T230942Z
UID:10011225-1765888200-1765899000@nepenthehoa.com
SUMMARY:Mahjong Group (Library)
DESCRIPTION:  \nPlease login to view this page. \n \n\n\n \n\nSign in to Your Account\n\nfacevisibility\n\n\n\n\n\n    Lost your password?
URL:https://nepenthehoa.com/event/mahjong-group/2025-12-16/
LOCATION:Nepenthe Clubhouse\, 1131 Commons Drive\, Sacramento\, 95825\, United States
GEO:38.5660202;-121.4105373
X-APPLE-STRUCTURED-LOCATION;VALUE=URI;X-ADDRESS=Nepenthe Clubhouse 1131 Commons Drive Sacramento 95825 United States;X-APPLE-RADIUS=500;X-TITLE=1131 Commons Drive:geo:-121.4105373,38.5660202
END:VEVENT
BEGIN:VEVENT
DTSTART;TZID=UTC:20251216T100000
DTEND;TZID=UTC:20251216T130000
DTSTAMP:20260421T123244
CREATED:20250129T202013Z
LAST-MODIFIED:20260121T230629Z
UID:10016012-1765879200-1765890000@nepenthehoa.com
SUMMARY:Private Event (Cabana)
DESCRIPTION:  \nPlease login to view this page. \n \n\n\n \n\nSign in to Your Account\n\nfacevisibility\n\n\n\n\n\n    Lost your password?
URL:https://nepenthehoa.com/event/private-event-cabana-75/2025-12-16/
LOCATION:Dunbarton Cabana\, 150 Dunbarton Cir.\, Sacramento\, 95825\, United States
GEO:38.564129;-121.41026
X-APPLE-STRUCTURED-LOCATION;VALUE=URI;X-ADDRESS=Dunbarton Cabana 150 Dunbarton Cir. Sacramento 95825 United States;X-APPLE-RADIUS=500;X-TITLE=150 Dunbarton Cir.:geo:-121.41026,38.564129
END:VEVENT
BEGIN:VEVENT
DTSTART;TZID=UTC:20251216T090000
DTEND;TZID=UTC:20251216T150000
DTSTAMP:20260421T123244
CREATED:20250129T175733Z
LAST-MODIFIED:20250129T175733Z
UID:10015519-1765875600-1765897200@nepenthehoa.com
SUMMARY:Bridge Group (Clubhouse)
DESCRIPTION:  \nPlease login to view this page. \n \n\n\n \n\nSign in to Your Account\n\nfacevisibility\n\n\n\n\n\n    Lost your password?
URL:https://nepenthehoa.com/event/bridge-group-clubhouse-2/2025-12-16/
LOCATION:Nepenthe Clubhouse\, 1131 Commons Drive\, Sacramento\, 95825\, United States
GEO:38.5660202;-121.4105373
X-APPLE-STRUCTURED-LOCATION;VALUE=URI;X-ADDRESS=Nepenthe Clubhouse 1131 Commons Drive Sacramento 95825 United States;X-APPLE-RADIUS=500;X-TITLE=1131 Commons Drive:geo:-121.4105373,38.5660202
END:VEVENT
BEGIN:VEVENT
DTSTART;TZID=UTC:20251216T090000
DTEND;TZID=UTC:20251216T120000
DTSTAMP:20260421T123244
CREATED:20240229T190709Z
LAST-MODIFIED:20240229T192107Z
UID:10015106-1765875600-1765886400@nepenthehoa.com
SUMMARY:Pickleball
DESCRIPTION:  \nPlease login to view this page. \n \n\n\n \n\nSign in to Your Account\n\nfacevisibility\n\n\n\n\n\n    Lost your password?
URL:https://nepenthehoa.com/event/pickleball/2025-12-16/
LOCATION:Nepenthe Clubhouse\, 1131 Commons Drive\, Sacramento\, 95825\, United States
GEO:38.5660202;-121.4105373
X-APPLE-STRUCTURED-LOCATION;VALUE=URI;X-ADDRESS=Nepenthe Clubhouse 1131 Commons Drive Sacramento 95825 United States;X-APPLE-RADIUS=500;X-TITLE=1131 Commons Drive:geo:-121.4105373,38.5660202
END:VEVENT
BEGIN:VEVENT
DTSTART;TZID=UTC:20251215T160000
DTEND;TZID=UTC:20251215T170000
DTSTAMP:20260421T123244
CREATED:20250129T181635Z
LAST-MODIFIED:20250618T194157Z
UID:10016755-1765814400-1765818000@nepenthehoa.com
SUMMARY:Finance Committee Meeting
DESCRIPTION:  \nPlease login to view this page. \n \n\n\n \n\nSign in to Your Account\n\nfacevisibility\n\n\n\n\n\n    Lost your password?
URL:https://nepenthehoa.com/event/finance-committee-meeting-clubhouse-2/2025-12-15/
LOCATION:Nepenthe Clubhouse\, 1131 Commons Drive\, Sacramento\, 95825\, United States
GEO:38.5660202;-121.4105373
X-APPLE-STRUCTURED-LOCATION;VALUE=URI;X-ADDRESS=Nepenthe Clubhouse 1131 Commons Drive Sacramento 95825 United States;X-APPLE-RADIUS=500;X-TITLE=1131 Commons Drive:geo:-121.4105373,38.5660202
END:VEVENT
BEGIN:VEVENT
DTSTART;TZID=UTC:20251215T120000
DTEND;TZID=UTC:20251215T153000
DTSTAMP:20260421T123244
CREATED:20231103T192108Z
LAST-MODIFIED:20250723T182105Z
UID:10011091-1765800000-1765812600@nepenthehoa.com
SUMMARY:Canasta Group (Library)
DESCRIPTION:  \nPlease login to view this page. \n \n\n\n \n\nSign in to Your Account\n\nfacevisibility\n\n\n\n\n\n    Lost your password?
URL:https://nepenthehoa.com/event/canasta-library/2025-12-15/
LOCATION:Nepenthe Clubhouse\, 1131 Commons Drive\, Sacramento\, 95825\, United States
GEO:38.5660202;-121.4105373
X-APPLE-STRUCTURED-LOCATION;VALUE=URI;X-ADDRESS=Nepenthe Clubhouse 1131 Commons Drive Sacramento 95825 United States;X-APPLE-RADIUS=500;X-TITLE=1131 Commons Drive:geo:-121.4105373,38.5660202
END:VEVENT
BEGIN:VEVENT
DTSTART;TZID=UTC:20251215T110000
DTEND;TZID=UTC:20251215T130000
DTSTAMP:20260421T123244
CREATED:20221128T183416Z
LAST-MODIFIED:20250701T165641Z
UID:10016972-1765796400-1765803600@nepenthehoa.com
SUMMARY:Mahjong Group (Clubhouse)
DESCRIPTION:  \nPlease login to view this page. \n \n\n\n \n\nSign in to Your Account\n\nfacevisibility\n\n\n\n\n\n    Lost your password?
URL:https://nepenthehoa.com/event/mahjongg-group-clubhouse/2025-12-15/
LOCATION:Nepenthe Clubhouse\, 1131 Commons Drive\, Sacramento\, 95825\, United States
GEO:38.5660202;-121.4105373
X-APPLE-STRUCTURED-LOCATION;VALUE=URI;X-ADDRESS=Nepenthe Clubhouse 1131 Commons Drive Sacramento 95825 United States;X-APPLE-RADIUS=500;X-TITLE=1131 Commons Drive:geo:-121.4105373,38.5660202
END:VEVENT
BEGIN:VEVENT
DTSTART;TZID=UTC:20251214T093000
DTEND;TZID=UTC:20251214T163000
DTSTAMP:20260421T123244
CREATED:20251029T210820Z
LAST-MODIFIED:20251029T210820Z
UID:10017693-1765704600-1765729800@nepenthehoa.com
SUMMARY:Private Event (Clubhouse)
DESCRIPTION:  \nPlease login to view this page. \n \n\n\n \n\nSign in to Your Account\n\nfacevisibility\n\n\n\n\n\n    Lost your password?
URL:https://nepenthehoa.com/event/private-event-clubhouse-130/
LOCATION:Nepenthe Clubhouse\, 1131 Commons Drive\, Sacramento\, 95825\, United States
GEO:38.5660202;-121.4105373
X-APPLE-STRUCTURED-LOCATION;VALUE=URI;X-ADDRESS=Nepenthe Clubhouse 1131 Commons Drive Sacramento 95825 United States;X-APPLE-RADIUS=500;X-TITLE=1131 Commons Drive:geo:-121.4105373,38.5660202
END:VEVENT
BEGIN:VEVENT
DTSTART;TZID=UTC:20251213T160000
DTEND;TZID=UTC:20251213T210000
DTSTAMP:20260421T123244
CREATED:20250131T182837Z
LAST-MODIFIED:20251204T220542Z
UID:10016076-1765641600-1765659600@nepenthehoa.com
SUMMARY:Holiday Party (Clubhouse)
DESCRIPTION:  \nPlease login to view this page. \n \n\n\n \n\nSign in to Your Account\n\nfacevisibility\n\n\n\n\n\n    Lost your password?
URL:https://nepenthehoa.com/event/holiday-party-clubhouse-2/
LOCATION:Nepenthe Clubhouse\, 1131 Commons Drive\, Sacramento\, 95825\, United States
GEO:38.5660202;-121.4105373
X-APPLE-STRUCTURED-LOCATION;VALUE=URI;X-ADDRESS=Nepenthe Clubhouse 1131 Commons Drive Sacramento 95825 United States;X-APPLE-RADIUS=500;X-TITLE=1131 Commons Drive:geo:-121.4105373,38.5660202
END:VEVENT
BEGIN:VEVENT
DTSTART;TZID=UTC:20251213T100000
DTEND;TZID=UTC:20251213T120000
DTSTAMP:20260421T123244
CREATED:20231103T190029Z
LAST-MODIFIED:20260121T230849Z
UID:10010955-1765620000-1765627200@nepenthehoa.com
SUMMARY:Coffee Group (Clubhouse)
DESCRIPTION:  \nPlease login to view this page. \n \n\n\n \n\nSign in to Your Account\n\nfacevisibility\n\n\n\n\n\n    Lost your password?
URL:https://nepenthehoa.com/event/coffee-group-clubhouse/2025-12-13/
LOCATION:Nepenthe Clubhouse\, 1131 Commons Drive\, Sacramento\, 95825\, United States
GEO:38.5660202;-121.4105373
X-APPLE-STRUCTURED-LOCATION;VALUE=URI;X-ADDRESS=Nepenthe Clubhouse 1131 Commons Drive Sacramento 95825 United States;X-APPLE-RADIUS=500;X-TITLE=1131 Commons Drive:geo:-121.4105373,38.5660202
END:VEVENT
BEGIN:VEVENT
DTSTART;TZID=UTC:20251213T090000
DTEND;TZID=UTC:20251213T210000
DTSTAMP:20260421T123244
CREATED:20251120T210649Z
LAST-MODIFIED:20251120T210739Z
UID:10017699-1765616400-1765659600@nepenthehoa.com
SUMMARY:Private Event (Cabana)
DESCRIPTION:  \nPlease login to view this page. \n \n\n\n \n\nSign in to Your Account\n\nfacevisibility\n\n\n\n\n\n    Lost your password?
URL:https://nepenthehoa.com/event/private-event-cabana-98/
LOCATION:Dunbarton Cabana\, 150 Dunbarton Circle
GEO:38.564129;-121.41026
X-APPLE-STRUCTURED-LOCATION;VALUE=URI;X-ADDRESS=Dunbarton Cabana 150 Dunbarton Circle;X-APPLE-RADIUS=500;X-TITLE=150 Dunbarton Circle:geo:-121.41026,38.564129
END:VEVENT
BEGIN:VEVENT
DTSTART;TZID=UTC:20251213T090000
DTEND;TZID=UTC:20251213T120000
DTSTAMP:20260421T123244
CREATED:20240229T190709Z
LAST-MODIFIED:20240229T192107Z
UID:10015105-1765616400-1765627200@nepenthehoa.com
SUMMARY:Pickleball
DESCRIPTION:  \nPlease login to view this page. \n \n\n\n \n\nSign in to Your Account\n\nfacevisibility\n\n\n\n\n\n    Lost your password?
URL:https://nepenthehoa.com/event/pickleball/2025-12-13/
LOCATION:Nepenthe Clubhouse\, 1131 Commons Drive\, Sacramento\, 95825\, United States
GEO:38.5660202;-121.4105373
X-APPLE-STRUCTURED-LOCATION;VALUE=URI;X-ADDRESS=Nepenthe Clubhouse 1131 Commons Drive Sacramento 95825 United States;X-APPLE-RADIUS=500;X-TITLE=1131 Commons Drive:geo:-121.4105373,38.5660202
END:VEVENT
BEGIN:VEVENT
DTSTART;TZID=UTC:20251211T163000
DTEND;TZID=UTC:20251211T193000
DTSTAMP:20260421T123244
CREATED:20251029T210609Z
LAST-MODIFIED:20251117T193756Z
UID:10017692-1765470600-1765481400@nepenthehoa.com
SUMMARY:Private Event (Clubhouse)
DESCRIPTION:  \nPlease login to view this page. \n \n\n\n \n\nSign in to Your Account\n\nfacevisibility\n\n\n\n\n\n    Lost your password?
URL:https://nepenthehoa.com/event/private-event-clubhouse-129/
LOCATION:Nepenthe Clubhouse\, 1131 Commons Drive\, Sacramento\, 95825\, United States
GEO:38.5660202;-121.4105373
X-APPLE-STRUCTURED-LOCATION;VALUE=URI;X-ADDRESS=Nepenthe Clubhouse 1131 Commons Drive Sacramento 95825 United States;X-APPLE-RADIUS=500;X-TITLE=1131 Commons Drive:geo:-121.4105373,38.5660202
END:VEVENT
BEGIN:VEVENT
DTSTART;TZID=UTC:20251211T133000
DTEND;TZID=UTC:20251211T163000
DTSTAMP:20260421T123244
CREATED:20250401T212620Z
LAST-MODIFIED:20250401T212620Z
UID:10016162-1765459800-1765470600@nepenthehoa.com
SUMMARY:Greetings Cards for Seniors (Library)
DESCRIPTION:  \nPlease login to view this page. \n \n\n\n \n\nSign in to Your Account\n\nfacevisibility\n\n\n\n\n\n    Lost your password?
URL:https://nepenthehoa.com/event/greetings-cards-for-seniors-library/2025-12-11/
LOCATION:Nepenthe Clubhouse\, 1131 Commons Drive\, Sacramento\, 95825\, United States
GEO:38.5660202;-121.4105373
X-APPLE-STRUCTURED-LOCATION;VALUE=URI;X-ADDRESS=Nepenthe Clubhouse 1131 Commons Drive Sacramento 95825 United States;X-APPLE-RADIUS=500;X-TITLE=1131 Commons Drive:geo:-121.4105373,38.5660202
END:VEVENT
BEGIN:VEVENT
DTSTART;TZID=UTC:20251211T090000
DTEND;TZID=UTC:20251211T120000
DTSTAMP:20260421T123244
CREATED:20240229T190709Z
LAST-MODIFIED:20240229T192107Z
UID:10015104-1765443600-1765454400@nepenthehoa.com
SUMMARY:Pickleball
DESCRIPTION:  \nPlease login to view this page. \n \n\n\n \n\nSign in to Your Account\n\nfacevisibility\n\n\n\n\n\n    Lost your password?
URL:https://nepenthehoa.com/event/pickleball/2025-12-11/
LOCATION:Nepenthe Clubhouse\, 1131 Commons Drive\, Sacramento\, 95825\, United States
GEO:38.5660202;-121.4105373
X-APPLE-STRUCTURED-LOCATION;VALUE=URI;X-ADDRESS=Nepenthe Clubhouse 1131 Commons Drive Sacramento 95825 United States;X-APPLE-RADIUS=500;X-TITLE=1131 Commons Drive:geo:-121.4105373,38.5660202
END:VEVENT
BEGIN:VEVENT
DTSTART;TZID=UTC:20251210T173000
DTEND;TZID=UTC:20251210T183000
DTSTAMP:20260421T123244
CREATED:20250610T190152Z
LAST-MODIFIED:20250610T190152Z
UID:10016690-1765387800-1765391400@nepenthehoa.com
SUMMARY:Insurance\, Legal & Safety Committee Meeting
DESCRIPTION:  \nPlease login to view this page. \n \n\n\n \n\nSign in to Your Account\n\nfacevisibility\n\n\n\n\n\n    Lost your password?
URL:https://nepenthehoa.com/event/insurance-legal-safety-committee-meeting-2-2/2025-12-10/
LOCATION:Nepenthe Clubhouse\, 1131 Commons Drive\, Sacramento\, 95825\, United States
GEO:38.5660202;-121.4105373
X-APPLE-STRUCTURED-LOCATION;VALUE=URI;X-ADDRESS=Nepenthe Clubhouse 1131 Commons Drive Sacramento 95825 United States;X-APPLE-RADIUS=500;X-TITLE=1131 Commons Drive:geo:-121.4105373,38.5660202
END:VEVENT
BEGIN:VEVENT
DTSTART;TZID=UTC:20251210T160000
DTEND;TZID=UTC:20251210T180000
DTSTAMP:20260421T123244
CREATED:20250409T174619Z
LAST-MODIFIED:20250409T174620Z
UID:10016448-1765382400-1765389600@nepenthehoa.com
SUMMARY:Outreach Committee Meeting (Clubhouse)
DESCRIPTION:  \nPlease login to view this page. \n \n\n\n \n\nSign in to Your Account\n\nfacevisibility\n\n\n\n\n\n    Lost your password?
URL:https://nepenthehoa.com/event/outreach-committee-meeting-clubhouse-2/2025-12-10/
LOCATION:Nepenthe Clubhouse\, 1131 Commons Drive\, Sacramento\, 95825\, United States
GEO:38.5660202;-121.4105373
X-APPLE-STRUCTURED-LOCATION;VALUE=URI;X-ADDRESS=Nepenthe Clubhouse 1131 Commons Drive Sacramento 95825 United States;X-APPLE-RADIUS=500;X-TITLE=1131 Commons Drive:geo:-121.4105373,38.5660202
END:VEVENT
BEGIN:VEVENT
DTSTART;TZID=UTC:20251210T143000
DTEND;TZID=UTC:20251210T163000
DTSTAMP:20260421T123244
CREATED:20211118T190005Z
LAST-MODIFIED:20260121T231120Z
UID:10012430-1765377000-1765384200@nepenthehoa.com
SUMMARY:Alley Cats (Library)
DESCRIPTION:  \nPlease login to view this page. \n \n\n\n \n\nSign in to Your Account\n\nfacevisibility\n\n\n\n\n\n    Lost your password?
URL:https://nepenthehoa.com/event/alley-cats-group-library/2025-12-10/
LOCATION:Nepenthe Clubhouse\, 1131 Commons Drive\, Sacramento\, 95825\, United States
GEO:38.5660202;-121.4105373
X-APPLE-STRUCTURED-LOCATION;VALUE=URI;X-ADDRESS=Nepenthe Clubhouse 1131 Commons Drive Sacramento 95825 United States;X-APPLE-RADIUS=500;X-TITLE=1131 Commons Drive:geo:-121.4105373,38.5660202
END:VEVENT
BEGIN:VEVENT
DTSTART;TZID=UTC:20251210T100000
DTEND;TZID=UTC:20251210T143000
DTSTAMP:20260421T123244
CREATED:20231108T231058Z
LAST-MODIFIED:20250723T182146Z
UID:10011389-1765360800-1765377000@nepenthehoa.com
SUMMARY:Bridge Group (Library)
DESCRIPTION:  \nPlease login to view this page. \n \n\n\n \n\nSign in to Your Account\n\nfacevisibility\n\n\n\n\n\n    Lost your password?
URL:https://nepenthehoa.com/event/bridge-library-2/2025-12-10/
LOCATION:Nepenthe Clubhouse\, 1131 Commons Drive\, Sacramento\, 95825\, United States
GEO:38.5660202;-121.4105373
X-APPLE-STRUCTURED-LOCATION;VALUE=URI;X-ADDRESS=Nepenthe Clubhouse 1131 Commons Drive Sacramento 95825 United States;X-APPLE-RADIUS=500;X-TITLE=1131 Commons Drive:geo:-121.4105373,38.5660202
END:VEVENT
BEGIN:VEVENT
DTSTART;TZID=UTC:20251210T090000
DTEND;TZID=UTC:20251210T120000
DTSTAMP:20260421T123244
CREATED:20240229T190709Z
LAST-MODIFIED:20240229T192107Z
UID:10015103-1765357200-1765368000@nepenthehoa.com
SUMMARY:Pickleball
DESCRIPTION:  \nPlease login to view this page. \n \n\n\n \n\nSign in to Your Account\n\nfacevisibility\n\n\n\n\n\n    Lost your password?
URL:https://nepenthehoa.com/event/pickleball/2025-12-10/
LOCATION:Nepenthe Clubhouse\, 1131 Commons Drive\, Sacramento\, 95825\, United States
GEO:38.5660202;-121.4105373
X-APPLE-STRUCTURED-LOCATION;VALUE=URI;X-ADDRESS=Nepenthe Clubhouse 1131 Commons Drive Sacramento 95825 United States;X-APPLE-RADIUS=500;X-TITLE=1131 Commons Drive:geo:-121.4105373,38.5660202
END:VEVENT
BEGIN:VEVENT
DTSTART;TZID=UTC:20251209T123000
DTEND;TZID=UTC:20251209T153000
DTSTAMP:20260421T123244
CREATED:20231103T193146Z
LAST-MODIFIED:20260121T230942Z
UID:10011224-1765283400-1765294200@nepenthehoa.com
SUMMARY:Mahjong Group (Library)
DESCRIPTION:  \nPlease login to view this page. \n \n\n\n \n\nSign in to Your Account\n\nfacevisibility\n\n\n\n\n\n    Lost your password?
URL:https://nepenthehoa.com/event/mahjong-group/2025-12-09/
LOCATION:Nepenthe Clubhouse\, 1131 Commons Drive\, Sacramento\, 95825\, United States
GEO:38.5660202;-121.4105373
X-APPLE-STRUCTURED-LOCATION;VALUE=URI;X-ADDRESS=Nepenthe Clubhouse 1131 Commons Drive Sacramento 95825 United States;X-APPLE-RADIUS=500;X-TITLE=1131 Commons Drive:geo:-121.4105373,38.5660202
END:VEVENT
BEGIN:VEVENT
DTSTART;TZID=UTC:20251209T090000
DTEND;TZID=UTC:20251209T120000
DTSTAMP:20260421T123244
CREATED:20240229T190709Z
LAST-MODIFIED:20240229T192107Z
UID:10015102-1765270800-1765281600@nepenthehoa.com
SUMMARY:Pickleball
DESCRIPTION:  \nPlease login to view this page. \n \n\n\n \n\nSign in to Your Account\n\nfacevisibility\n\n\n\n\n\n    Lost your password?
URL:https://nepenthehoa.com/event/pickleball/2025-12-09/
LOCATION:Nepenthe Clubhouse\, 1131 Commons Drive\, Sacramento\, 95825\, United States
GEO:38.5660202;-121.4105373
X-APPLE-STRUCTURED-LOCATION;VALUE=URI;X-ADDRESS=Nepenthe Clubhouse 1131 Commons Drive Sacramento 95825 United States;X-APPLE-RADIUS=500;X-TITLE=1131 Commons Drive:geo:-121.4105373,38.5660202
END:VEVENT
BEGIN:VEVENT
DTSTART;TZID=UTC:20251208T153000
DTEND;TZID=UTC:20251208T170000
DTSTAMP:20260421T123244
CREATED:20231103T193540Z
LAST-MODIFIED:20260121T231256Z
UID:10011274-1765207800-1765213200@nepenthehoa.com
SUMMARY:Book Club (Library)
DESCRIPTION:  \nPlease login to view this page. \n \n\n\n \n\nSign in to Your Account\n\nfacevisibility\n\n\n\n\n\n    Lost your password?
URL:https://nepenthehoa.com/event/book-club-library-2/2025-12-08/
LOCATION:Nepenthe Clubhouse\, 1131 Commons Drive\, Sacramento\, 95825\, United States
GEO:38.5660202;-121.4105373
X-APPLE-STRUCTURED-LOCATION;VALUE=URI;X-ADDRESS=Nepenthe Clubhouse 1131 Commons Drive Sacramento 95825 United States;X-APPLE-RADIUS=500;X-TITLE=1131 Commons Drive:geo:-121.4105373,38.5660202
END:VEVENT
BEGIN:VEVENT
DTSTART;TZID=UTC:20251208T120000
DTEND;TZID=UTC:20251208T153000
DTSTAMP:20260421T123244
CREATED:20231103T192108Z
LAST-MODIFIED:20250723T182105Z
UID:10011090-1765195200-1765207800@nepenthehoa.com
SUMMARY:Canasta Group (Library)
DESCRIPTION:  \nPlease login to view this page. \n \n\n\n \n\nSign in to Your Account\n\nfacevisibility\n\n\n\n\n\n    Lost your password?
URL:https://nepenthehoa.com/event/canasta-library/2025-12-08/
LOCATION:Nepenthe Clubhouse\, 1131 Commons Drive\, Sacramento\, 95825\, United States
GEO:38.5660202;-121.4105373
X-APPLE-STRUCTURED-LOCATION;VALUE=URI;X-ADDRESS=Nepenthe Clubhouse 1131 Commons Drive Sacramento 95825 United States;X-APPLE-RADIUS=500;X-TITLE=1131 Commons Drive:geo:-121.4105373,38.5660202
END:VEVENT
END:VCALENDAR