BEGIN:VCALENDAR
VERSION:2.0
PRODID:-//Nepenthe - ECPv6.15.17.1//NONSGML v1.0//EN
CALSCALE:GREGORIAN
METHOD:PUBLISH
X-WR-CALNAME:Nepenthe
X-ORIGINAL-URL:https://nepenthehoa.com
X-WR-CALDESC:Events for Nepenthe
REFRESH-INTERVAL;VALUE=DURATION:PT1H
X-Robots-Tag:noindex
X-PUBLISHED-TTL:PT1H
BEGIN:VTIMEZONE
TZID:UTC
BEGIN:STANDARD
TZOFFSETFROM:+0000
TZOFFSETTO:+0000
TZNAME:UTC
DTSTART:20250101T000000
END:STANDARD
END:VTIMEZONE
BEGIN:VEVENT
DTSTART;TZID=UTC:20260824T110000
DTEND;TZID=UTC:20260824T130000
DTSTAMP:20260420T031934
CREATED:20221128T183416Z
LAST-MODIFIED:20250701T165641Z
UID:10017008-1787569200-1787576400@nepenthehoa.com
SUMMARY:Mahjong Group (Clubhouse)
DESCRIPTION:  \nPlease login to view this page. \n \n\n\n \n\nSign in to Your Account\n\nfacevisibility\n\n\n\n\n\n    Lost your password?
URL:https://nepenthehoa.com/event/mahjongg-group-clubhouse/2026-08-24/
LOCATION:Nepenthe Clubhouse\, 1131 Commons Drive\, Sacramento\, 95825\, United States
GEO:38.5660202;-121.4105373
X-APPLE-STRUCTURED-LOCATION;VALUE=URI;X-ADDRESS=Nepenthe Clubhouse 1131 Commons Drive Sacramento 95825 United States;X-APPLE-RADIUS=500;X-TITLE=1131 Commons Drive:geo:-121.4105373,38.5660202
END:VEVENT
BEGIN:VEVENT
DTSTART;TZID=UTC:20260824T120000
DTEND;TZID=UTC:20260824T153000
DTSTAMP:20260420T031934
CREATED:20231103T192108Z
LAST-MODIFIED:20250723T182105Z
UID:10017226-1787572800-1787585400@nepenthehoa.com
SUMMARY:Canasta Group (Library)
DESCRIPTION:  \nPlease login to view this page. \n \n\n\n \n\nSign in to Your Account\n\nfacevisibility\n\n\n\n\n\n    Lost your password?
URL:https://nepenthehoa.com/event/canasta-library/2026-08-24/
LOCATION:Nepenthe Clubhouse\, 1131 Commons Drive\, Sacramento\, 95825\, United States
GEO:38.5660202;-121.4105373
X-APPLE-STRUCTURED-LOCATION;VALUE=URI;X-ADDRESS=Nepenthe Clubhouse 1131 Commons Drive Sacramento 95825 United States;X-APPLE-RADIUS=500;X-TITLE=1131 Commons Drive:geo:-121.4105373,38.5660202
END:VEVENT
BEGIN:VEVENT
DTSTART;TZID=UTC:20260825T123000
DTEND;TZID=UTC:20260825T153000
DTSTAMP:20260420T031934
CREATED:20231103T193146Z
LAST-MODIFIED:20260121T230942Z
UID:10018218-1787661000-1787671800@nepenthehoa.com
SUMMARY:Mahjong Group (Library)
DESCRIPTION:  \nPlease login to view this page. \n \n\n\n \n\nSign in to Your Account\n\nfacevisibility\n\n\n\n\n\n    Lost your password?
URL:https://nepenthehoa.com/event/mahjong-group/2026-08-25/
LOCATION:Nepenthe Clubhouse\, 1131 Commons Drive\, Sacramento\, 95825\, United States
GEO:38.5660202;-121.4105373
X-APPLE-STRUCTURED-LOCATION;VALUE=URI;X-ADDRESS=Nepenthe Clubhouse 1131 Commons Drive Sacramento 95825 United States;X-APPLE-RADIUS=500;X-TITLE=1131 Commons Drive:geo:-121.4105373,38.5660202
END:VEVENT
BEGIN:VEVENT
DTSTART;TZID=UTC:20260826T100000
DTEND;TZID=UTC:20260826T143000
DTSTAMP:20260420T031934
CREATED:20231108T231058Z
LAST-MODIFIED:20250723T182146Z
UID:10017443-1787738400-1787754600@nepenthehoa.com
SUMMARY:Bridge Group (Library)
DESCRIPTION:  \nPlease login to view this page. \n \n\n\n \n\nSign in to Your Account\n\nfacevisibility\n\n\n\n\n\n    Lost your password?
URL:https://nepenthehoa.com/event/bridge-library-2/2026-08-26/
LOCATION:Nepenthe Clubhouse\, 1131 Commons Drive\, Sacramento\, 95825\, United States
GEO:38.5660202;-121.4105373
X-APPLE-STRUCTURED-LOCATION;VALUE=URI;X-ADDRESS=Nepenthe Clubhouse 1131 Commons Drive Sacramento 95825 United States;X-APPLE-RADIUS=500;X-TITLE=1131 Commons Drive:geo:-121.4105373,38.5660202
END:VEVENT
BEGIN:VEVENT
DTSTART;TZID=UTC:20260826T143000
DTEND;TZID=UTC:20260826T163000
DTSTAMP:20260420T031934
CREATED:20211118T190005Z
LAST-MODIFIED:20260121T231120Z
UID:10018473-1787754600-1787761800@nepenthehoa.com
SUMMARY:Alley Cats (Library)
DESCRIPTION:  \nPlease login to view this page. \n \n\n\n \n\nSign in to Your Account\n\nfacevisibility\n\n\n\n\n\n    Lost your password?
URL:https://nepenthehoa.com/event/alley-cats-group-library/2026-08-26/
LOCATION:Nepenthe Clubhouse\, 1131 Commons Drive\, Sacramento\, 95825\, United States
GEO:38.5660202;-121.4105373
X-APPLE-STRUCTURED-LOCATION;VALUE=URI;X-ADDRESS=Nepenthe Clubhouse 1131 Commons Drive Sacramento 95825 United States;X-APPLE-RADIUS=500;X-TITLE=1131 Commons Drive:geo:-121.4105373,38.5660202
END:VEVENT
BEGIN:VEVENT
DTSTART;TZID=UTC:20260829T100000
DTEND;TZID=UTC:20260829T120000
DTSTAMP:20260420T031934
CREATED:20231103T190029Z
LAST-MODIFIED:20260121T230849Z
UID:10017976-1787997600-1788004800@nepenthehoa.com
SUMMARY:Coffee Group (Clubhouse)
DESCRIPTION:  \nPlease login to view this page. \n \n\n\n \n\nSign in to Your Account\n\nfacevisibility\n\n\n\n\n\n    Lost your password?
URL:https://nepenthehoa.com/event/coffee-group-clubhouse/2026-08-29/
LOCATION:Nepenthe Clubhouse\, 1131 Commons Drive\, Sacramento\, 95825\, United States
GEO:38.5660202;-121.4105373
X-APPLE-STRUCTURED-LOCATION;VALUE=URI;X-ADDRESS=Nepenthe Clubhouse 1131 Commons Drive Sacramento 95825 United States;X-APPLE-RADIUS=500;X-TITLE=1131 Commons Drive:geo:-121.4105373,38.5660202
END:VEVENT
BEGIN:VEVENT
DTSTART;TZID=UTC:20260831T110000
DTEND;TZID=UTC:20260831T130000
DTSTAMP:20260420T031934
CREATED:20221128T183416Z
LAST-MODIFIED:20250701T165641Z
UID:10017009-1788174000-1788181200@nepenthehoa.com
SUMMARY:Mahjong Group (Clubhouse)
DESCRIPTION:  \nPlease login to view this page. \n \n\n\n \n\nSign in to Your Account\n\nfacevisibility\n\n\n\n\n\n    Lost your password?
URL:https://nepenthehoa.com/event/mahjongg-group-clubhouse/2026-08-31/
LOCATION:Nepenthe Clubhouse\, 1131 Commons Drive\, Sacramento\, 95825\, United States
GEO:38.5660202;-121.4105373
X-APPLE-STRUCTURED-LOCATION;VALUE=URI;X-ADDRESS=Nepenthe Clubhouse 1131 Commons Drive Sacramento 95825 United States;X-APPLE-RADIUS=500;X-TITLE=1131 Commons Drive:geo:-121.4105373,38.5660202
END:VEVENT
BEGIN:VEVENT
DTSTART;TZID=UTC:20260831T120000
DTEND;TZID=UTC:20260831T153000
DTSTAMP:20260420T031934
CREATED:20231103T192108Z
LAST-MODIFIED:20250723T182105Z
UID:10017227-1788177600-1788190200@nepenthehoa.com
SUMMARY:Canasta Group (Library)
DESCRIPTION:  \nPlease login to view this page. \n \n\n\n \n\nSign in to Your Account\n\nfacevisibility\n\n\n\n\n\n    Lost your password?
URL:https://nepenthehoa.com/event/canasta-library/2026-08-31/
LOCATION:Nepenthe Clubhouse\, 1131 Commons Drive\, Sacramento\, 95825\, United States
GEO:38.5660202;-121.4105373
X-APPLE-STRUCTURED-LOCATION;VALUE=URI;X-ADDRESS=Nepenthe Clubhouse 1131 Commons Drive Sacramento 95825 United States;X-APPLE-RADIUS=500;X-TITLE=1131 Commons Drive:geo:-121.4105373,38.5660202
END:VEVENT
BEGIN:VEVENT
DTSTART;TZID=UTC:20260901T090000
DTEND;TZID=UTC:20260901T150000
DTSTAMP:20260420T031934
CREATED:20250129T175529Z
LAST-MODIFIED:20260121T231027Z
UID:10015589-1788253200-1788274800@nepenthehoa.com
SUMMARY:Bridge Group (Clubhouse)
DESCRIPTION:  \nPlease login to view this page. \n \n\n\n \n\nSign in to Your Account\n\nfacevisibility\n\n\n\n\n\n    Lost your password?
URL:https://nepenthehoa.com/event/bridge-group-clubhouse/2026-09-01/
LOCATION:Nepenthe Clubhouse\, 1131 Commons Drive\, Sacramento\, 95825\, United States
GEO:38.5660202;-121.4105373
X-APPLE-STRUCTURED-LOCATION;VALUE=URI;X-ADDRESS=Nepenthe Clubhouse 1131 Commons Drive Sacramento 95825 United States;X-APPLE-RADIUS=500;X-TITLE=1131 Commons Drive:geo:-121.4105373,38.5660202
END:VEVENT
BEGIN:VEVENT
DTSTART;TZID=UTC:20260901T100000
DTEND;TZID=UTC:20260901T120000
DTSTAMP:20260420T031934
CREATED:20250131T181917Z
LAST-MODIFIED:20260120T230159Z
UID:10017708-1788256800-1788264000@nepenthehoa.com
SUMMARY:Executive Board Meeting
DESCRIPTION:  \nPlease login to view this page. \n \n\n\n \n\nSign in to Your Account\n\nfacevisibility\n\n\n\n\n\n    Lost your password?
URL:https://nepenthehoa.com/event/executive-board-meeting-11/2026-09-01/
LOCATION:Nepenthe Clubhouse\, 1131 Commons Drive\, Sacramento\, 95825\, United States
GEO:38.5660202;-121.4105373
X-APPLE-STRUCTURED-LOCATION;VALUE=URI;X-ADDRESS=Nepenthe Clubhouse 1131 Commons Drive Sacramento 95825 United States;X-APPLE-RADIUS=500;X-TITLE=1131 Commons Drive:geo:-121.4105373,38.5660202
END:VEVENT
BEGIN:VEVENT
DTSTART;TZID=UTC:20260901T123000
DTEND;TZID=UTC:20260901T153000
DTSTAMP:20260420T031934
CREATED:20231103T193146Z
LAST-MODIFIED:20260121T230942Z
UID:10018219-1788265800-1788276600@nepenthehoa.com
SUMMARY:Mahjong Group (Library)
DESCRIPTION:  \nPlease login to view this page. \n \n\n\n \n\nSign in to Your Account\n\nfacevisibility\n\n\n\n\n\n    Lost your password?
URL:https://nepenthehoa.com/event/mahjong-group/2026-09-01/
LOCATION:Nepenthe Clubhouse\, 1131 Commons Drive\, Sacramento\, 95825\, United States
GEO:38.5660202;-121.4105373
X-APPLE-STRUCTURED-LOCATION;VALUE=URI;X-ADDRESS=Nepenthe Clubhouse 1131 Commons Drive Sacramento 95825 United States;X-APPLE-RADIUS=500;X-TITLE=1131 Commons Drive:geo:-121.4105373,38.5660202
END:VEVENT
BEGIN:VEVENT
DTSTART;TZID=UTC:20260902T100000
DTEND;TZID=UTC:20260902T143000
DTSTAMP:20260420T031934
CREATED:20231108T231058Z
LAST-MODIFIED:20250723T182146Z
UID:10017444-1788343200-1788359400@nepenthehoa.com
SUMMARY:Bridge Group (Library)
DESCRIPTION:  \nPlease login to view this page. \n \n\n\n \n\nSign in to Your Account\n\nfacevisibility\n\n\n\n\n\n    Lost your password?
URL:https://nepenthehoa.com/event/bridge-library-2/2026-09-02/
LOCATION:Nepenthe Clubhouse\, 1131 Commons Drive\, Sacramento\, 95825\, United States
GEO:38.5660202;-121.4105373
X-APPLE-STRUCTURED-LOCATION;VALUE=URI;X-ADDRESS=Nepenthe Clubhouse 1131 Commons Drive Sacramento 95825 United States;X-APPLE-RADIUS=500;X-TITLE=1131 Commons Drive:geo:-121.4105373,38.5660202
END:VEVENT
BEGIN:VEVENT
DTSTART;TZID=UTC:20260902T143000
DTEND;TZID=UTC:20260902T163000
DTSTAMP:20260420T031934
CREATED:20211118T190005Z
LAST-MODIFIED:20260121T231120Z
UID:10018474-1788359400-1788366600@nepenthehoa.com
SUMMARY:Alley Cats (Library)
DESCRIPTION:  \nPlease login to view this page. \n \n\n\n \n\nSign in to Your Account\n\nfacevisibility\n\n\n\n\n\n    Lost your password?
URL:https://nepenthehoa.com/event/alley-cats-group-library/2026-09-02/
LOCATION:Nepenthe Clubhouse\, 1131 Commons Drive\, Sacramento\, 95825\, United States
GEO:38.5660202;-121.4105373
X-APPLE-STRUCTURED-LOCATION;VALUE=URI;X-ADDRESS=Nepenthe Clubhouse 1131 Commons Drive Sacramento 95825 United States;X-APPLE-RADIUS=500;X-TITLE=1131 Commons Drive:geo:-121.4105373,38.5660202
END:VEVENT
BEGIN:VEVENT
DTSTART;TZID=UTC:20260902T180000
DTEND;TZID=UTC:20260902T200000
DTSTAMP:20260420T031934
CREATED:20231228T180317Z
LAST-MODIFIED:20251204T220644Z
UID:10017764-1788372000-1788379200@nepenthehoa.com
SUMMARY:Open Board Meeting
DESCRIPTION:  \nPlease login to view this page. \n \n\n\n \n\nSign in to Your Account\n\nfacevisibility\n\n\n\n\n\n    Lost your password?
URL:https://nepenthehoa.com/event/open-board-meeting/2026-09-02/
LOCATION:Nepenthe Clubhouse\, 1131 Commons Drive\, Sacramento\, 95825\, United States
GEO:38.5660202;-121.4105373
X-APPLE-STRUCTURED-LOCATION;VALUE=URI;X-ADDRESS=Nepenthe Clubhouse 1131 Commons Drive Sacramento 95825 United States;X-APPLE-RADIUS=500;X-TITLE=1131 Commons Drive:geo:-121.4105373,38.5660202
END:VEVENT
BEGIN:VEVENT
DTSTART;TZID=UTC:20260903T163000
DTEND;TZID=UTC:20260903T173000
DTSTAMP:20260420T031934
CREATED:20260109T171100Z
LAST-MODIFIED:20260225T220457Z
UID:10018897-1788453000-1788456600@nepenthehoa.com
SUMMARY:Architectural Committee Meeting
DESCRIPTION:  \nPlease login to view this page. \n \n\n\n \n\nSign in to Your Account\n\nfacevisibility\n\n\n\n\n\n    Lost your password?
URL:https://nepenthehoa.com/event/architectural-committee-meeting-3-2-2/2026-09-03/
LOCATION:Nepenthe Clubhouse\, 1131 Commons Drive\, Sacramento\, 95825\, United States
GEO:38.5660202;-121.4105373
X-APPLE-STRUCTURED-LOCATION;VALUE=URI;X-ADDRESS=Nepenthe Clubhouse 1131 Commons Drive Sacramento 95825 United States;X-APPLE-RADIUS=500;X-TITLE=1131 Commons Drive:geo:-121.4105373,38.5660202
END:VEVENT
BEGIN:VEVENT
DTSTART;TZID=UTC:20260905T100000
DTEND;TZID=UTC:20260905T120000
DTSTAMP:20260420T031934
CREATED:20231103T190029Z
LAST-MODIFIED:20260121T230849Z
UID:10017977-1788602400-1788609600@nepenthehoa.com
SUMMARY:Coffee Group (Clubhouse)
DESCRIPTION:  \nPlease login to view this page. \n \n\n\n \n\nSign in to Your Account\n\nfacevisibility\n\n\n\n\n\n    Lost your password?
URL:https://nepenthehoa.com/event/coffee-group-clubhouse/2026-09-05/
LOCATION:Nepenthe Clubhouse\, 1131 Commons Drive\, Sacramento\, 95825\, United States
GEO:38.5660202;-121.4105373
X-APPLE-STRUCTURED-LOCATION;VALUE=URI;X-ADDRESS=Nepenthe Clubhouse 1131 Commons Drive Sacramento 95825 United States;X-APPLE-RADIUS=500;X-TITLE=1131 Commons Drive:geo:-121.4105373,38.5660202
END:VEVENT
BEGIN:VEVENT
DTSTART;TZID=UTC:20260907T110000
DTEND;TZID=UTC:20260907T130000
DTSTAMP:20260420T031934
CREATED:20221128T183416Z
LAST-MODIFIED:20250701T165641Z
UID:10017010-1788778800-1788786000@nepenthehoa.com
SUMMARY:Mahjong Group (Clubhouse)
DESCRIPTION:  \nPlease login to view this page. \n \n\n\n \n\nSign in to Your Account\n\nfacevisibility\n\n\n\n\n\n    Lost your password?
URL:https://nepenthehoa.com/event/mahjongg-group-clubhouse/2026-09-07/
LOCATION:Nepenthe Clubhouse\, 1131 Commons Drive\, Sacramento\, 95825\, United States
GEO:38.5660202;-121.4105373
X-APPLE-STRUCTURED-LOCATION;VALUE=URI;X-ADDRESS=Nepenthe Clubhouse 1131 Commons Drive Sacramento 95825 United States;X-APPLE-RADIUS=500;X-TITLE=1131 Commons Drive:geo:-121.4105373,38.5660202
END:VEVENT
BEGIN:VEVENT
DTSTART;TZID=UTC:20260907T120000
DTEND;TZID=UTC:20260907T153000
DTSTAMP:20260420T031934
CREATED:20231103T192108Z
LAST-MODIFIED:20250723T182105Z
UID:10017228-1788782400-1788795000@nepenthehoa.com
SUMMARY:Canasta Group (Library)
DESCRIPTION:  \nPlease login to view this page. \n \n\n\n \n\nSign in to Your Account\n\nfacevisibility\n\n\n\n\n\n    Lost your password?
URL:https://nepenthehoa.com/event/canasta-library/2026-09-07/
LOCATION:Nepenthe Clubhouse\, 1131 Commons Drive\, Sacramento\, 95825\, United States
GEO:38.5660202;-121.4105373
X-APPLE-STRUCTURED-LOCATION;VALUE=URI;X-ADDRESS=Nepenthe Clubhouse 1131 Commons Drive Sacramento 95825 United States;X-APPLE-RADIUS=500;X-TITLE=1131 Commons Drive:geo:-121.4105373,38.5660202
END:VEVENT
BEGIN:VEVENT
DTSTART;TZID=UTC:20260908T123000
DTEND;TZID=UTC:20260908T153000
DTSTAMP:20260420T031934
CREATED:20231103T193146Z
LAST-MODIFIED:20260121T230942Z
UID:10018220-1788870600-1788881400@nepenthehoa.com
SUMMARY:Mahjong Group (Library)
DESCRIPTION:  \nPlease login to view this page. \n \n\n\n \n\nSign in to Your Account\n\nfacevisibility\n\n\n\n\n\n    Lost your password?
URL:https://nepenthehoa.com/event/mahjong-group/2026-09-08/
LOCATION:Nepenthe Clubhouse\, 1131 Commons Drive\, Sacramento\, 95825\, United States
GEO:38.5660202;-121.4105373
X-APPLE-STRUCTURED-LOCATION;VALUE=URI;X-ADDRESS=Nepenthe Clubhouse 1131 Commons Drive Sacramento 95825 United States;X-APPLE-RADIUS=500;X-TITLE=1131 Commons Drive:geo:-121.4105373,38.5660202
END:VEVENT
BEGIN:VEVENT
DTSTART;TZID=UTC:20260909T100000
DTEND;TZID=UTC:20260909T143000
DTSTAMP:20260420T031934
CREATED:20231108T231058Z
LAST-MODIFIED:20250723T182146Z
UID:10017445-1788948000-1788964200@nepenthehoa.com
SUMMARY:Bridge Group (Library)
DESCRIPTION:  \nPlease login to view this page. \n \n\n\n \n\nSign in to Your Account\n\nfacevisibility\n\n\n\n\n\n    Lost your password?
URL:https://nepenthehoa.com/event/bridge-library-2/2026-09-09/
LOCATION:Nepenthe Clubhouse\, 1131 Commons Drive\, Sacramento\, 95825\, United States
GEO:38.5660202;-121.4105373
X-APPLE-STRUCTURED-LOCATION;VALUE=URI;X-ADDRESS=Nepenthe Clubhouse 1131 Commons Drive Sacramento 95825 United States;X-APPLE-RADIUS=500;X-TITLE=1131 Commons Drive:geo:-121.4105373,38.5660202
END:VEVENT
BEGIN:VEVENT
DTSTART;TZID=UTC:20260909T143000
DTEND;TZID=UTC:20260909T163000
DTSTAMP:20260420T031934
CREATED:20211118T190005Z
LAST-MODIFIED:20260121T231120Z
UID:10018475-1788964200-1788971400@nepenthehoa.com
SUMMARY:Alley Cats (Library)
DESCRIPTION:  \nPlease login to view this page. \n \n\n\n \n\nSign in to Your Account\n\nfacevisibility\n\n\n\n\n\n    Lost your password?
URL:https://nepenthehoa.com/event/alley-cats-group-library/2026-09-09/
LOCATION:Nepenthe Clubhouse\, 1131 Commons Drive\, Sacramento\, 95825\, United States
GEO:38.5660202;-121.4105373
X-APPLE-STRUCTURED-LOCATION;VALUE=URI;X-ADDRESS=Nepenthe Clubhouse 1131 Commons Drive Sacramento 95825 United States;X-APPLE-RADIUS=500;X-TITLE=1131 Commons Drive:geo:-121.4105373,38.5660202
END:VEVENT
BEGIN:VEVENT
DTSTART;TZID=UTC:20260909T160000
DTEND;TZID=UTC:20260909T180000
DTSTAMP:20260420T031935
CREATED:20250409T174619Z
LAST-MODIFIED:20250409T174620Z
UID:10016457-1788969600-1788976800@nepenthehoa.com
SUMMARY:Outreach Committee Meeting (Clubhouse)
DESCRIPTION:  \nPlease login to view this page. \n \n\n\n \n\nSign in to Your Account\n\nfacevisibility\n\n\n\n\n\n    Lost your password?
URL:https://nepenthehoa.com/event/outreach-committee-meeting-clubhouse-2/2026-09-09/
LOCATION:Nepenthe Clubhouse\, 1131 Commons Drive\, Sacramento\, 95825\, United States
GEO:38.5660202;-121.4105373
X-APPLE-STRUCTURED-LOCATION;VALUE=URI;X-ADDRESS=Nepenthe Clubhouse 1131 Commons Drive Sacramento 95825 United States;X-APPLE-RADIUS=500;X-TITLE=1131 Commons Drive:geo:-121.4105373,38.5660202
END:VEVENT
BEGIN:VEVENT
DTSTART;TZID=UTC:20260909T173000
DTEND;TZID=UTC:20260909T183000
DTSTAMP:20260420T031935
CREATED:20250610T190152Z
LAST-MODIFIED:20250610T190152Z
UID:10016699-1788975000-1788978600@nepenthehoa.com
SUMMARY:Insurance\, Legal & Safety Committee Meeting
DESCRIPTION:  \nPlease login to view this page. \n \n\n\n \n\nSign in to Your Account\n\nfacevisibility\n\n\n\n\n\n    Lost your password?
URL:https://nepenthehoa.com/event/insurance-legal-safety-committee-meeting-2-2/2026-09-09/
LOCATION:Nepenthe Clubhouse\, 1131 Commons Drive\, Sacramento\, 95825\, United States
GEO:38.5660202;-121.4105373
X-APPLE-STRUCTURED-LOCATION;VALUE=URI;X-ADDRESS=Nepenthe Clubhouse 1131 Commons Drive Sacramento 95825 United States;X-APPLE-RADIUS=500;X-TITLE=1131 Commons Drive:geo:-121.4105373,38.5660202
END:VEVENT
BEGIN:VEVENT
DTSTART;TZID=UTC:20260910T133000
DTEND;TZID=UTC:20260910T163000
DTSTAMP:20260420T031935
CREATED:20250401T212620Z
LAST-MODIFIED:20250401T212620Z
UID:10016171-1789047000-1789057800@nepenthehoa.com
SUMMARY:Greetings Cards for Seniors (Library)
DESCRIPTION:  \nPlease login to view this page. \n \n\n\n \n\nSign in to Your Account\n\nfacevisibility\n\n\n\n\n\n    Lost your password?
URL:https://nepenthehoa.com/event/greetings-cards-for-seniors-library/2026-09-10/
LOCATION:Nepenthe Clubhouse\, 1131 Commons Drive\, Sacramento\, 95825\, United States
GEO:38.5660202;-121.4105373
X-APPLE-STRUCTURED-LOCATION;VALUE=URI;X-ADDRESS=Nepenthe Clubhouse 1131 Commons Drive Sacramento 95825 United States;X-APPLE-RADIUS=500;X-TITLE=1131 Commons Drive:geo:-121.4105373,38.5660202
END:VEVENT
BEGIN:VEVENT
DTSTART;TZID=UTC:20260912T100000
DTEND;TZID=UTC:20260912T120000
DTSTAMP:20260420T031935
CREATED:20231103T190029Z
LAST-MODIFIED:20260121T230849Z
UID:10017978-1789207200-1789214400@nepenthehoa.com
SUMMARY:Coffee Group (Clubhouse)
DESCRIPTION:  \nPlease login to view this page. \n \n\n\n \n\nSign in to Your Account\n\nfacevisibility\n\n\n\n\n\n    Lost your password?
URL:https://nepenthehoa.com/event/coffee-group-clubhouse/2026-09-12/
LOCATION:Nepenthe Clubhouse\, 1131 Commons Drive\, Sacramento\, 95825\, United States
GEO:38.5660202;-121.4105373
X-APPLE-STRUCTURED-LOCATION;VALUE=URI;X-ADDRESS=Nepenthe Clubhouse 1131 Commons Drive Sacramento 95825 United States;X-APPLE-RADIUS=500;X-TITLE=1131 Commons Drive:geo:-121.4105373,38.5660202
END:VEVENT
BEGIN:VEVENT
DTSTART;TZID=UTC:20260913T170000
DTEND;TZID=UTC:20260913T220000
DTSTAMP:20260420T031935
CREATED:20260128T170514Z
LAST-MODIFIED:20260128T170514Z
UID:10018777-1789318800-1789336800@nepenthehoa.com
SUMMARY:Music by the Pool (Clubhouse Pool)
DESCRIPTION:  \nPlease login to view this page. \n \n\n\n \n\nSign in to Your Account\n\nfacevisibility\n\n\n\n\n\n    Lost your password?
URL:https://nepenthehoa.com/event/music-by-the-pool-clubhouse-pool-2/
LOCATION:Nepenthe Clubhouse\, 1131 Commons Drive\, Sacramento\, 95825\, United States
GEO:38.5660202;-121.4105373
X-APPLE-STRUCTURED-LOCATION;VALUE=URI;X-ADDRESS=Nepenthe Clubhouse 1131 Commons Drive Sacramento 95825 United States;X-APPLE-RADIUS=500;X-TITLE=1131 Commons Drive:geo:-121.4105373,38.5660202
END:VEVENT
BEGIN:VEVENT
DTSTART;TZID=UTC:20260914T110000
DTEND;TZID=UTC:20260914T130000
DTSTAMP:20260420T031935
CREATED:20221128T183416Z
LAST-MODIFIED:20250701T165641Z
UID:10017011-1789383600-1789390800@nepenthehoa.com
SUMMARY:Mahjong Group (Clubhouse)
DESCRIPTION:  \nPlease login to view this page. \n \n\n\n \n\nSign in to Your Account\n\nfacevisibility\n\n\n\n\n\n    Lost your password?
URL:https://nepenthehoa.com/event/mahjongg-group-clubhouse/2026-09-14/
LOCATION:Nepenthe Clubhouse\, 1131 Commons Drive\, Sacramento\, 95825\, United States
GEO:38.5660202;-121.4105373
X-APPLE-STRUCTURED-LOCATION;VALUE=URI;X-ADDRESS=Nepenthe Clubhouse 1131 Commons Drive Sacramento 95825 United States;X-APPLE-RADIUS=500;X-TITLE=1131 Commons Drive:geo:-121.4105373,38.5660202
END:VEVENT
BEGIN:VEVENT
DTSTART;TZID=UTC:20260914T120000
DTEND;TZID=UTC:20260914T153000
DTSTAMP:20260420T031935
CREATED:20231103T192108Z
LAST-MODIFIED:20250723T182105Z
UID:10017229-1789387200-1789399800@nepenthehoa.com
SUMMARY:Canasta Group (Library)
DESCRIPTION:  \nPlease login to view this page. \n \n\n\n \n\nSign in to Your Account\n\nfacevisibility\n\n\n\n\n\n    Lost your password?
URL:https://nepenthehoa.com/event/canasta-library/2026-09-14/
LOCATION:Nepenthe Clubhouse\, 1131 Commons Drive\, Sacramento\, 95825\, United States
GEO:38.5660202;-121.4105373
X-APPLE-STRUCTURED-LOCATION;VALUE=URI;X-ADDRESS=Nepenthe Clubhouse 1131 Commons Drive Sacramento 95825 United States;X-APPLE-RADIUS=500;X-TITLE=1131 Commons Drive:geo:-121.4105373,38.5660202
END:VEVENT
BEGIN:VEVENT
DTSTART;TZID=UTC:20260914T153000
DTEND;TZID=UTC:20260914T170000
DTSTAMP:20260420T031935
CREATED:20231103T193540Z
LAST-MODIFIED:20260121T231256Z
UID:10018716-1789399800-1789405200@nepenthehoa.com
SUMMARY:Book Club (Library)
DESCRIPTION:  \nPlease login to view this page. \n \n\n\n \n\nSign in to Your Account\n\nfacevisibility\n\n\n\n\n\n    Lost your password?
URL:https://nepenthehoa.com/event/book-club-library-2/2026-09-14/
LOCATION:Nepenthe Clubhouse\, 1131 Commons Drive\, Sacramento\, 95825\, United States
GEO:38.5660202;-121.4105373
X-APPLE-STRUCTURED-LOCATION;VALUE=URI;X-ADDRESS=Nepenthe Clubhouse 1131 Commons Drive Sacramento 95825 United States;X-APPLE-RADIUS=500;X-TITLE=1131 Commons Drive:geo:-121.4105373,38.5660202
END:VEVENT
BEGIN:VEVENT
DTSTART;TZID=UTC:20260915T090000
DTEND;TZID=UTC:20260915T150000
DTSTAMP:20260420T031935
CREATED:20250129T175733Z
LAST-MODIFIED:20250129T175733Z
UID:10015528-1789462800-1789484400@nepenthehoa.com
SUMMARY:Bridge Group (Clubhouse)
DESCRIPTION:  \nPlease login to view this page. \n \n\n\n \n\nSign in to Your Account\n\nfacevisibility\n\n\n\n\n\n    Lost your password?
URL:https://nepenthehoa.com/event/bridge-group-clubhouse-2/2026-09-15/
LOCATION:Nepenthe Clubhouse\, 1131 Commons Drive\, Sacramento\, 95825\, United States
GEO:38.5660202;-121.4105373
X-APPLE-STRUCTURED-LOCATION;VALUE=URI;X-ADDRESS=Nepenthe Clubhouse 1131 Commons Drive Sacramento 95825 United States;X-APPLE-RADIUS=500;X-TITLE=1131 Commons Drive:geo:-121.4105373,38.5660202
END:VEVENT
END:VCALENDAR